| Back to Multiple platform build/check report for BioC 3.11 |
|
This page was generated on 2020-10-17 11:57:24 -0400 (Sat, 17 Oct 2020).
| TO THE DEVELOPERS/MAINTAINERS OF THE phyloseq PACKAGE: Please make sure to use the following settings in order to reproduce any error or warning you see on this page. |
| Package 1309/1905 | Hostname | OS / Arch | INSTALL | BUILD | CHECK | BUILD BIN | ||||||
| phyloseq 1.32.0 Paul J. McMurdie
| malbec2 | Linux (Ubuntu 18.04.4 LTS) / x86_64 | OK | OK | OK | |||||||
| tokay2 | Windows Server 2012 R2 Standard / x64 | OK | OK | WARNINGS | [ OK ] | |||||||
| machv2 | macOS 10.14.6 Mojave / x86_64 | OK | OK | OK | OK |
| Package: phyloseq |
| Version: 1.32.0 |
| Command: rm -rf phyloseq.buildbin-libdir && mkdir phyloseq.buildbin-libdir && C:\Users\biocbuild\bbs-3.11-bioc\R\bin\R.exe CMD INSTALL --merge-multiarch --build --library=phyloseq.buildbin-libdir phyloseq_1.32.0.tar.gz |
| StartedAt: 2020-10-17 11:16:13 -0400 (Sat, 17 Oct 2020) |
| EndedAt: 2020-10-17 11:17:22 -0400 (Sat, 17 Oct 2020) |
| EllapsedTime: 68.7 seconds |
| RetCode: 0 |
| Status: OK |
| PackageFile: phyloseq_1.32.0.zip |
| PackageFileSize: 4.448 MiB |
##############################################################################
##############################################################################
###
### Running command:
###
### rm -rf phyloseq.buildbin-libdir && mkdir phyloseq.buildbin-libdir && C:\Users\biocbuild\bbs-3.11-bioc\R\bin\R.exe CMD INSTALL --merge-multiarch --build --library=phyloseq.buildbin-libdir phyloseq_1.32.0.tar.gz
###
##############################################################################
##############################################################################
install for i386
* installing *source* package 'phyloseq' ...
** using staged installation
** R
** data
** inst
** byte-compile and prepare package for lazy loading
** help
*** installing help indices
converting help for package 'phyloseq'
finding HTML links ... done
DPCoA html
Rd warning: C:/Users/biocbuild/bbs-3.11-bioc/tmpdir/RtmpMncLvs/R.INSTALL30bc7192376e/phyloseq/man/DPCoA.Rd:46: file link 'phylo' in package 'ape' does not exist and so has been treated as a topic
Rd warning: C:/Users/biocbuild/bbs-3.11-bioc/tmpdir/RtmpMncLvs/R.INSTALL30bc7192376e/phyloseq/man/DPCoA.Rd:13: file link 'phylo' in package 'ape' does not exist and so has been treated as a topic
JSD html
UniFrac-methods html
finding level-2 HTML links ... done
access html
assign-otu_table html
assign-phy_tree html
assign-sample_data html
assign-sample_names html
assign-tax_table html
assign-taxa_are_rows html
assign-taxa_names html
build_tax_table html
capscale-phyloseq-methods html
Rd warning: C:/Users/biocbuild/bbs-3.11-bioc/tmpdir/RtmpMncLvs/R.INSTALL30bc7192376e/phyloseq/man/capscale-phyloseq-methods.Rd:36: file link 'rda' in package 'vegan' does not exist and so has been treated as a topic
Rd warning: C:/Users/biocbuild/bbs-3.11-bioc/tmpdir/RtmpMncLvs/R.INSTALL30bc7192376e/phyloseq/man/capscale-phyloseq-methods.Rd:40: file link 'rda' in package 'vegan' does not exist and so has been treated as a topic
Rd warning: C:/Users/biocbuild/bbs-3.11-bioc/tmpdir/RtmpMncLvs/R.INSTALL30bc7192376e/phyloseq/man/capscale-phyloseq-methods.Rd:65: file link 'rda' in package 'vegan' does not exist and so has been treated as a topic
cca-rda-phyloseq-methods html
Rd warning: C:/Users/biocbuild/bbs-3.11-bioc/tmpdir/RtmpMncLvs/R.INSTALL30bc7192376e/phyloseq/man/cca-rda-phyloseq-methods.Rd:47: file link 'rda' in package 'vegan' does not exist and so has been treated as a topic
Rd warning: C:/Users/biocbuild/bbs-3.11-bioc/tmpdir/RtmpMncLvs/R.INSTALL30bc7192376e/phyloseq/man/cca-rda-phyloseq-methods.Rd:48: file link 'capscale.phyloseq' in package 'phyloseq' does not exist and so has been treated as a topic
Rd warning: C:/Users/biocbuild/bbs-3.11-bioc/tmpdir/RtmpMncLvs/R.INSTALL30bc7192376e/phyloseq/man/cca-rda-phyloseq-methods.Rd:42: file link 'rda' in package 'vegan' does not exist and so has been treated as a topic
Rd warning: C:/Users/biocbuild/bbs-3.11-bioc/tmpdir/RtmpMncLvs/R.INSTALL30bc7192376e/phyloseq/man/cca-rda-phyloseq-methods.Rd:57: file link 'rda' in package 'vegan' does not exist and so has been treated as a topic
chunkReOrder html
data-GlobalPatterns html
data-enterotype html
data-esophagus html
data-soilrep html
decorana html
dist-class html
distance html
Rd warning: C:/Users/biocbuild/bbs-3.11-bioc/tmpdir/RtmpMncLvs/R.INSTALL30bc7192376e/phyloseq/man/distance.Rd:46: file link 'UniFrac' in package 'phyloseq' does not exist and so has been treated as a topic
Rd warning: C:/Users/biocbuild/bbs-3.11-bioc/tmpdir/RtmpMncLvs/R.INSTALL30bc7192376e/phyloseq/man/distance.Rd:47: file link 'UniFrac' in package 'phyloseq' does not exist and so has been treated as a topic
distanceMethodList html
Rd warning: C:/Users/biocbuild/bbs-3.11-bioc/tmpdir/RtmpMncLvs/R.INSTALL30bc7192376e/phyloseq/man/distanceMethodList.Rd:14: file link 'UniFrac' in package 'phyloseq' does not exist and so has been treated as a topic
Rd warning: C:/Users/biocbuild/bbs-3.11-bioc/tmpdir/RtmpMncLvs/R.INSTALL30bc7192376e/phyloseq/man/distanceMethodList.Rd:15: file link 'UniFrac' in package 'phyloseq' does not exist and so has been treated as a topic
envHash2otu_table html
estimate_richness html
Rd warning: C:/Users/biocbuild/bbs-3.11-bioc/tmpdir/RtmpMncLvs/R.INSTALL30bc7192376e/phyloseq/man/estimate_richness.Rd:58: file link 'estimateR' in package 'vegan' does not exist and so has been treated as a topic
export_env_file html
export_mothur_dist html
extract-methods html
filter_taxa html
filterfun_sample html
fix_phylo html
gapstat_ord html
genefilter_sample-methods html
Rd warning: C:/Users/biocbuild/bbs-3.11-bioc/tmpdir/RtmpMncLvs/R.INSTALL30bc7192376e/phyloseq/man/genefilter_sample-methods.Rd:49: file link 't' in package 'phyloseq' does not exist and so has been treated as a topic
Rd warning: C:/Users/biocbuild/bbs-3.11-bioc/tmpdir/RtmpMncLvs/R.INSTALL30bc7192376e/phyloseq/man/genefilter_sample-methods.Rd:66: file link 't' in package 'phyloseq' does not exist and so has been treated as a topic
get.component.classes html
get_sample-methods html
get_taxa-methods html
get_taxa_unique html
get_variable html
getslots.phyloseq html
import html
import_RDP_cluster html
import_RDP_otu html
import_biom html
Rd warning: C:/Users/biocbuild/bbs-3.11-bioc/tmpdir/RtmpMncLvs/R.INSTALL30bc7192376e/phyloseq/man/import_biom.Rd:43: file link 'phylo' in package 'ape' does not exist and so has been treated as a topic
Rd warning: C:/Users/biocbuild/bbs-3.11-bioc/tmpdir/RtmpMncLvs/R.INSTALL30bc7192376e/phyloseq/man/import_biom.Rd:51: file link 'XStringSet' in package 'Biostrings' does not exist and so has been treated as a topic
Rd warning: C:/Users/biocbuild/bbs-3.11-bioc/tmpdir/RtmpMncLvs/R.INSTALL30bc7192376e/phyloseq/man/import_biom.Rd:60: file link 'XStringSet' in package 'Biostrings' does not exist and so has been treated as a topic
Rd warning: C:/Users/biocbuild/bbs-3.11-bioc/tmpdir/RtmpMncLvs/R.INSTALL30bc7192376e/phyloseq/man/import_biom.Rd:67: file link 'readDNAStringSet' in package 'Biostrings' does not exist and so has been treated as a topic
Rd warning: C:/Users/biocbuild/bbs-3.11-bioc/tmpdir/RtmpMncLvs/R.INSTALL30bc7192376e/phyloseq/man/import_biom.Rd:74: file link 'XStringSet' in package 'Biostrings' does not exist and so has been treated as a topic
Rd warning: C:/Users/biocbuild/bbs-3.11-bioc/tmpdir/RtmpMncLvs/R.INSTALL30bc7192376e/phyloseq/man/import_biom.Rd:163: file link 'biom_data' in package 'biomformat' does not exist and so has been treated as a topic
Rd warning: C:/Users/biocbuild/bbs-3.11-bioc/tmpdir/RtmpMncLvs/R.INSTALL30bc7192376e/phyloseq/man/import_biom.Rd:165: file link 'sample_metadata' in package 'biomformat' does not exist and so has been treated as a topic
Rd warning: C:/Users/biocbuild/bbs-3.11-bioc/tmpdir/RtmpMncLvs/R.INSTALL30bc7192376e/phyloseq/man/import_biom.Rd:167: file link 'observation_metadata' in package 'biomformat' does not exist and so has been treated as a topic
import_env_file html
import_mothur html
Rd warning: C:/Users/biocbuild/bbs-3.11-bioc/tmpdir/RtmpMncLvs/R.INSTALL30bc7192376e/phyloseq/man/import_mothur.Rd:76: file link 'phylo' in package 'ape' does not exist and so has been treated as a topic
import_mothur_constaxonomy html
import_mothur_dist html
import_mothur_groups html
import_mothur_otu_table html
import_mothur_otulist html
import_mothur_shared html
import_pyrotagger_tab html
import_qiime html
Rd warning: C:/Users/biocbuild/bbs-3.11-bioc/tmpdir/RtmpMncLvs/R.INSTALL30bc7192376e/phyloseq/man/import_qiime.Rd:42: file link 'phylo' in package 'ape' does not exist and so has been treated as a topic
Rd warning: C:/Users/biocbuild/bbs-3.11-bioc/tmpdir/RtmpMncLvs/R.INSTALL30bc7192376e/phyloseq/man/import_qiime.Rd:50: file link 'XStringSet' in package 'Biostrings' does not exist and so has been treated as a topic
Rd warning: C:/Users/biocbuild/bbs-3.11-bioc/tmpdir/RtmpMncLvs/R.INSTALL30bc7192376e/phyloseq/man/import_qiime.Rd:59: file link 'XStringSet' in package 'Biostrings' does not exist and so has been treated as a topic
Rd warning: C:/Users/biocbuild/bbs-3.11-bioc/tmpdir/RtmpMncLvs/R.INSTALL30bc7192376e/phyloseq/man/import_qiime.Rd:66: file link 'readDNAStringSet' in package 'Biostrings' does not exist and so has been treated as a topic
Rd warning: C:/Users/biocbuild/bbs-3.11-bioc/tmpdir/RtmpMncLvs/R.INSTALL30bc7192376e/phyloseq/man/import_qiime.Rd:73: file link 'XStringSet' in package 'Biostrings' does not exist and so has been treated as a topic
import_qiime_otu_tax html
import_qiime_sample_data html
import_uparse html
import_usearch_uc html
index_reorder html
intersect_taxa html
make_network html
merge_phyloseq html
merge_phyloseq_pair-methods html
merge_samples-methods html
Rd warning: C:/Users/biocbuild/bbs-3.11-bioc/tmpdir/RtmpMncLvs/R.INSTALL30bc7192376e/phyloseq/man/merge_samples-methods.Rd:45: file link 'phylo' in package 'ape' does not exist and so has been treated as a topic
merge_taxa-methods html
Rd warning: C:/Users/biocbuild/bbs-3.11-bioc/tmpdir/RtmpMncLvs/R.INSTALL30bc7192376e/phyloseq/man/merge_taxa-methods.Rd:33: file link 'phylo' in package 'ape' does not exist and so has been treated as a topic
metaMDS html
microbio_me_qiime html
mt-methods html
Rd warning: C:/Users/biocbuild/bbs-3.11-bioc/tmpdir/RtmpMncLvs/R.INSTALL30bc7192376e/phyloseq/man/mt-methods.Rd:50: file link 'mt.minP' in package 'multtest' does not exist and so has been treated as a topic
Rd warning: C:/Users/biocbuild/bbs-3.11-bioc/tmpdir/RtmpMncLvs/R.INSTALL30bc7192376e/phyloseq/man/mt-methods.Rd:54: file link 'mt.minP' in package 'multtest' does not exist and so has been treated as a topic
Rd warning: C:/Users/biocbuild/bbs-3.11-bioc/tmpdir/RtmpMncLvs/R.INSTALL30bc7192376e/phyloseq/man/mt-methods.Rd:57: file link 'p.adjust.methods' in package 'stats' does not exist and so has been treated as a topic
Rd warning: C:/Users/biocbuild/bbs-3.11-bioc/tmpdir/RtmpMncLvs/R.INSTALL30bc7192376e/phyloseq/man/mt-methods.Rd:63: file link 'mt.minP' in package 'multtest' does not exist and so has been treated as a topic
Rd warning: C:/Users/biocbuild/bbs-3.11-bioc/tmpdir/RtmpMncLvs/R.INSTALL30bc7192376e/phyloseq/man/mt-methods.Rd:67: file link 'mt.minP' in package 'multtest' does not exist and so has been treated as a topic
Rd warning: C:/Users/biocbuild/bbs-3.11-bioc/tmpdir/RtmpMncLvs/R.INSTALL30bc7192376e/phyloseq/man/mt-methods.Rd:89: file link 'mt.minP' in package 'multtest' does not exist and so has been treated as a topic
nodeplotblank html
nodeplotboot html
nodeplotdefault html
nsamples-methods html
ntaxa-methods html
Rd warning: C:/Users/biocbuild/bbs-3.11-bioc/tmpdir/RtmpMncLvs/R.INSTALL30bc7192376e/phyloseq/man/ntaxa-methods.Rd:31: file link 'phylo' in package 'ape' does not exist and so has been treated as a topic
ordinate html
Rd warning: C:/Users/biocbuild/bbs-3.11-bioc/tmpdir/RtmpMncLvs/R.INSTALL30bc7192376e/phyloseq/man/ordinate.Rd:36: file link 'rda' in package 'vegan' does not exist and so has been treated as a topic
Rd warning: C:/Users/biocbuild/bbs-3.11-bioc/tmpdir/RtmpMncLvs/R.INSTALL30bc7192376e/phyloseq/man/ordinate.Rd:39: file link 'capscale.phyloseq' in package 'phyloseq' does not exist and so has been treated as a topic
otu_table-class html
otu_table-methods html
parseTaxonomy-functions html
pcoa html
phy_tree-methods html
Rd warning: C:/Users/biocbuild/bbs-3.11-bioc/tmpdir/RtmpMncLvs/R.INSTALL30bc7192376e/phyloseq/man/phy_tree-methods.Rd:8: file link 'phylo' in package 'ape' does not exist and so has been treated as a topic
Rd warning: C:/Users/biocbuild/bbs-3.11-bioc/tmpdir/RtmpMncLvs/R.INSTALL30bc7192376e/phyloseq/man/phy_tree-methods.Rd:33: file link 'phylo' in package 'ape' does not exist and so has been treated as a topic
Rd warning: C:/Users/biocbuild/bbs-3.11-bioc/tmpdir/RtmpMncLvs/R.INSTALL30bc7192376e/phyloseq/man/phy_tree-methods.Rd:25: file link 'phylo' in package 'ape' does not exist and so has been treated as a topic
phylo-class html
Rd warning: C:/Users/biocbuild/bbs-3.11-bioc/tmpdir/RtmpMncLvs/R.INSTALL30bc7192376e/phyloseq/man/phylo-class.Rd:7: file link 'ape' in package 'ape' does not exist and so has been treated as a topic
Rd warning: C:/Users/biocbuild/bbs-3.11-bioc/tmpdir/RtmpMncLvs/R.INSTALL30bc7192376e/phyloseq/man/phylo-class.Rd:12: file link 'phylo' in package 'ape' does not exist and so has been treated as a topic
phylo html
Rd warning: C:/Users/biocbuild/bbs-3.11-bioc/tmpdir/RtmpMncLvs/R.INSTALL30bc7192376e/phyloseq/man/phylo.Rd:12: file link 'phylo' in package 'ape' does not exist and so has been treated as a topic
Rd warning: C:/Users/biocbuild/bbs-3.11-bioc/tmpdir/RtmpMncLvs/R.INSTALL30bc7192376e/phyloseq/man/phylo.Rd:33: file link 'phylo' in package 'ape' does not exist and so has been treated as a topic
phyloseq-class html
Rd warning: C:/Users/biocbuild/bbs-3.11-bioc/tmpdir/RtmpMncLvs/R.INSTALL30bc7192376e/phyloseq/man/phyloseq-class.Rd:12: file link 'phylo' in package 'ape' does not exist and so has been treated as a topic
Rd warning: C:/Users/biocbuild/bbs-3.11-bioc/tmpdir/RtmpMncLvs/R.INSTALL30bc7192376e/phyloseq/man/phyloseq-class.Rd:40: file link 'phylo' in package 'ape' does not exist and so has been treated as a topic
phyloseq-deprecated html
phyloseq-package html
phyloseq html
phyloseq_to_deseq2 html
Rd warning: C:/Users/biocbuild/bbs-3.11-bioc/tmpdir/RtmpMncLvs/R.INSTALL30bc7192376e/phyloseq/man/phyloseq_to_deseq2.Rd:26: file link 'DESeqDataSetFromMatrix' in package 'DESeq2' does not exist and so has been treated as a topic
Rd warning: C:/Users/biocbuild/bbs-3.11-bioc/tmpdir/RtmpMncLvs/R.INSTALL30bc7192376e/phyloseq/man/phyloseq_to_deseq2.Rd:60: file link 'DESeqDataSetFromMatrix' in package 'DESeq2' does not exist and so has been treated as a topic
phyloseq_to_metagenomeSeq html
plot_bar html
plot_clusgap html
plot_heatmap html
plot_net html
Rd warning: C:/Users/biocbuild/bbs-3.11-bioc/tmpdir/RtmpMncLvs/R.INSTALL30bc7192376e/phyloseq/man/plot_net.Rd:86: file link 'igraph' in package 'igraph' does not exist and so has been treated as a topic
Rd warning: C:/Users/biocbuild/bbs-3.11-bioc/tmpdir/RtmpMncLvs/R.INSTALL30bc7192376e/phyloseq/man/plot_net.Rd:41: file link 'layout.auto' in package 'igraph' does not exist and so has been treated as a topic
plot_network html
Rd warning: C:/Users/biocbuild/bbs-3.11-bioc/tmpdir/RtmpMncLvs/R.INSTALL30bc7192376e/phyloseq/man/plot_network.Rd:69: file link 'layout.fruchterman.reingold' in package 'igraph' does not exist and so has been treated as a topic
plot_ordination html
Rd warning: C:/Users/biocbuild/bbs-3.11-bioc/tmpdir/RtmpMncLvs/R.INSTALL30bc7192376e/phyloseq/man/plot_ordination.Rd:58: file link 'scale_color_manual' in package 'ggplot2' does not exist and so has been treated as a topic
Rd warning: C:/Users/biocbuild/bbs-3.11-bioc/tmpdir/RtmpMncLvs/R.INSTALL30bc7192376e/phyloseq/man/plot_ordination.Rd:67: file link 'scale_shape_manual' in package 'ggplot2' does not exist and so has been treated as a topic
plot_phyloseq-methods html
plot_richness html
Rd warning: C:/Users/biocbuild/bbs-3.11-bioc/tmpdir/RtmpMncLvs/R.INSTALL30bc7192376e/phyloseq/man/plot_richness.Rd:36: file link 'scale_color_manual' in package 'ggplot2' does not exist and so has been treated as a topic
Rd warning: C:/Users/biocbuild/bbs-3.11-bioc/tmpdir/RtmpMncLvs/R.INSTALL30bc7192376e/phyloseq/man/plot_richness.Rd:48: file link 'scale_shape_manual' in package 'ggplot2' does not exist and so has been treated as a topic
Rd warning: C:/Users/biocbuild/bbs-3.11-bioc/tmpdir/RtmpMncLvs/R.INSTALL30bc7192376e/phyloseq/man/plot_richness.Rd:127: file link 'estimateR' in package 'vegan' does not exist and so has been treated as a topic
plot_scree html
plot_tree html
prune_samples-methods html
prune_taxa-methods html
psmelt html
rank_names html
rarefy_even_depth html
read_tree html
read_tree_greengenes html
reconcile_categories html
refseq-methods html
Rd warning: C:/Users/biocbuild/bbs-3.11-bioc/tmpdir/RtmpMncLvs/R.INSTALL30bc7192376e/phyloseq/man/refseq-methods.Rd:8: file link 'XStringSet' in package 'Biostrings' does not exist and so has been treated as a topic
Rd warning: C:/Users/biocbuild/bbs-3.11-bioc/tmpdir/RtmpMncLvs/R.INSTALL30bc7192376e/phyloseq/man/refseq-methods.Rd:33: file link 'XStringSet' in package 'Biostrings' does not exist and so has been treated as a topic
Rd warning: C:/Users/biocbuild/bbs-3.11-bioc/tmpdir/RtmpMncLvs/R.INSTALL30bc7192376e/phyloseq/man/refseq-methods.Rd:25: file link 'phylo' in package 'ape' does not exist and so has been treated as a topic
rm_outlierf html
sample_data-class html
sample_data-methods html
sample_names-methods html
sample_sums html
sample_variables html
show-methods html
show_mothur_cutoffs html
splat.phyloseq.objects html
subset_ord_plot html
subset_samples-methods html
subset_taxa-methods html
tax_glom html
tax_table-methods html
taxa_are_rows-methods html
taxa_names-methods html
Rd warning: C:/Users/biocbuild/bbs-3.11-bioc/tmpdir/RtmpMncLvs/R.INSTALL30bc7192376e/phyloseq/man/taxa_names-methods.Rd:34: file link 'phylo' in package 'ape' does not exist and so has been treated as a topic
taxa_sums html
taxonomyTable-class html
threshrank html
threshrankfun html
tip_glom html
Rd warning: C:/Users/biocbuild/bbs-3.11-bioc/tmpdir/RtmpMncLvs/R.INSTALL30bc7192376e/phyloseq/man/tip_glom.Rd:12: file link 'phylo' in package 'ape' does not exist and so has been treated as a topic
Rd warning: C:/Users/biocbuild/bbs-3.11-bioc/tmpdir/RtmpMncLvs/R.INSTALL30bc7192376e/phyloseq/man/tip_glom.Rd:68: file link 'phylo' in package 'ape' does not exist and so has been treated as a topic
topf html
topk html
topp html
transformcounts html
transpose-methods html
tree_layout html
** building package indices
** installing vignettes
** testing if installed package can be loaded from temporary location
** testing if installed package can be loaded from final location
** testing if installed package keeps a record of temporary installation path
install for x64
* installing *source* package 'phyloseq' ...
** testing if installed package can be loaded
* MD5 sums
packaged installation of 'phyloseq' as phyloseq_1.32.0.zip
* DONE (phyloseq)