| Back to Multiple platform build/check report for BioC 3.11 |
|
This page was generated on 2020-10-17 11:55:22 -0400 (Sat, 17 Oct 2020).
| TO THE DEVELOPERS/MAINTAINERS OF THE perturbatr PACKAGE: Please make sure to use the following settings in order to reproduce any error or warning you see on this page. |
| Package 1296/1905 | Hostname | OS / Arch | INSTALL | BUILD | CHECK | BUILD BIN | ||||||
| perturbatr 1.8.0 Simon Dirmeier
| malbec2 | Linux (Ubuntu 18.04.4 LTS) / x86_64 | OK | OK | [ OK ] | |||||||
| tokay2 | Windows Server 2012 R2 Standard / x64 | OK | OK | OK | OK | |||||||
| machv2 | macOS 10.14.6 Mojave / x86_64 | OK | OK | OK | OK |
| Package: perturbatr |
| Version: 1.8.0 |
| Command: /home/biocbuild/bbs-3.11-bioc/R/bin/R CMD check --install=check:perturbatr.install-out.txt --library=/home/biocbuild/bbs-3.11-bioc/R/library --no-vignettes --timings perturbatr_1.8.0.tar.gz |
| StartedAt: 2020-10-17 04:02:25 -0400 (Sat, 17 Oct 2020) |
| EndedAt: 2020-10-17 04:11:03 -0400 (Sat, 17 Oct 2020) |
| EllapsedTime: 517.6 seconds |
| RetCode: 0 |
| Status: OK |
| CheckDir: perturbatr.Rcheck |
| Warnings: 0 |
##############################################################################
##############################################################################
###
### Running command:
###
### /home/biocbuild/bbs-3.11-bioc/R/bin/R CMD check --install=check:perturbatr.install-out.txt --library=/home/biocbuild/bbs-3.11-bioc/R/library --no-vignettes --timings perturbatr_1.8.0.tar.gz
###
##############################################################################
##############################################################################
* using log directory ‘/home/biocbuild/bbs-3.11-bioc/meat/perturbatr.Rcheck’
* using R version 4.0.3 (2020-10-10)
* using platform: x86_64-pc-linux-gnu (64-bit)
* using session charset: UTF-8
* using option ‘--no-vignettes’
* checking for file ‘perturbatr/DESCRIPTION’ ... OK
* checking extension type ... Package
* this is package ‘perturbatr’ version ‘1.8.0’
* checking package namespace information ... OK
* checking package dependencies ... OK
* checking if this is a source package ... OK
* checking if there is a namespace ... OK
* checking for hidden files and directories ... OK
* checking for portable file names ... OK
* checking for sufficient/correct file permissions ... OK
* checking whether package ‘perturbatr’ can be installed ... OK
* checking installed package size ... OK
* checking package directory ... OK
* checking ‘build’ directory ... OK
* checking DESCRIPTION meta-information ... OK
* checking top-level files ... OK
* checking for left-over files ... OK
* checking index information ... OK
* checking package subdirectories ... OK
* checking R files for non-ASCII characters ... OK
* checking R files for syntax errors ... OK
* checking whether the package can be loaded ... OK
* checking whether the package can be loaded with stated dependencies ... OK
* checking whether the package can be unloaded cleanly ... OK
* checking whether the namespace can be loaded with stated dependencies ... OK
* checking whether the namespace can be unloaded cleanly ... OK
* checking dependencies in R code ... OK
* checking S3 generic/method consistency ... OK
* checking replacement functions ... OK
* checking foreign function calls ... OK
* checking R code for possible problems ... OK
* checking Rd files ... OK
* checking Rd metadata ... OK
* checking Rd cross-references ... OK
* checking for missing documentation entries ... OK
* checking for code/documentation mismatches ... OK
* checking Rd \usage sections ... OK
* checking Rd contents ... OK
* checking for unstated dependencies in examples ... OK
* checking contents of ‘data’ directory ... OK
* checking data for non-ASCII characters ... OK
* checking data for ASCII and uncompressed saves ... OK
* checking files in ‘vignettes’ ... OK
* checking examples ... OK
Examples with CPU (user + system) or elapsed time > 5s
user system elapsed
bootstrap 185.964 0.06 187.119
* checking for unstated dependencies in ‘tests’ ... OK
* checking tests ...
Running ‘testthat.R’
OK
* checking for unstated dependencies in vignettes ... OK
* checking package vignettes in ‘inst/doc’ ... OK
* checking running R code from vignettes ... SKIPPED
* checking re-building of vignette outputs ... SKIPPED
* checking PDF version of manual ... OK
* DONE
Status: OK
perturbatr.Rcheck/00install.out
############################################################################## ############################################################################## ### ### Running command: ### ### /home/biocbuild/bbs-3.11-bioc/R/bin/R CMD INSTALL perturbatr ### ############################################################################## ############################################################################## * installing to library ‘/home/biocbuild/bbs-3.11-bioc/R/library’ * installing *source* package ‘perturbatr’ ... ** using staged installation ** R ** data *** moving datasets to lazyload DB ** inst ** byte-compile and prepare package for lazy loading ** help *** installing help indices ** building package indices ** installing vignettes ** testing if installed package can be loaded from temporary location ** testing if installed package can be loaded from final location ** testing if installed package keeps a record of temporary installation path * DONE (perturbatr)
perturbatr.Rcheck/tests/testthat.Rout
R version 4.0.3 (2020-10-10) -- "Bunny-Wunnies Freak Out"
Copyright (C) 2020 The R Foundation for Statistical Computing
Platform: x86_64-pc-linux-gnu (64-bit)
R is free software and comes with ABSOLUTELY NO WARRANTY.
You are welcome to redistribute it under certain conditions.
Type 'license()' or 'licence()' for distribution details.
R is a collaborative project with many contributors.
Type 'contributors()' for more information and
'citation()' on how to cite R or R packages in publications.
Type 'demo()' for some demos, 'help()' for on-line help, or
'help.start()' for an HTML browser interface to help.
Type 'q()' to quit R.
> # perturbatr: analysis of high-throughput gene perturbation screens
> #
> # Copyright (C) 2018 Simon Dirmeier
> #
> # This file is part of perturbatr
> #
> # perturbatr is free software: you can redistribute it and/or modify
> # it under the terms of the GNU General Public License as published by
> # the Free Software Foundation, either version 3 of the License, or
> # (at your option) any later version.
> #
> # perturbatr is distributed in the hope that it will be useful,
> # but WITHOUT ANY WARRANTY; without even the implied warranty of
> # MERCHANTABILITY or FITNESS FOR A PARTICULAR PURPOSE. See the
> # GNU General Public License for more details.
> #
> # You should have received a copy of the GNU General Public License
> # along with perturbatr If not, see <http://www.gnu.org/licenses/>.
>
>
> library(testthat)
> library(perturbatr)
Attaching package: 'perturbatr'
The following object is masked from 'package:stats':
filter
>
> test_check("perturbatr")
══ testthat results ═══════════════════════════════════════════════════════════
[ OK: 41 | SKIPPED: 0 | WARNINGS: 5 | FAILED: 0 ]
>
> proc.time()
user system elapsed
198.727 0.457 199.398
perturbatr.Rcheck/perturbatr-Ex.timings
| name | user | system | elapsed | |
| HMAnalysedPerturbationData-class | 3.067 | 0.119 | 3.188 | |
| NetworkAnalysedPerturbationData-class | 3.178 | 0.023 | 3.367 | |
| PerturbationData-class | 0.031 | 0.000 | 0.031 | |
| bootstrap | 185.964 | 0.060 | 187.119 | |
| dataSet-methods | 0.947 | 0.032 | 1.027 | |
| diffuse-methods | 3.108 | 0.032 | 3.140 | |
| filter-methods | 0.626 | 0.024 | 0.649 | |
| geneEffects-methods | 4.086 | 0.004 | 4.091 | |
| graph-methods | 3.462 | 0.028 | 3.491 | |
| hm-methods | 2.468 | 0.032 | 2.500 | |
| inference-methods | 2.843 | 0.020 | 2.990 | |
| isBootstrapped-methods | 3.957 | 0.028 | 3.985 | |
| modelFit-methods | 3.781 | 0.040 | 3.822 | |
| nestedGeneEffects-methods | 3.413 | 0.036 | 3.449 | |
| params-methods | 2.884 | 0.020 | 2.904 | |
| rbind.PerturbationData | 0.630 | 0.024 | 0.655 | |
| rnaiscreen | 3.012 | 0.016 | 3.125 | |