| Back to Multiple platform build/check report for BioC 3.11 | 
 | 
This page was generated on 2020-10-17 11:57:22 -0400 (Sat, 17 Oct 2020).
| TO THE DEVELOPERS/MAINTAINERS OF THE pepStat PACKAGE: Please make sure to use the following settings in order to reproduce any error or warning you see on this page. | 
| Package 1293/1905 | Hostname | OS / Arch | INSTALL | BUILD | CHECK | BUILD BIN | ||||||
| pepStat 1.22.0 Gregory C Imholte 
 | malbec2 | Linux (Ubuntu 18.04.4 LTS) / x86_64 | OK | OK | OK |  | ||||||
| tokay2 | Windows Server 2012 R2 Standard / x64 | OK | OK | OK | [ OK ] |  | ||||||
| machv2 | macOS 10.14.6 Mojave / x86_64 | OK | OK | OK | OK |  | 
| Package: pepStat | 
| Version: 1.22.0 | 
| Command: rm -rf pepStat.buildbin-libdir && mkdir pepStat.buildbin-libdir && C:\Users\biocbuild\bbs-3.11-bioc\R\bin\R.exe CMD INSTALL --merge-multiarch --build --library=pepStat.buildbin-libdir pepStat_1.22.0.tar.gz | 
| StartedAt: 2020-10-17 11:15:09 -0400 (Sat, 17 Oct 2020) | 
| EndedAt: 2020-10-17 11:15:58 -0400 (Sat, 17 Oct 2020) | 
| EllapsedTime: 48.2 seconds | 
| RetCode: 0 | 
| Status: OK | 
| PackageFile: pepStat_1.22.0.zip | 
| PackageFileSize: 760.6 KiB | 
##############################################################################
##############################################################################
###
### Running command:
###
###   rm -rf pepStat.buildbin-libdir && mkdir pepStat.buildbin-libdir && C:\Users\biocbuild\bbs-3.11-bioc\R\bin\R.exe CMD INSTALL --merge-multiarch --build --library=pepStat.buildbin-libdir pepStat_1.22.0.tar.gz
###
##############################################################################
##############################################################################
install for i386
* installing *source* package 'pepStat' ...
** using staged installation
** R
** inst
** byte-compile and prepare package for lazy loading
No methods found in package 'GenomicRanges' for request: 'mcols<-' when loading 'pepStat'
No methods found in package 'GenomicRanges' for request: 'mcols' when loading 'pepStat'
** help
*** installing help indices
  converting help for package 'pepStat'
    finding HTML links ... done
    baselineCorrect.pSet                    html  
    baseline_correct                        html  
    create_db                               html  
    finding level-2 HTML links ... done
    makeCalls                               html  
    makePeptideSet                          html  
    normalizeArray                          html  
    peptideSet-methods                      html  
    peptideSet                              html  
    plotArray                               html  
    restab                                  html  
    shinyPepStat                            html  
    slidingMean                             html  
    summarizePeptides                       html  
** building package indices
** installing vignettes
** testing if installed package can be loaded from temporary location
No methods found in package 'GenomicRanges' for request: 'mcols<-' when loading 'pepStat'
No methods found in package 'GenomicRanges' for request: 'mcols' when loading 'pepStat'
** testing if installed package can be loaded from final location
No methods found in package 'GenomicRanges' for request: 'mcols<-' when loading 'pepStat'
No methods found in package 'GenomicRanges' for request: 'mcols' when loading 'pepStat'
** testing if installed package keeps a record of temporary installation path
install for x64
* installing *source* package 'pepStat' ...
** testing if installed package can be loaded
No methods found in package 'GenomicRanges' for request: 'mcols<-' when loading 'pepStat'
No methods found in package 'GenomicRanges' for request: 'mcols' when loading 'pepStat'
* MD5 sums
packaged installation of 'pepStat' as pepStat_1.22.0.zip
* DONE (pepStat)