| Back to Multiple platform build/check report for BioC 3.11 |
|
This page was generated on 2020-10-17 11:59:09 -0400 (Sat, 17 Oct 2020).
| TO THE DEVELOPERS/MAINTAINERS OF THE pathVar PACKAGE: Please make sure to use the following settings in order to reproduce any error or warning you see on this page. |
| Package 1275/1905 | Hostname | OS / Arch | INSTALL | BUILD | CHECK | BUILD BIN | ||||||
| pathVar 1.18.0 Samuel Zimmerman
| malbec2 | Linux (Ubuntu 18.04.4 LTS) / x86_64 | OK | OK | OK | |||||||
| tokay2 | Windows Server 2012 R2 Standard / x64 | OK | OK | OK | OK | |||||||
| machv2 | macOS 10.14.6 Mojave / x86_64 | OK | OK | [ OK ] | OK |
| Package: pathVar |
| Version: 1.18.0 |
| Command: /Library/Frameworks/R.framework/Versions/Current/Resources/bin/R CMD check --install=check:pathVar.install-out.txt --library=/Library/Frameworks/R.framework/Versions/Current/Resources/library --no-vignettes --timings pathVar_1.18.0.tar.gz |
| StartedAt: 2020-10-17 03:47:42 -0400 (Sat, 17 Oct 2020) |
| EndedAt: 2020-10-17 03:52:21 -0400 (Sat, 17 Oct 2020) |
| EllapsedTime: 279.1 seconds |
| RetCode: 0 |
| Status: OK |
| CheckDir: pathVar.Rcheck |
| Warnings: 0 |
##############################################################################
##############################################################################
###
### Running command:
###
### /Library/Frameworks/R.framework/Versions/Current/Resources/bin/R CMD check --install=check:pathVar.install-out.txt --library=/Library/Frameworks/R.framework/Versions/Current/Resources/library --no-vignettes --timings pathVar_1.18.0.tar.gz
###
##############################################################################
##############################################################################
* using log directory ‘/Users/biocbuild/bbs-3.11-bioc/meat/pathVar.Rcheck’
* using R version 4.0.3 (2020-10-10)
* using platform: x86_64-apple-darwin17.0 (64-bit)
* using session charset: UTF-8
* using option ‘--no-vignettes’
* checking for file ‘pathVar/DESCRIPTION’ ... OK
* checking extension type ... Package
* this is package ‘pathVar’ version ‘1.18.0’
* checking package namespace information ... OK
* checking package dependencies ... OK
* checking if this is a source package ... OK
* checking if there is a namespace ... OK
* checking for hidden files and directories ... OK
* checking for portable file names ... OK
* checking for sufficient/correct file permissions ... OK
* checking whether package ‘pathVar’ can be installed ... OK
* checking installed package size ... OK
* checking package directory ... OK
* checking ‘build’ directory ... OK
* checking DESCRIPTION meta-information ... OK
* checking top-level files ... OK
* checking for left-over files ... OK
* checking index information ... OK
* checking package subdirectories ... OK
* checking R files for non-ASCII characters ... OK
* checking R files for syntax errors ... OK
* checking whether the package can be loaded ... OK
* checking whether the package can be loaded with stated dependencies ... OK
* checking whether the package can be unloaded cleanly ... OK
* checking whether the namespace can be loaded with stated dependencies ... OK
* checking whether the namespace can be unloaded cleanly ... OK
* checking dependencies in R code ... OK
* checking S3 generic/method consistency ... OK
* checking replacement functions ... OK
* checking foreign function calls ... OK
* checking R code for possible problems ... NOTE
diagnosticsVarPlots: no visible binding for global variable ‘avg’
diagnosticsVarPlots: no visible binding for global variable ‘standDev’
diagnosticsVarPlots: no visible binding for global variable ‘medAbsDev’
diagnosticsVarPlots: no visible binding for global variable ‘cv’
diagnosticsVarPlotsTwoSample: no visible binding for global variable
‘avg’
diagnosticsVarPlotsTwoSample: no visible binding for global variable
‘standDev’
diagnosticsVarPlotsTwoSample: no visible binding for global variable
‘medAbsDev’
diagnosticsVarPlotsTwoSample: no visible binding for global variable
‘cv’
pathVarOneSample: no visible binding for global variable ‘APval’
pathVarOneSample: no visible binding for global variable
‘PercOfGenesInPway’
pathVarTwoSamplesCont: no visible binding for global variable ‘APval’
pathVarTwoSamplesCont: no visible binding for global variable
‘PercOfGenesInPway’
pathVarTwoSamplesDisc: no visible binding for global variable ‘APval’
pathVarTwoSamplesDisc: no visible binding for global variable
‘PercOfGenesInPway’
plotAllTwoSampleDistributionCounts: no visible binding for global
variable ‘Cluster’
plotAllTwoSampleDistributionCounts: no visible binding for global
variable ‘Number_of_genes’
plotOneSample: no visible binding for global variable ‘Cluster’
plotOneSample: no visible binding for global variable ‘Number_of_genes’
plotTwoSamplesCont: no visible binding for global variable ‘PwayName’
plotTwoSamplesCont: no visible binding for global variable
‘NumOfGenesFromDataSetInPathway’
plotTwoSamplesCont: no visible binding for global variable ‘value’
plotTwoSamplesCont: no visible binding for global variable
‘..density..’
plotTwoSamplesCont: no visible binding for global variable ‘group’
plotTwoSamplesDisc: no visible binding for global variable ‘Cluster’
plotTwoSamplesDisc: no visible binding for global variable
‘Number_of_genes’
sigOneSample: no visible binding for global variable ‘APval’
sigOneSample: no visible binding for global variable ‘PwayName’
sigTwoSamplesCont: no visible binding for global variable ‘APval’
sigTwoSamplesCont: no visible binding for global variable ‘PwayName’
sigTwoSamplesDisc: no visible binding for global variable ‘APval’
sigTwoSamplesDisc: no visible binding for global variable ‘PwayName’
Undefined global functions or variables:
..density.. APval Cluster NumOfGenesFromDataSetInPathway
Number_of_genes PercOfGenesInPway PwayName avg cv group medAbsDev
standDev value
* checking Rd files ... OK
* checking Rd metadata ... OK
* checking Rd cross-references ... OK
* checking for missing documentation entries ... OK
* checking for code/documentation mismatches ... OK
* checking Rd \usage sections ... OK
* checking Rd contents ... OK
* checking for unstated dependencies in examples ... OK
* checking contents of ‘data’ directory ... OK
* checking data for non-ASCII characters ... OK
* checking data for ASCII and uncompressed saves ... OK
* checking sizes of PDF files under ‘inst/doc’ ... OK
* checking files in ‘vignettes’ ... OK
* checking examples ... OK
Examples with CPU (user + system) or elapsed time > 5s
user system elapsed
sigPway 103.334 1.819 105.267
diagnosticsVarPlots 51.044 0.728 51.929
diagnosticsVarPlotsTwoSample 30.556 0.394 30.994
plotAllTwoSampleDistributionCounts 5.452 0.782 6.239
saveAsPDF 5.567 0.054 5.850
plotPway 5.253 0.062 5.321
* checking for unstated dependencies in vignettes ... OK
* checking package vignettes in ‘inst/doc’ ... OK
* checking running R code from vignettes ... SKIPPED
* checking re-building of vignette outputs ... SKIPPED
* checking PDF version of manual ... OK
* DONE
Status: 1 NOTE
See
‘/Users/biocbuild/bbs-3.11-bioc/meat/pathVar.Rcheck/00check.log’
for details.
pathVar.Rcheck/00install.out
############################################################################## ############################################################################## ### ### Running command: ### ### /Library/Frameworks/R.framework/Versions/Current/Resources/bin/R CMD INSTALL pathVar ### ############################################################################## ############################################################################## * installing to library ‘/Library/Frameworks/R.framework/Versions/4.0/Resources/library’ * installing *source* package ‘pathVar’ ... ** using staged installation ** R ** data *** moving datasets to lazyload DB ** inst ** byte-compile and prepare package for lazy loading ** help *** installing help indices ** building package indices ** installing vignettes ** testing if installed package can be loaded from temporary location ** testing if installed package can be loaded from final location ** testing if installed package keeps a record of temporary installation path * DONE (pathVar)
pathVar.Rcheck/pathVar-Ex.timings
| name | user | system | elapsed | |
| bock | 0.021 | 0.006 | 0.026 | |
| diagnosticsVarPlots | 51.044 | 0.728 | 51.929 | |
| diagnosticsVarPlotsTwoSample | 30.556 | 0.394 | 30.994 | |
| geneDistributionSet-class | 0.006 | 0.001 | 0.007 | |
| geneDistributionSet2-class | 0.003 | 0.001 | 0.004 | |
| geneDistributionSet3-class | 0.003 | 0.001 | 0.004 | |
| geneSet-class | 0.002 | 0.001 | 0.002 | |
| getGenes | 4.482 | 0.100 | 4.586 | |
| makeDBList | 0.000 | 0.000 | 0.001 | |
| pathVar-package | 4.597 | 0.107 | 4.710 | |
| pathVarOneSample | 2.783 | 0.050 | 2.835 | |
| pathVarTwoSamplesCont | 4.454 | 0.057 | 4.515 | |
| pathVarTwoSamplesDisc | 1.767 | 0.012 | 1.781 | |
| plotAllTwoSampleDistributionCounts | 5.452 | 0.782 | 6.239 | |
| plotPway | 5.253 | 0.062 | 5.321 | |
| pways.kegg | 0.002 | 0.002 | 0.003 | |
| pways.reactome | 0.001 | 0.002 | 0.003 | |
| saveAsPDF | 5.567 | 0.054 | 5.850 | |
| sigPway | 103.334 | 1.819 | 105.267 | |
| significantPathway-class | 0.002 | 0.000 | 0.003 | |
| significantPathway2-class | 0.001 | 0.001 | 0.002 | |
| significantPathway3-class | 0.001 | 0.001 | 0.003 | |