| Back to Multiple platform build/check report for BioC 3.11 | 
 | 
This page was generated on 2020-10-17 11:55:20 -0400 (Sat, 17 Oct 2020).
| TO THE DEVELOPERS/MAINTAINERS OF THE pandaR PACKAGE: Please make sure to use the following settings in order to reproduce any error or warning you see on this page. | 
| Package 1260/1905 | Hostname | OS / Arch | INSTALL | BUILD | CHECK | BUILD BIN | ||||||
| pandaR 1.20.0 Joseph N. Paulson 
 | malbec2 | Linux (Ubuntu 18.04.4 LTS) / x86_64 | OK | [ OK ] | WARNINGS |  | ||||||
| tokay2 | Windows Server 2012 R2 Standard / x64 | OK | OK | WARNINGS | OK |  | ||||||
| machv2 | macOS 10.14.6 Mojave / x86_64 | OK | OK | WARNINGS | OK |  | 
| Package: pandaR | 
| Version: 1.20.0 | 
| Command: /home/biocbuild/bbs-3.11-bioc/R/bin/R CMD build --keep-empty-dirs --no-resave-data pandaR | 
| StartedAt: 2020-10-16 20:49:44 -0400 (Fri, 16 Oct 2020) | 
| EndedAt: 2020-10-16 20:50:26 -0400 (Fri, 16 Oct 2020) | 
| EllapsedTime: 41.9 seconds | 
| RetCode: 0 | 
| Status: OK | 
| PackageFile: pandaR_1.20.0.tar.gz | 
| PackageFileSize: 8.675 MiB | 
############################################################################## ############################################################################## ### ### Running command: ### ### /home/biocbuild/bbs-3.11-bioc/R/bin/R CMD build --keep-empty-dirs --no-resave-data pandaR ### ############################################################################## ############################################################################## * checking for file ‘pandaR/DESCRIPTION’ ... OK * preparing ‘pandaR’: * checking DESCRIPTION meta-information ... OK * installing the package to build vignettes * creating vignettes ... OK * checking for LF line-endings in source and make files and shell scripts * checking for empty or unneeded directories * building ‘pandaR_1.20.0.tar.gz’