| Back to Multiple platform build/check report for BioC 3.11 |
|
This page was generated on 2020-10-17 11:55:19 -0400 (Sat, 17 Oct 2020).
| TO THE DEVELOPERS/MAINTAINERS OF THE optimalFlow PACKAGE: Please make sure to use the following settings in order to reproduce any error or warning you see on this page. |
| Package 1243/1905 | Hostname | OS / Arch | INSTALL | BUILD | CHECK | BUILD BIN | ||||||
| optimalFlow 1.0.1 Hristo Inouzhe
| malbec2 | Linux (Ubuntu 18.04.4 LTS) / x86_64 | OK | OK | [ OK ] | |||||||
| tokay2 | Windows Server 2012 R2 Standard / x64 | OK | OK | OK | OK | |||||||
| machv2 | macOS 10.14.6 Mojave / x86_64 | OK | OK | WARNINGS | OK |
| Package: optimalFlow |
| Version: 1.0.1 |
| Command: /home/biocbuild/bbs-3.11-bioc/R/bin/R CMD check --install=check:optimalFlow.install-out.txt --library=/home/biocbuild/bbs-3.11-bioc/R/library --no-vignettes --timings optimalFlow_1.0.1.tar.gz |
| StartedAt: 2020-10-17 03:51:10 -0400 (Sat, 17 Oct 2020) |
| EndedAt: 2020-10-17 03:54:46 -0400 (Sat, 17 Oct 2020) |
| EllapsedTime: 216.2 seconds |
| RetCode: 0 |
| Status: OK |
| CheckDir: optimalFlow.Rcheck |
| Warnings: 0 |
##############################################################################
##############################################################################
###
### Running command:
###
### /home/biocbuild/bbs-3.11-bioc/R/bin/R CMD check --install=check:optimalFlow.install-out.txt --library=/home/biocbuild/bbs-3.11-bioc/R/library --no-vignettes --timings optimalFlow_1.0.1.tar.gz
###
##############################################################################
##############################################################################
* using log directory ‘/home/biocbuild/bbs-3.11-bioc/meat/optimalFlow.Rcheck’
* using R version 4.0.3 (2020-10-10)
* using platform: x86_64-pc-linux-gnu (64-bit)
* using session charset: UTF-8
* using option ‘--no-vignettes’
* checking for file ‘optimalFlow/DESCRIPTION’ ... OK
* checking extension type ... Package
* this is package ‘optimalFlow’ version ‘1.0.1’
* package encoding: UTF-8
* checking package namespace information ... OK
* checking package dependencies ... OK
* checking if this is a source package ... OK
* checking if there is a namespace ... OK
* checking for hidden files and directories ... OK
* checking for portable file names ... OK
* checking for sufficient/correct file permissions ... OK
* checking whether package ‘optimalFlow’ can be installed ... OK
* checking installed package size ... OK
* checking package directory ... OK
* checking ‘build’ directory ... OK
* checking DESCRIPTION meta-information ... OK
* checking top-level files ... OK
* checking for left-over files ... OK
* checking index information ... OK
* checking package subdirectories ... OK
* checking R files for non-ASCII characters ... OK
* checking R files for syntax errors ... OK
* checking whether the package can be loaded ... OK
* checking whether the package can be loaded with stated dependencies ... OK
* checking whether the package can be unloaded cleanly ... OK
* checking whether the namespace can be loaded with stated dependencies ... OK
* checking whether the namespace can be unloaded cleanly ... OK
* checking dependencies in R code ... NOTE
There are ::: calls to the package's namespace in its code. A package
almost never needs to use ::: for its own objects:
‘GaussianBarycenters’ ‘distGaussianCov’ ‘distGaussianMean’
‘wassersteinKBarycenter’
* checking S3 generic/method consistency ... OK
* checking replacement functions ... OK
* checking foreign function calls ... OK
* checking R code for possible problems ... NOTE
voteLabelTransfer: no visible binding for global variable ‘cell’
voteLabelTransfer: no visible binding for global variable
‘compound.proportion’
voteLabelTransfer: no visible binding for global variable
‘vote.proportion’
voteTransformation : <anonymous>: no visible binding for global
variable ‘cell’
voteTransformation : <anonymous>: no visible binding for global
variable ‘simple.proportion’
voteTransformation : <anonymous>: no visible binding for global
variable ‘compound.proportion’
Undefined global functions or variables:
cell compound.proportion simple.proportion vote.proportion
* checking Rd files ... OK
* checking Rd metadata ... OK
* checking Rd cross-references ... OK
* checking for missing documentation entries ... OK
* checking for code/documentation mismatches ... OK
* checking Rd \usage sections ... OK
* checking Rd contents ... OK
* checking for unstated dependencies in examples ... OK
* checking files in ‘vignettes’ ... OK
* checking examples ... OK
Examples with CPU (user + system) or elapsed time > 5s
user system elapsed
optimalFlowClassification 8.774 0.725 16.534
f1ScoreVoting 7.484 0.724 15.253
cytoPlot 6.642 0.562 15.555
cytoPlotDatabase 4.914 0.553 12.505
cytoPlot3d 4.935 0.528 14.423
cytoPlotDatabase3d 4.559 0.485 13.047
optimalFlowTemplates 4.449 0.583 12.705
wasserCostFunction 4.102 0.612 12.557
* checking for unstated dependencies in vignettes ... OK
* checking package vignettes in ‘inst/doc’ ... OK
* checking running R code from vignettes ... SKIPPED
* checking re-building of vignette outputs ... SKIPPED
* checking PDF version of manual ... OK
* DONE
Status: 2 NOTEs
See
‘/home/biocbuild/bbs-3.11-bioc/meat/optimalFlow.Rcheck/00check.log’
for details.
optimalFlow.Rcheck/00install.out
############################################################################## ############################################################################## ### ### Running command: ### ### /home/biocbuild/bbs-3.11-bioc/R/bin/R CMD INSTALL optimalFlow ### ############################################################################## ############################################################################## * installing to library ‘/home/biocbuild/bbs-3.11-bioc/R/library’ * installing *source* package ‘optimalFlow’ ... ** using staged installation ** R ** byte-compile and prepare package for lazy loading ** help *** installing help indices ** building package indices ** installing vignettes ** testing if installed package can be loaded from temporary location ** testing if installed package can be loaded from final location ** testing if installed package keeps a record of temporary installation path * DONE (optimalFlow)
optimalFlow.Rcheck/optimalFlow-Ex.timings
| name | user | system | elapsed | |
| costWasserMatchingEllipse | 0.417 | 0.008 | 0.445 | |
| cytoPlot | 6.642 | 0.562 | 15.555 | |
| cytoPlot3d | 4.935 | 0.528 | 14.423 | |
| cytoPlotDatabase | 4.914 | 0.553 | 12.505 | |
| cytoPlotDatabase3d | 4.559 | 0.485 | 13.047 | |
| estimCovCellGeneral | 0.037 | 0.012 | 0.076 | |
| estimationCellBarycenter | 0.006 | 0.000 | 0.006 | |
| f1Score | 0.563 | 0.060 | 0.622 | |
| f1ScoreVoting | 7.484 | 0.724 | 15.253 | |
| labelTransfer | 0 | 0 | 0 | |
| labelTransferEllipse | 0.01 | 0.00 | 0.01 | |
| optimalFlowClassification | 8.774 | 0.725 | 16.534 | |
| optimalFlowTemplates | 4.449 | 0.583 | 12.705 | |
| qdaClassification | 0.001 | 0.000 | 0.000 | |
| tclustWithInitialization | 2.213 | 0.233 | 2.377 | |
| tclust_H | 2.239 | 0.273 | 2.440 | |
| trimmedKBarycenter | 0.126 | 0.020 | 0.143 | |
| voteLabelTransfer | 0 | 0 | 0 | |
| w2dist | 0.002 | 0.000 | 0.002 | |
| wasserCostFunction | 4.102 | 0.612 | 12.557 | |