| Back to Multiple platform build/check report for BioC 3.11 |
|
This page was generated on 2020-10-17 11:55:18 -0400 (Sat, 17 Oct 2020).
| TO THE DEVELOPERS/MAINTAINERS OF THE ontoProc PACKAGE: Please make sure to use the following settings in order to reproduce any error or warning you see on this page. |
| Package 1235/1905 | Hostname | OS / Arch | INSTALL | BUILD | CHECK | BUILD BIN | ||||||
| ontoProc 1.10.1 VJ Carey
| malbec2 | Linux (Ubuntu 18.04.4 LTS) / x86_64 | OK | OK | [ OK ] | |||||||
| tokay2 | Windows Server 2012 R2 Standard / x64 | OK | OK | OK | OK | |||||||
| machv2 | macOS 10.14.6 Mojave / x86_64 | OK | OK | ERROR | OK |
| Package: ontoProc |
| Version: 1.10.1 |
| Command: /home/biocbuild/bbs-3.11-bioc/R/bin/R CMD check --install=check:ontoProc.install-out.txt --library=/home/biocbuild/bbs-3.11-bioc/R/library --no-vignettes --timings ontoProc_1.10.1.tar.gz |
| StartedAt: 2020-10-17 03:50:36 -0400 (Sat, 17 Oct 2020) |
| EndedAt: 2020-10-17 03:53:53 -0400 (Sat, 17 Oct 2020) |
| EllapsedTime: 197.0 seconds |
| RetCode: 0 |
| Status: OK |
| CheckDir: ontoProc.Rcheck |
| Warnings: 0 |
##############################################################################
##############################################################################
###
### Running command:
###
### /home/biocbuild/bbs-3.11-bioc/R/bin/R CMD check --install=check:ontoProc.install-out.txt --library=/home/biocbuild/bbs-3.11-bioc/R/library --no-vignettes --timings ontoProc_1.10.1.tar.gz
###
##############################################################################
##############################################################################
* using log directory ‘/home/biocbuild/bbs-3.11-bioc/meat/ontoProc.Rcheck’
* using R version 4.0.3 (2020-10-10)
* using platform: x86_64-pc-linux-gnu (64-bit)
* using session charset: UTF-8
* using option ‘--no-vignettes’
* checking for file ‘ontoProc/DESCRIPTION’ ... OK
* this is package ‘ontoProc’ version ‘1.10.1’
* package encoding: UTF-8
* checking package namespace information ... OK
* checking package dependencies ... OK
* checking if this is a source package ... OK
* checking if there is a namespace ... OK
* checking for hidden files and directories ... OK
* checking for portable file names ... OK
* checking for sufficient/correct file permissions ... OK
* checking whether package ‘ontoProc’ can be installed ... OK
* checking installed package size ... NOTE
installed size is 37.8Mb
sub-directories of 1Mb or more:
app 1.9Mb
data 2.0Mb
ontoRda 33.5Mb
* checking package directory ... OK
* checking ‘build’ directory ... OK
* checking DESCRIPTION meta-information ... OK
* checking top-level files ... OK
* checking for left-over files ... OK
* checking index information ... OK
* checking package subdirectories ... OK
* checking R files for non-ASCII characters ... OK
* checking R files for syntax errors ... OK
* checking whether the package can be loaded ... OK
* checking whether the package can be loaded with stated dependencies ... OK
* checking whether the package can be unloaded cleanly ... OK
* checking whether the namespace can be loaded with stated dependencies ... OK
* checking whether the namespace can be unloaded cleanly ... OK
* checking dependencies in R code ... OK
* checking S3 generic/method consistency ... OK
* checking replacement functions ... OK
* checking foreign function calls ... OK
* checking R code for possible problems ... NOTE
CLfeat : prupdate: no visible binding for global variable ‘PRID’
CLfeat : prupdate: no visible binding for global variable ‘SYMBOL’
bind_formal_tags: no visible global function definition for ‘colData’
bind_formal_tags: no visible global function definition for ‘colData<-’
common_classes: no visible global function definition for ‘colData’
connect_classes: no visible global function definition for ‘colData’
ctmarks: no visible binding for '<<-' assignment to ‘pr’
ctmarks: no visible binding for '<<-' assignment to ‘go’
ctmarks : server: no visible binding for global variable ‘text’
cyclicSigset: no visible binding for global variable ‘sigels’
ldfToTerm: no visible binding for global variable ‘PROSYM’
subset_descendants: no visible global function definition for ‘colData’
sym2CellOnto: no visible binding for global variable ‘SYMBOL’
Undefined global functions or variables:
PRID PROSYM SYMBOL colData colData<- sigels text
Consider adding
importFrom("graphics", "text")
to your NAMESPACE file.
* checking Rd files ... OK
* checking Rd metadata ... OK
* checking Rd cross-references ... OK
* checking for missing documentation entries ... OK
* checking for code/documentation mismatches ... OK
* checking Rd \usage sections ... OK
* checking Rd contents ... OK
* checking for unstated dependencies in examples ... OK
* checking contents of ‘data’ directory ... OK
* checking data for non-ASCII characters ... NOTE
Note: found 162 marked UTF-8 strings
* checking data for ASCII and uncompressed saves ... OK
* checking files in ‘vignettes’ ... OK
* checking examples ... OK
Examples with CPU (user + system) or elapsed time > 5s
user system elapsed
common_classes 21.614 0.415 23.606
CLfeats 14.778 0.276 15.063
fastGrep 13.873 0.092 13.988
getLeavesFromTerm 9.497 0.152 9.648
sym2CellOnto 5.549 0.052 5.602
* checking for unstated dependencies in ‘tests’ ... OK
* checking tests ...
Running ‘test.R’
OK
* checking for unstated dependencies in vignettes ... OK
* checking package vignettes in ‘inst/doc’ ... OK
* checking running R code from vignettes ... SKIPPED
* checking re-building of vignette outputs ... SKIPPED
* checking PDF version of manual ... OK
* DONE
Status: 3 NOTEs
See
‘/home/biocbuild/bbs-3.11-bioc/meat/ontoProc.Rcheck/00check.log’
for details.
ontoProc.Rcheck/00install.out
############################################################################## ############################################################################## ### ### Running command: ### ### /home/biocbuild/bbs-3.11-bioc/R/bin/R CMD INSTALL ontoProc ### ############################################################################## ############################################################################## * installing to library ‘/home/biocbuild/bbs-3.11-bioc/R/library’ * installing *source* package ‘ontoProc’ ... ** using staged installation ** R ** data *** moving datasets to lazyload DB ** inst ** byte-compile and prepare package for lazy loading ** help *** installing help indices ** building package indices ** installing vignettes ** testing if installed package can be loaded from temporary location ** testing if installed package can be loaded from final location ** testing if installed package keeps a record of temporary installation path * DONE (ontoProc)
ontoProc.Rcheck/tests/test.Rout
R version 4.0.3 (2020-10-10) -- "Bunny-Wunnies Freak Out"
Copyright (C) 2020 The R Foundation for Statistical Computing
Platform: x86_64-pc-linux-gnu (64-bit)
R is free software and comes with ABSOLUTELY NO WARRANTY.
You are welcome to redistribute it under certain conditions.
Type 'license()' or 'licence()' for distribution details.
R is a collaborative project with many contributors.
Type 'contributors()' for more information and
'citation()' on how to cite R or R packages in publications.
Type 'demo()' for some demos, 'help()' for on-line help, or
'help.start()' for an HTML browser interface to help.
Type 'q()' to quit R.
>
> library(ontoProc)
Loading required package: ontologyIndex
> library(testthat)
>
> test_check("ontoProc")
══ testthat results ═══════════════════════════════════════════════════════════
[ OK: 8 | SKIPPED: 0 | WARNINGS: 0 | FAILED: 0 ]
>
>
> proc.time()
user system elapsed
13.800 0.270 14.053
ontoProc.Rcheck/ontoProc-Ex.timings
| name | user | system | elapsed | |
| CLfeats | 14.778 | 0.276 | 15.063 | |
| PROSYM | 0.002 | 0.000 | 0.002 | |
| TermSet-class | 0.239 | 0.012 | 0.251 | |
| allGOterms | 0.047 | 0.004 | 0.050 | |
| cellTypeToGO | 1.769 | 0.052 | 1.821 | |
| cleanCLOnames | 1.425 | 0.020 | 1.446 | |
| common_classes | 21.614 | 0.415 | 23.606 | |
| cyclicSigset | 0.006 | 0.000 | 0.007 | |
| demoApp | 0 | 0 | 0 | |
| dropStop | 0.003 | 0.000 | 0.004 | |
| fastGrep | 13.873 | 0.092 | 13.988 | |
| getCellOnto | 4.101 | 0.032 | 4.144 | |
| getLeavesFromTerm | 9.497 | 0.152 | 9.648 | |
| humrna | 0.003 | 0.004 | 0.007 | |
| ldfToTerms | 0.338 | 0.005 | 0.342 | |
| liberalMap | 0.389 | 0.003 | 0.391 | |
| makeSelectInput | 0.001 | 0.000 | 0.001 | |
| make_graphNEL_from_ontology_plot | 0.457 | 0.000 | 0.457 | |
| mapOneNaive | 0.366 | 0.000 | 0.366 | |
| minicorpus | 0.001 | 0.000 | 0.001 | |
| nomenCheckup | 0.906 | 0.000 | 0.906 | |
| onto_plot2 | 0.561 | 0.004 | 0.565 | |
| onto_roots | 0.000 | 0.000 | 0.001 | |
| packDesc2019 | 0.000 | 0.002 | 0.002 | |
| recognizedPredicates | 0 | 0 | 0 | |
| secLevGen | 0.232 | 0.000 | 0.232 | |
| selectFromMap | 0.363 | 0.004 | 0.368 | |
| seur3kTab | 0.003 | 0.000 | 0.008 | |
| siblings_TAG | 0.62 | 0.00 | 0.62 | |
| stopWords | 0.001 | 0.000 | 0.002 | |
| sym2CellOnto | 5.549 | 0.052 | 5.602 | |