| Back to Multiple platform build/check report for BioC 3.11 |
|
This page was generated on 2020-10-17 11:57:19 -0400 (Sat, 17 Oct 2020).
| TO THE DEVELOPERS/MAINTAINERS OF THE onlineFDR PACKAGE: Please make sure to use the following settings in order to reproduce any error or warning you see on this page. |
| Package 1234/1905 | Hostname | OS / Arch | INSTALL | BUILD | CHECK | BUILD BIN | ||||||
| onlineFDR 1.6.0 David S. Robertson
| malbec2 | Linux (Ubuntu 18.04.4 LTS) / x86_64 | OK | OK | OK | |||||||
| tokay2 | Windows Server 2012 R2 Standard / x64 | OK | OK | OK | [ OK ] | |||||||
| machv2 | macOS 10.14.6 Mojave / x86_64 | OK | OK | OK | OK |
| Package: onlineFDR |
| Version: 1.6.0 |
| Command: rm -rf onlineFDR.buildbin-libdir && mkdir onlineFDR.buildbin-libdir && C:\Users\biocbuild\bbs-3.11-bioc\R\bin\R.exe CMD INSTALL --merge-multiarch --build --library=onlineFDR.buildbin-libdir onlineFDR_1.6.0.tar.gz |
| StartedAt: 2020-10-17 11:11:23 -0400 (Sat, 17 Oct 2020) |
| EndedAt: 2020-10-17 11:12:00 -0400 (Sat, 17 Oct 2020) |
| EllapsedTime: 36.7 seconds |
| RetCode: 0 |
| Status: OK |
| PackageFile: onlineFDR_1.6.0.zip |
| PackageFileSize: 422.2 KiB |
##############################################################################
##############################################################################
###
### Running command:
###
### rm -rf onlineFDR.buildbin-libdir && mkdir onlineFDR.buildbin-libdir && C:\Users\biocbuild\bbs-3.11-bioc\R\bin\R.exe CMD INSTALL --merge-multiarch --build --library=onlineFDR.buildbin-libdir onlineFDR_1.6.0.tar.gz
###
##############################################################################
##############################################################################
install for i386
* installing *source* package 'onlineFDR' ...
** using staged installation
** R
** inst
** byte-compile and prepare package for lazy loading
** help
*** installing help indices
converting help for package 'onlineFDR'
finding HTML links ... done
ADDIS html
ADDIS_spending html
Alpha_investing html
Alpha_spending html
LOND html
LONDstar html
LORD html
LORDdep html
LORDstar html
SAFFRON html
SAFFRONstar html
bonfInfinite html
onlineFDR-deprecated html
onlineFDR-package html
online_fallback html
** building package indices
** installing vignettes
** testing if installed package can be loaded from temporary location
** testing if installed package can be loaded from final location
** testing if installed package keeps a record of temporary installation path
install for x64
* installing *source* package 'onlineFDR' ...
** testing if installed package can be loaded
* MD5 sums
packaged installation of 'onlineFDR' as onlineFDR_1.6.0.zip
* DONE (onlineFDR)