| Back to Multiple platform build/check report for BioC 3.11 |
|
This page was generated on 2020-10-17 11:57:18 -0400 (Sat, 17 Oct 2020).
| TO THE DEVELOPERS/MAINTAINERS OF THE omicade4 PACKAGE: Please make sure to use the following settings in order to reproduce any error or warning you see on this page. |
| Package 1220/1905 | Hostname | OS / Arch | INSTALL | BUILD | CHECK | BUILD BIN | ||||||
| omicade4 1.28.2 Chen Meng
| malbec2 | Linux (Ubuntu 18.04.4 LTS) / x86_64 | OK | OK | OK | |||||||
| tokay2 | Windows Server 2012 R2 Standard / x64 | OK | OK | OK | [ OK ] | |||||||
| machv2 | macOS 10.14.6 Mojave / x86_64 | OK | OK | OK | OK |
| Package: omicade4 |
| Version: 1.28.2 |
| Command: rm -rf omicade4.buildbin-libdir && mkdir omicade4.buildbin-libdir && C:\Users\biocbuild\bbs-3.11-bioc\R\bin\R.exe CMD INSTALL --merge-multiarch --build --library=omicade4.buildbin-libdir omicade4_1.28.2.tar.gz |
| StartedAt: 2020-10-17 11:10:27 -0400 (Sat, 17 Oct 2020) |
| EndedAt: 2020-10-17 11:11:11 -0400 (Sat, 17 Oct 2020) |
| EllapsedTime: 43.3 seconds |
| RetCode: 0 |
| Status: OK |
| PackageFile: omicade4_1.28.2.zip |
| PackageFileSize: 606 KiB |
##############################################################################
##############################################################################
###
### Running command:
###
### rm -rf omicade4.buildbin-libdir && mkdir omicade4.buildbin-libdir && C:\Users\biocbuild\bbs-3.11-bioc\R\bin\R.exe CMD INSTALL --merge-multiarch --build --library=omicade4.buildbin-libdir omicade4_1.28.2.tar.gz
###
##############################################################################
##############################################################################
install for i386
* installing *source* package 'omicade4' ...
** using staged installation
** R
** data
** inst
** byte-compile and prepare package for lazy loading
** help
*** installing help indices
converting help for package 'omicade4'
finding HTML links ... done
NCI60_4arrays html
mcia html
omicade4-package html
plotVar html
plotVar.cia html
plotVar.mcia html
selectVar html
selectVar.cia html
selectVar.mcia html
topVar html
topVar.cia html
topVar.mcia html
** building package indices
** installing vignettes
** testing if installed package can be loaded from temporary location
** testing if installed package can be loaded from final location
** testing if installed package keeps a record of temporary installation path
install for x64
* installing *source* package 'omicade4' ...
** testing if installed package can be loaded
* MD5 sums
packaged installation of 'omicade4' as omicade4_1.28.2.zip
* DONE (omicade4)