| Back to Multiple platform build/check report for BioC 3.11 |
|
This page was generated on 2020-10-17 11:59:06 -0400 (Sat, 17 Oct 2020).
| TO THE DEVELOPERS/MAINTAINERS OF THE omicRexposome PACKAGE: Please make sure to use the following settings in order to reproduce any error or warning you see on this page. |
| Package 1223/1905 | Hostname | OS / Arch | INSTALL | BUILD | CHECK | BUILD BIN | ||||||
| omicRexposome 1.10.0 Carles Hernandez-Ferrer
| malbec2 | Linux (Ubuntu 18.04.4 LTS) / x86_64 | OK | OK | OK | |||||||
| tokay2 | Windows Server 2012 R2 Standard / x64 | OK | OK | OK | OK | |||||||
| machv2 | macOS 10.14.6 Mojave / x86_64 | OK | OK | [ OK ] | OK |
| Package: omicRexposome |
| Version: 1.10.0 |
| Command: /Library/Frameworks/R.framework/Versions/Current/Resources/bin/R CMD check --install=check:omicRexposome.install-out.txt --library=/Library/Frameworks/R.framework/Versions/Current/Resources/library --no-vignettes --timings omicRexposome_1.10.0.tar.gz |
| StartedAt: 2020-10-17 03:36:15 -0400 (Sat, 17 Oct 2020) |
| EndedAt: 2020-10-17 03:41:48 -0400 (Sat, 17 Oct 2020) |
| EllapsedTime: 333.0 seconds |
| RetCode: 0 |
| Status: OK |
| CheckDir: omicRexposome.Rcheck |
| Warnings: 0 |
##############################################################################
##############################################################################
###
### Running command:
###
### /Library/Frameworks/R.framework/Versions/Current/Resources/bin/R CMD check --install=check:omicRexposome.install-out.txt --library=/Library/Frameworks/R.framework/Versions/Current/Resources/library --no-vignettes --timings omicRexposome_1.10.0.tar.gz
###
##############################################################################
##############################################################################
* using log directory ‘/Users/biocbuild/bbs-3.11-bioc/meat/omicRexposome.Rcheck’
* using R version 4.0.3 (2020-10-10)
* using platform: x86_64-apple-darwin17.0 (64-bit)
* using session charset: UTF-8
* using option ‘--no-vignettes’
* checking for file ‘omicRexposome/DESCRIPTION’ ... OK
* this is package ‘omicRexposome’ version ‘1.10.0’
* package encoding: UTF-8
* checking package namespace information ... OK
* checking package dependencies ... OK
* checking if this is a source package ... OK
* checking if there is a namespace ... OK
* checking for hidden files and directories ... OK
* checking for portable file names ... OK
* checking for sufficient/correct file permissions ... OK
* checking whether package ‘omicRexposome’ can be installed ... OK
* checking installed package size ... OK
* checking package directory ... OK
* checking ‘build’ directory ... OK
* checking DESCRIPTION meta-information ... OK
* checking top-level files ... OK
* checking for left-over files ... OK
* checking index information ... OK
* checking package subdirectories ... OK
* checking R files for non-ASCII characters ... OK
* checking R files for syntax errors ... OK
* checking whether the package can be loaded ... OK
* checking whether the package can be loaded with stated dependencies ... OK
* checking whether the package can be unloaded cleanly ... OK
* checking whether the namespace can be loaded with stated dependencies ... OK
* checking whether the namespace can be unloaded cleanly ... OK
* checking dependencies in R code ... OK
* checking S3 generic/method consistency ... OK
* checking replacement functions ... OK
* checking foreign function calls ... OK
* checking R code for possible problems ... OK
* checking Rd files ... OK
* checking Rd metadata ... OK
* checking Rd cross-references ... OK
* checking for missing documentation entries ... OK
* checking for code/documentation mismatches ... OK
* checking Rd \usage sections ... OK
* checking Rd contents ... OK
* checking for unstated dependencies in examples ... OK
* checking contents of ‘data’ directory ... OK
* checking data for non-ASCII characters ... OK
* checking data for ASCII and uncompressed saves ... OK
* checking files in ‘vignettes’ ... OK
* checking examples ... OK
Examples with CPU (user + system) or elapsed time > 5s
user system elapsed
association-methods 9.24 0.028 9.285
* checking for unstated dependencies in vignettes ... OK
* checking package vignettes in ‘inst/doc’ ... OK
* checking running R code from vignettes ... SKIPPED
* checking re-building of vignette outputs ... SKIPPED
* checking PDF version of manual ... OK
* DONE
Status: OK
omicRexposome.Rcheck/00install.out
############################################################################## ############################################################################## ### ### Running command: ### ### /Library/Frameworks/R.framework/Versions/Current/Resources/bin/R CMD INSTALL omicRexposome ### ############################################################################## ############################################################################## * installing to library ‘/Library/Frameworks/R.framework/Versions/4.0/Resources/library’ * installing *source* package ‘omicRexposome’ ... ** using staged installation ** R ** data *** moving datasets to lazyload DB Registered S3 method overwritten by 'pryr': method from print.bytes Rcpp ** inst ** byte-compile and prepare package for lazy loading ** help *** installing help indices ** building package indices ** installing vignettes ** testing if installed package can be loaded from temporary location ** testing if installed package can be loaded from final location ** testing if installed package keeps a record of temporary installation path * DONE (omicRexposome)
omicRexposome.Rcheck/omicRexposome-Ex.timings
| name | user | system | elapsed | |
| add_cls-methods | 0.246 | 0.007 | 0.254 | |
| add_exp-methods | 0.060 | 0.007 | 0.067 | |
| asr | 0.049 | 0.003 | 0.052 | |
| association-methods | 9.240 | 0.028 | 9.285 | |
| crossomics-methods | 0.457 | 0.011 | 0.469 | |
| crs | 0.003 | 0.001 | 0.004 | |
| getIntegration-methods | 0.002 | 0.001 | 0.003 | |
| mds | 0.010 | 0.001 | 0.011 | |
| plotAssociation-methods | 0.479 | 0.049 | 0.528 | |
| plotHits-methods | 0.267 | 0.026 | 0.294 | |
| plotIntegration-methods | 0.889 | 0.094 | 0.985 | |
| plotLambda-methods | 0.252 | 0.003 | 0.255 | |
| tableHits-methods | 0.091 | 0.001 | 0.092 | |
| tableLambda-methods | 0.095 | 0.002 | 0.097 | |