| Back to Multiple platform build/check report for BioC 3.11 |
|
This page was generated on 2020-10-17 11:59:05 -0400 (Sat, 17 Oct 2020).
| TO THE DEVELOPERS/MAINTAINERS OF THE occugene PACKAGE: Please make sure to use the following settings in order to reproduce any error or warning you see on this page. |
| Package 1211/1905 | Hostname | OS / Arch | INSTALL | BUILD | CHECK | BUILD BIN | ||||||
| occugene 1.48.0 Oliver Will
| malbec2 | Linux (Ubuntu 18.04.4 LTS) / x86_64 | OK | OK | OK | |||||||
| tokay2 | Windows Server 2012 R2 Standard / x64 | OK | OK | OK | OK | |||||||
| machv2 | macOS 10.14.6 Mojave / x86_64 | OK | OK | [ OK ] | OK |
| Package: occugene |
| Version: 1.48.0 |
| Command: /Library/Frameworks/R.framework/Versions/Current/Resources/bin/R CMD check --install=check:occugene.install-out.txt --library=/Library/Frameworks/R.framework/Versions/Current/Resources/library --no-vignettes --timings occugene_1.48.0.tar.gz |
| StartedAt: 2020-10-17 03:33:44 -0400 (Sat, 17 Oct 2020) |
| EndedAt: 2020-10-17 03:34:16 -0400 (Sat, 17 Oct 2020) |
| EllapsedTime: 31.7 seconds |
| RetCode: 0 |
| Status: OK |
| CheckDir: occugene.Rcheck |
| Warnings: 0 |
##############################################################################
##############################################################################
###
### Running command:
###
### /Library/Frameworks/R.framework/Versions/Current/Resources/bin/R CMD check --install=check:occugene.install-out.txt --library=/Library/Frameworks/R.framework/Versions/Current/Resources/library --no-vignettes --timings occugene_1.48.0.tar.gz
###
##############################################################################
##############################################################################
* using log directory ‘/Users/biocbuild/bbs-3.11-bioc/meat/occugene.Rcheck’
* using R version 4.0.3 (2020-10-10)
* using platform: x86_64-apple-darwin17.0 (64-bit)
* using session charset: UTF-8
* using option ‘--no-vignettes’
* checking for file ‘occugene/DESCRIPTION’ ... OK
* this is package ‘occugene’ version ‘1.48.0’
* checking package namespace information ... OK
* checking package dependencies ... OK
* checking if this is a source package ... OK
* checking if there is a namespace ... OK
* checking for hidden files and directories ... OK
* checking for portable file names ... OK
* checking for sufficient/correct file permissions ... OK
* checking whether package ‘occugene’ can be installed ... OK
* checking installed package size ... OK
* checking package directory ... OK
* checking ‘build’ directory ... OK
* checking DESCRIPTION meta-information ... OK
* checking top-level files ... OK
* checking for left-over files ... OK
* checking index information ... OK
* checking package subdirectories ... OK
* checking R files for non-ASCII characters ... OK
* checking R files for syntax errors ... OK
* checking whether the package can be loaded ... OK
* checking whether the package can be loaded with stated dependencies ... OK
* checking whether the package can be unloaded cleanly ... OK
* checking whether the namespace can be loaded with stated dependencies ... OK
* checking whether the namespace can be unloaded cleanly ... OK
* checking dependencies in R code ... OK
* checking S3 generic/method consistency ... OK
* checking replacement functions ... OK
* checking foreign function calls ... OK
* checking R code for possible problems ... NOTE
binInsertHist: no visible global function definition for ‘hist’
delta0: no visible global function definition for ‘coef’
eMult : unequalApproxEMult: no visible global function definition for
‘runif’
eMult : unequalApproxEMult: no visible binding for global variable
‘hist’
fFit : expModel: no visible global function definition for ‘nls’
loadAnnotation: no visible global function definition for ‘read.table’
loadInsertions: no visible global function definition for ‘read.table’
unbiasB0 : simB0: no visible global function definition for ‘coef’
unbiasB0: no visible global function definition for ‘coef’
varMult : unequalApproxVarMult: no visible global function definition
for ‘runif’
varMult : unequalApproxVarMult: no visible binding for global variable
‘hist’
varMult : unequalApproxVarMult: no visible global function definition
for ‘var’
Undefined global functions or variables:
coef hist nls read.table runif var
Consider adding
importFrom("graphics", "hist")
importFrom("stats", "coef", "nls", "runif", "var")
importFrom("utils", "read.table")
to your NAMESPACE file.
* checking Rd files ... OK
* checking Rd metadata ... OK
* checking Rd cross-references ... OK
* checking for missing documentation entries ... OK
* checking for code/documentation mismatches ... OK
* checking Rd \usage sections ... OK
* checking Rd contents ... OK
* checking for unstated dependencies in examples ... OK
* checking contents of ‘data’ directory ... OK
* checking data for non-ASCII characters ... OK
* checking data for ASCII and uncompressed saves ... OK
* checking sizes of PDF files under ‘inst/doc’ ... OK
* checking files in ‘vignettes’ ... OK
* checking examples ... OK
* checking for unstated dependencies in vignettes ... OK
* checking package vignettes in ‘inst/doc’ ... OK
* checking running R code from vignettes ... SKIPPED
* checking re-building of vignette outputs ... SKIPPED
* checking PDF version of manual ... OK
* DONE
Status: 1 NOTE
See
‘/Users/biocbuild/bbs-3.11-bioc/meat/occugene.Rcheck/00check.log’
for details.
occugene.Rcheck/00install.out
############################################################################## ############################################################################## ### ### Running command: ### ### /Library/Frameworks/R.framework/Versions/Current/Resources/bin/R CMD INSTALL occugene ### ############################################################################## ############################################################################## * installing to library ‘/Library/Frameworks/R.framework/Versions/4.0/Resources/library’ * installing *source* package ‘occugene’ ... ** using staged installation ** R ** data ** byte-compile and prepare package for lazy loading ** help *** installing help indices ** building package indices ** installing vignettes ** testing if installed package can be loaded from temporary location ** testing if installed package can be loaded from final location ** testing if installed package keeps a record of temporary installation path * DONE (occugene)
occugene.Rcheck/occugene-Ex.timings
| name | user | system | elapsed | |
| binHist | 0.000 | 0.001 | 0.001 | |
| binInsert | 0.000 | 0.001 | 0.001 | |
| binInsertHist | 0 | 0 | 0 | |
| checkFormat | 0.028 | 0.007 | 0.034 | |
| delta0 | 0.069 | 0.004 | 0.073 | |
| eMult | 0.735 | 0.003 | 0.739 | |
| etDelta | 0.006 | 0.003 | 0.009 | |
| fCumul | 0 | 0 | 0 | |
| fFit | 0.057 | 0.007 | 0.064 | |
| loadAnnotation | 0 | 0 | 0 | |
| loadInsertions | 0 | 0 | 0 | |
| occup2Negenes | 0.008 | 0.004 | 0.012 | |
| unbiasB0 | 0.574 | 0.010 | 0.584 | |
| unbiasDelta0 | 0.644 | 0.010 | 0.657 | |
| varMult | 0.735 | 0.004 | 0.741 | |