| Back to Multiple platform build/check report for BioC 3.11 |
|
This page was generated on 2020-10-17 11:59:00 -0400 (Sat, 17 Oct 2020).
| TO THE DEVELOPERS/MAINTAINERS OF THE motifcounter PACKAGE: Please make sure to use the following settings in order to reproduce any error or warning you see on this page. |
| Package 1125/1905 | Hostname | OS / Arch | INSTALL | BUILD | CHECK | BUILD BIN | ||||||
| motifcounter 1.12.0 Wolfgang Kopp
| malbec2 | Linux (Ubuntu 18.04.4 LTS) / x86_64 | OK | OK | OK | |||||||
| tokay2 | Windows Server 2012 R2 Standard / x64 | OK | OK | OK | OK | |||||||
| machv2 | macOS 10.14.6 Mojave / x86_64 | OK | OK | [ OK ] | OK |
| Package: motifcounter |
| Version: 1.12.0 |
| Command: /Library/Frameworks/R.framework/Versions/Current/Resources/bin/R CMD check --install=check:motifcounter.install-out.txt --library=/Library/Frameworks/R.framework/Versions/Current/Resources/library --no-vignettes --timings motifcounter_1.12.0.tar.gz |
| StartedAt: 2020-10-17 03:14:07 -0400 (Sat, 17 Oct 2020) |
| EndedAt: 2020-10-17 03:18:54 -0400 (Sat, 17 Oct 2020) |
| EllapsedTime: 287.8 seconds |
| RetCode: 0 |
| Status: OK |
| CheckDir: motifcounter.Rcheck |
| Warnings: 0 |
##############################################################################
##############################################################################
###
### Running command:
###
### /Library/Frameworks/R.framework/Versions/Current/Resources/bin/R CMD check --install=check:motifcounter.install-out.txt --library=/Library/Frameworks/R.framework/Versions/Current/Resources/library --no-vignettes --timings motifcounter_1.12.0.tar.gz
###
##############################################################################
##############################################################################
* using log directory ‘/Users/biocbuild/bbs-3.11-bioc/meat/motifcounter.Rcheck’
* using R version 4.0.3 (2020-10-10)
* using platform: x86_64-apple-darwin17.0 (64-bit)
* using session charset: UTF-8
* using option ‘--no-vignettes’
* checking for file ‘motifcounter/DESCRIPTION’ ... OK
* checking extension type ... Package
* this is package ‘motifcounter’ version ‘1.12.0’
* checking package namespace information ... OK
* checking package dependencies ... OK
* checking if this is a source package ... OK
* checking if there is a namespace ... OK
* checking for hidden files and directories ... NOTE
Found the following hidden files and directories:
.zenodo.json
These were most likely included in error. See section ‘Package
structure’ in the ‘Writing R Extensions’ manual.
* checking for portable file names ... OK
* checking for sufficient/correct file permissions ... OK
* checking whether package ‘motifcounter’ can be installed ... OK
* checking installed package size ... OK
* checking package directory ... OK
* checking ‘build’ directory ... OK
* checking DESCRIPTION meta-information ... OK
* checking top-level files ... OK
* checking for left-over files ... OK
* checking index information ... OK
* checking package subdirectories ... OK
* checking R files for non-ASCII characters ... OK
* checking R files for syntax errors ... OK
* checking whether the package can be loaded ... OK
* checking whether the package can be loaded with stated dependencies ... OK
* checking whether the package can be unloaded cleanly ... OK
* checking whether the namespace can be loaded with stated dependencies ... OK
* checking whether the namespace can be unloaded cleanly ... OK
* checking dependencies in R code ... OK
* checking S3 generic/method consistency ... OK
* checking replacement functions ... OK
* checking foreign function calls ... OK
* checking R code for possible problems ... OK
* checking Rd files ... OK
* checking Rd metadata ... OK
* checking Rd cross-references ... OK
* checking for missing documentation entries ... OK
* checking for code/documentation mismatches ... OK
* checking Rd \usage sections ... OK
* checking Rd contents ... OK
* checking for unstated dependencies in examples ... OK
* checking line endings in C/C++/Fortran sources/headers ... OK
* checking line endings in Makefiles ... OK
* checking compilation flags in Makevars ... OK
* checking for GNU extensions in Makefiles ... OK
* checking for portable use of $(BLAS_LIBS) and $(LAPACK_LIBS) ... OK
* checking use of PKG_*FLAGS in Makefiles ... OK
* checking compiled code ... NOTE
Note: information on .o files is not available
* checking files in ‘vignettes’ ... OK
* checking examples ... OK
Examples with CPU (user + system) or elapsed time > 5s
user system elapsed
simulateClumpSizeDist 16.558 0.35 16.915
* checking for unstated dependencies in ‘tests’ ... OK
* checking tests ...
Running ‘testthat.R’
OK
* checking for unstated dependencies in vignettes ... OK
* checking package vignettes in ‘inst/doc’ ... OK
* checking running R code from vignettes ... SKIPPED
* checking re-building of vignette outputs ... SKIPPED
* checking PDF version of manual ... OK
* DONE
Status: 2 NOTEs
See
‘/Users/biocbuild/bbs-3.11-bioc/meat/motifcounter.Rcheck/00check.log’
for details.
motifcounter.Rcheck/00install.out
##############################################################################
##############################################################################
###
### Running command:
###
### /Library/Frameworks/R.framework/Versions/Current/Resources/bin/R CMD INSTALL motifcounter
###
##############################################################################
##############################################################################
* installing to library ‘/Library/Frameworks/R.framework/Versions/4.0/Resources/library’
* installing *source* package ‘motifcounter’ ...
** using staged installation
** libs
clang -mmacosx-version-min=10.13 -I"/Library/Frameworks/R.framework/Resources/include" -DNDEBUG -I/usr/local/include -DIN_R -fPIC -Wall -g -O2 -c Rbackground.c -o Rbackground.o
clang -mmacosx-version-min=10.13 -I"/Library/Frameworks/R.framework/Resources/include" -DNDEBUG -I/usr/local/include -DIN_R -fPIC -Wall -g -O2 -c Rcombinatorial.c -o Rcombinatorial.o
clang -mmacosx-version-min=10.13 -I"/Library/Frameworks/R.framework/Resources/include" -DNDEBUG -I/usr/local/include -DIN_R -fPIC -Wall -g -O2 -c Rcompoundpoisson.c -o Rcompoundpoisson.o
clang -mmacosx-version-min=10.13 -I"/Library/Frameworks/R.framework/Resources/include" -DNDEBUG -I/usr/local/include -DIN_R -fPIC -Wall -g -O2 -c Rminmaxscore.c -o Rminmaxscore.o
clang -mmacosx-version-min=10.13 -I"/Library/Frameworks/R.framework/Resources/include" -DNDEBUG -I/usr/local/include -DIN_R -fPIC -Wall -g -O2 -c Roption.c -o Roption.o
clang -mmacosx-version-min=10.13 -I"/Library/Frameworks/R.framework/Resources/include" -DNDEBUG -I/usr/local/include -DIN_R -fPIC -Wall -g -O2 -c Roverlap.c -o Roverlap.o
clang -mmacosx-version-min=10.13 -I"/Library/Frameworks/R.framework/Resources/include" -DNDEBUG -I/usr/local/include -DIN_R -fPIC -Wall -g -O2 -c Rscore1d.c -o Rscore1d.o
clang -mmacosx-version-min=10.13 -I"/Library/Frameworks/R.framework/Resources/include" -DNDEBUG -I/usr/local/include -DIN_R -fPIC -Wall -g -O2 -c Rsequence.c -o Rsequence.o
Rsequence.c:143:21: warning: unused variable 'noscores' [-Wunused-variable]
int mins, maxs, noscores;
^
1 warning generated.
clang -mmacosx-version-min=10.13 -I"/Library/Frameworks/R.framework/Resources/include" -DNDEBUG -I/usr/local/include -DIN_R -fPIC -Wall -g -O2 -c Rsimulate.c -o Rsimulate.o
clang -mmacosx-version-min=10.13 -I"/Library/Frameworks/R.framework/Resources/include" -DNDEBUG -I/usr/local/include -DIN_R -fPIC -Wall -g -O2 -c background.c -o background.o
clang -mmacosx-version-min=10.13 -I"/Library/Frameworks/R.framework/Resources/include" -DNDEBUG -I/usr/local/include -DIN_R -fPIC -Wall -g -O2 -c combinatorial.c -o combinatorial.o
clang -mmacosx-version-min=10.13 -I"/Library/Frameworks/R.framework/Resources/include" -DNDEBUG -I/usr/local/include -DIN_R -fPIC -Wall -g -O2 -c compoundpoisson.c -o compoundpoisson.o
clang -mmacosx-version-min=10.13 -I"/Library/Frameworks/R.framework/Resources/include" -DNDEBUG -I/usr/local/include -DIN_R -fPIC -Wall -g -O2 -c markovchain.c -o markovchain.o
clang -mmacosx-version-min=10.13 -I"/Library/Frameworks/R.framework/Resources/include" -DNDEBUG -I/usr/local/include -DIN_R -fPIC -Wall -g -O2 -c markovchain_single.c -o markovchain_single.o
clang -mmacosx-version-min=10.13 -I"/Library/Frameworks/R.framework/Resources/include" -DNDEBUG -I/usr/local/include -DIN_R -fPIC -Wall -g -O2 -c matrix.c -o matrix.o
clang -mmacosx-version-min=10.13 -I"/Library/Frameworks/R.framework/Resources/include" -DNDEBUG -I/usr/local/include -DIN_R -fPIC -Wall -g -O2 -c mdist_register.c -o mdist_register.o
clang -mmacosx-version-min=10.13 -I"/Library/Frameworks/R.framework/Resources/include" -DNDEBUG -I/usr/local/include -DIN_R -fPIC -Wall -g -O2 -c minmaxscore.c -o minmaxscore.o
clang -mmacosx-version-min=10.13 -I"/Library/Frameworks/R.framework/Resources/include" -DNDEBUG -I/usr/local/include -DIN_R -fPIC -Wall -g -O2 -c overlap.c -o overlap.o
clang -mmacosx-version-min=10.13 -I"/Library/Frameworks/R.framework/Resources/include" -DNDEBUG -I/usr/local/include -DIN_R -fPIC -Wall -g -O2 -c score1d.c -o score1d.o
clang -mmacosx-version-min=10.13 -I"/Library/Frameworks/R.framework/Resources/include" -DNDEBUG -I/usr/local/include -DIN_R -fPIC -Wall -g -O2 -c score2d.c -o score2d.o
clang -mmacosx-version-min=10.13 -I"/Library/Frameworks/R.framework/Resources/include" -DNDEBUG -I/usr/local/include -DIN_R -fPIC -Wall -g -O2 -c scorefunctions.c -o scorefunctions.o
scorefunctions.c:84:22: warning: unused variable 'cindex' [-Wunused-variable]
int j, i, index, cindex, ds;
^
scorefunctions.c:119:17: warning: unused variable 'cindex' [-Wunused-variable]
int s, index, cindex;
^
scorefunctions.c:159:19: warning: unused variable 'cindex' [-Wunused-variable]
int s, index, cindex;
^
3 warnings generated.
clang -mmacosx-version-min=10.13 -I"/Library/Frameworks/R.framework/Resources/include" -DNDEBUG -I/usr/local/include -DIN_R -fPIC -Wall -g -O2 -c sequence.c -o sequence.o
clang -mmacosx-version-min=10.13 -I"/Library/Frameworks/R.framework/Resources/include" -DNDEBUG -I/usr/local/include -DIN_R -fPIC -Wall -g -O2 -c simulate.c -o simulate.o
clang -mmacosx-version-min=10.13 -dynamiclib -Wl,-headerpad_max_install_names -undefined dynamic_lookup -single_module -multiply_defined suppress -L/Library/Frameworks/R.framework/Resources/lib -L/usr/local/lib -o motifcounter.so Rbackground.o Rcombinatorial.o Rcompoundpoisson.o Rminmaxscore.o Roption.o Roverlap.o Rscore1d.o Rsequence.o Rsimulate.o background.o combinatorial.o compoundpoisson.o markovchain.o markovchain_single.o matrix.o mdist_register.o minmaxscore.o overlap.o score1d.o score2d.o scorefunctions.o sequence.o simulate.o -F/Library/Frameworks/R.framework/.. -framework R -Wl,-framework -Wl,CoreFoundation
installing to /Library/Frameworks/R.framework/Versions/4.0/Resources/library/00LOCK-motifcounter/00new/motifcounter/libs
** R
** inst
** byte-compile and prepare package for lazy loading
** help
*** installing help indices
** building package indices
** installing vignettes
** testing if installed package can be loaded from temporary location
** checking absolute paths in shared objects and dynamic libraries
** testing if installed package can be loaded from final location
** testing if installed package keeps a record of temporary installation path
* DONE (motifcounter)
motifcounter.Rcheck/tests/testthat.Rout
R version 4.0.3 (2020-10-10) -- "Bunny-Wunnies Freak Out"
Copyright (C) 2020 The R Foundation for Statistical Computing
Platform: x86_64-apple-darwin17.0 (64-bit)
R is free software and comes with ABSOLUTELY NO WARRANTY.
You are welcome to redistribute it under certain conditions.
Type 'license()' or 'licence()' for distribution details.
R is a collaborative project with many contributors.
Type 'contributors()' for more information and
'citation()' on how to cite R or R packages in publications.
Type 'demo()' for some demos, 'help()' for on-line help, or
'help.start()' for an HTML browser interface to help.
Type 'q()' to quit R.
> library(testthat)
> library(motifcounter)
>
> test_check("motifcounter")
══ testthat results ═══════════════════════════════════════════════════════════
[ OK: 841 | SKIPPED: 0 | WARNINGS: 1 | FAILED: 0 ]
>
> proc.time()
user system elapsed
149.349 1.697 151.146
motifcounter.Rcheck/motifcounter-Ex.timings
| name | user | system | elapsed | |
| clumpSizeDist | 0.442 | 0.005 | 0.449 | |
| combinatorialDist | 0.349 | 0.006 | 0.354 | |
| compoundPoissonDist | 0.249 | 0.023 | 0.272 | |
| computeClumpStartProb | 0.192 | 0.022 | 0.214 | |
| generateDNAString | 0.126 | 0.001 | 0.127 | |
| generateDNAStringSet | 0.184 | 0.002 | 0.187 | |
| hitStrand | 0.128 | 0.004 | 0.132 | |
| lenSequences | 0.132 | 0.017 | 0.149 | |
| markovModel | 0.179 | 0.015 | 0.193 | |
| motifAndBackgroundValid | 0.130 | 0.007 | 0.137 | |
| motifEnrichment | 4.095 | 0.023 | 4.124 | |
| motifHitProfile | 0.120 | 0.006 | 0.127 | |
| motifHits | 0.132 | 0.003 | 0.136 | |
| motifValid | 0.002 | 0.000 | 0.002 | |
| motifcounter-package | 1.120 | 0.021 | 1.143 | |
| motifcounterOptions | 0.001 | 0.000 | 0.000 | |
| normalizeMotif | 0.003 | 0.000 | 0.003 | |
| numMotifHits | 0.837 | 0.011 | 0.850 | |
| probOverlapHit | 0.190 | 0.006 | 0.197 | |
| readBackground | 0.129 | 0.001 | 0.130 | |
| revcompMotif | 0.002 | 0.001 | 0.003 | |
| scoreDist | 0.127 | 0.002 | 0.128 | |
| scoreDistBf | 0.161 | 0.010 | 0.218 | |
| scoreDistEmpirical | 3.759 | 0.037 | 3.801 | |
| scoreHistogram | 0.331 | 0.012 | 0.343 | |
| scoreHistogramSingleSeq | 0.13 | 0.01 | 0.14 | |
| scoreProfile | 0.637 | 0.005 | 0.643 | |
| scoreSequence | 0.132 | 0.004 | 0.136 | |
| scoreStrand | 0.117 | 0.002 | 0.119 | |
| scoreThreshold | 0.089 | 0.001 | 0.091 | |
| sigLevel | 0.000 | 0.001 | 0.001 | |
| simulateClumpSizeDist | 16.558 | 0.350 | 16.915 | |
| simulateNumHitsDist | 2.726 | 0.052 | 2.779 | |