| Back to Multiple platform build/check report for BioC 3.11 |
|
This page was generated on 2020-10-17 11:57:09 -0400 (Sat, 17 Oct 2020).
| TO THE DEVELOPERS/MAINTAINERS OF THE mitoODE PACKAGE: Please make sure to use the following settings in order to reproduce any error or warning you see on this page. |
| Package 1104/1905 | Hostname | OS / Arch | INSTALL | BUILD | CHECK | BUILD BIN | ||||||
Gregoire Pau
| malbec2 | Linux (Ubuntu 18.04.4 LTS) / x86_64 | OK | OK | WARNINGS | |||||||
| tokay2 | Windows Server 2012 R2 Standard / x64 | OK | OK | WARNINGS | [ OK ] | |||||||
| machv2 | macOS 10.14.6 Mojave / x86_64 | OK | OK | WARNINGS | OK |
| Package: mitoODE |
| Version: 1.26.1 |
| Command: rm -rf mitoODE.buildbin-libdir && mkdir mitoODE.buildbin-libdir && C:\Users\biocbuild\bbs-3.11-bioc\R\bin\R.exe CMD INSTALL --merge-multiarch --build --library=mitoODE.buildbin-libdir mitoODE_1.26.1.tar.gz |
| StartedAt: 2020-10-17 11:03:25 -0400 (Sat, 17 Oct 2020) |
| EndedAt: 2020-10-17 11:04:16 -0400 (Sat, 17 Oct 2020) |
| EllapsedTime: 50.6 seconds |
| RetCode: 0 |
| Status: OK |
| PackageFile: mitoODE_1.26.1.zip |
| PackageFileSize: 471.1 KiB |
##############################################################################
##############################################################################
###
### Running command:
###
### rm -rf mitoODE.buildbin-libdir && mkdir mitoODE.buildbin-libdir && C:\Users\biocbuild\bbs-3.11-bioc\R\bin\R.exe CMD INSTALL --merge-multiarch --build --library=mitoODE.buildbin-libdir mitoODE_1.26.1.tar.gz
###
##############################################################################
##############################################################################
install for i386
* installing *source* package 'mitoODE' ...
** using staged installation
** libs
"C:/rtools40/mingw32/bin/"gcc -I"C:/Users/BIOCBU~1/BBS-3~1.11-/R/include" -DNDEBUG -I"C:/extsoft/include" -O2 -Wall -std=gnu99 -mfpmath=sse -msse2 -mstackrealign -c rksolve.c -o rksolve.o
C:/rtools40/mingw32/bin/gcc -shared -s -static-libgcc -o mitoODE.dll tmp.def rksolve.o -LC:/extsoft/lib/i386 -LC:/extsoft/lib -LC:/Users/BIOCBU~1/BBS-3~1.11-/R/bin/i386 -lR
installing to C:/Users/biocbuild/bbs-3.11-bioc/meat/mitoODE.buildbin-libdir/00LOCK-mitoODE/00new/mitoODE/libs/i386
** R
** inst
** byte-compile and prepare package for lazy loading
** help
*** installing help indices
converting help for package 'mitoODE'
finding HTML links ... done
figures html
mitoODE html
plotfit html
** building package indices
** installing vignettes
** testing if installed package can be loaded from temporary location
Warning: Package 'mitoODE' is deprecated and will be removed from Bioconductor
version 3.12
** testing if installed package can be loaded from final location
Warning: Package 'mitoODE' is deprecated and will be removed from Bioconductor
version 3.12
** testing if installed package keeps a record of temporary installation path
install for x64
* installing *source* package 'mitoODE' ...
** libs
"C:/rtools40/mingw64/bin/"gcc -I"C:/Users/BIOCBU~1/BBS-3~1.11-/R/include" -DNDEBUG -I"C:/extsoft/include" -O2 -Wall -std=gnu99 -mfpmath=sse -msse2 -mstackrealign -c rksolve.c -o rksolve.o
C:/rtools40/mingw64/bin/gcc -shared -s -static-libgcc -o mitoODE.dll tmp.def rksolve.o -LC:/extsoft/lib/x64 -LC:/extsoft/lib -LC:/Users/BIOCBU~1/BBS-3~1.11-/R/bin/x64 -lR
installing to C:/Users/biocbuild/bbs-3.11-bioc/meat/mitoODE.buildbin-libdir/mitoODE/libs/x64
** testing if installed package can be loaded
Warning: Package 'mitoODE' is deprecated and will be removed from Bioconductor
version 3.12
* MD5 sums
packaged installation of 'mitoODE' as mitoODE_1.26.1.zip
* DONE (mitoODE)