| Back to Multiple platform build/check report for BioC 3.11 |
|
This page was generated on 2020-10-17 11:57:07 -0400 (Sat, 17 Oct 2020).
| TO THE DEVELOPERS/MAINTAINERS OF THE mirIntegrator PACKAGE: Please make sure to use the following settings in order to reproduce any error or warning you see on this page. |
| Package 1092/1905 | Hostname | OS / Arch | INSTALL | BUILD | CHECK | BUILD BIN | ||||||
| mirIntegrator 1.18.0 Diana Diaz
| malbec2 | Linux (Ubuntu 18.04.4 LTS) / x86_64 | OK | OK | OK | |||||||
| tokay2 | Windows Server 2012 R2 Standard / x64 | OK | OK | OK | [ OK ] | |||||||
| machv2 | macOS 10.14.6 Mojave / x86_64 | OK | OK | OK | OK |
| Package: mirIntegrator |
| Version: 1.18.0 |
| Command: rm -rf mirIntegrator.buildbin-libdir && mkdir mirIntegrator.buildbin-libdir && C:\Users\biocbuild\bbs-3.11-bioc\R\bin\R.exe CMD INSTALL --merge-multiarch --build --library=mirIntegrator.buildbin-libdir mirIntegrator_1.18.0.tar.gz |
| StartedAt: 2020-10-17 11:02:38 -0400 (Sat, 17 Oct 2020) |
| EndedAt: 2020-10-17 11:03:17 -0400 (Sat, 17 Oct 2020) |
| EllapsedTime: 39.6 seconds |
| RetCode: 0 |
| Status: OK |
| PackageFile: mirIntegrator_1.18.0.zip |
| PackageFileSize: 1.772 MiB |
##############################################################################
##############################################################################
###
### Running command:
###
### rm -rf mirIntegrator.buildbin-libdir && mkdir mirIntegrator.buildbin-libdir && C:\Users\biocbuild\bbs-3.11-bioc\R\bin\R.exe CMD INSTALL --merge-multiarch --build --library=mirIntegrator.buildbin-libdir mirIntegrator_1.18.0.tar.gz
###
##############################################################################
##############################################################################
install for i386
* installing *source* package 'mirIntegrator' ...
** using staged installation
** R
** data
** inst
** byte-compile and prepare package for lazy loading
** help
*** installing help indices
converting help for package 'mirIntegrator'
finding HTML links ... done
GSE43592_mRNA html
GSE43592_miRNA html
augmented_pathways html
integrate_mir html
kegg_pathways html
mirTarBase html
names_pathways html
pathways2pdf html
plot_augmented_pathway html
plot_change html
smallest_pathway html
** building package indices
** installing vignettes
** testing if installed package can be loaded from temporary location
** testing if installed package can be loaded from final location
** testing if installed package keeps a record of temporary installation path
install for x64
* installing *source* package 'mirIntegrator' ...
** testing if installed package can be loaded
* MD5 sums
packaged installation of 'mirIntegrator' as mirIntegrator_1.18.0.zip
* DONE (mirIntegrator)