| Back to Multiple platform build/check report for BioC 3.11 |
|
This page was generated on 2020-10-17 11:58:57 -0400 (Sat, 17 Oct 2020).
| TO THE DEVELOPERS/MAINTAINERS OF THE microbiome PACKAGE: Please make sure to use the following settings in order to reproduce any error or warning you see on this page. |
| Package 1076/1905 | Hostname | OS / Arch | INSTALL | BUILD | CHECK | BUILD BIN | ||||||
| microbiome 1.10.0 Leo Lahti
| malbec2 | Linux (Ubuntu 18.04.4 LTS) / x86_64 | OK | OK | OK | |||||||
| tokay2 | Windows Server 2012 R2 Standard / x64 | OK | OK | OK | OK | |||||||
| machv2 | macOS 10.14.6 Mojave / x86_64 | OK | OK | [ OK ] | OK |
| Package: microbiome |
| Version: 1.10.0 |
| Command: /Library/Frameworks/R.framework/Versions/Current/Resources/bin/R CMD check --install=check:microbiome.install-out.txt --library=/Library/Frameworks/R.framework/Versions/Current/Resources/library --no-vignettes --timings microbiome_1.10.0.tar.gz |
| StartedAt: 2020-10-17 03:01:09 -0400 (Sat, 17 Oct 2020) |
| EndedAt: 2020-10-17 03:05:54 -0400 (Sat, 17 Oct 2020) |
| EllapsedTime: 284.5 seconds |
| RetCode: 0 |
| Status: OK |
| CheckDir: microbiome.Rcheck |
| Warnings: 0 |
############################################################################## ############################################################################## ### ### Running command: ### ### /Library/Frameworks/R.framework/Versions/Current/Resources/bin/R CMD check --install=check:microbiome.install-out.txt --library=/Library/Frameworks/R.framework/Versions/Current/Resources/library --no-vignettes --timings microbiome_1.10.0.tar.gz ### ############################################################################## ############################################################################## * using log directory ‘/Users/biocbuild/bbs-3.11-bioc/meat/microbiome.Rcheck’ * using R version 4.0.3 (2020-10-10) * using platform: x86_64-apple-darwin17.0 (64-bit) * using session charset: UTF-8 * using option ‘--no-vignettes’ * checking for file ‘microbiome/DESCRIPTION’ ... OK * checking extension type ... Package * this is package ‘microbiome’ version ‘1.10.0’ * package encoding: UTF-8 * checking package namespace information ... OK * checking package dependencies ... OK * checking if this is a source package ... OK * checking if there is a namespace ... OK * checking for hidden files and directories ... OK * checking for portable file names ... OK * checking for sufficient/correct file permissions ... OK * checking whether package ‘microbiome’ can be installed ... OK * checking installed package size ... OK * checking package directory ... OK * checking ‘build’ directory ... OK * checking DESCRIPTION meta-information ... OK * checking top-level files ... OK * checking for left-over files ... OK * checking index information ... OK * checking package subdirectories ... OK * checking R files for non-ASCII characters ... OK * checking R files for syntax errors ... OK * checking whether the package can be loaded ... OK * checking whether the package can be loaded with stated dependencies ... OK * checking whether the package can be unloaded cleanly ... OK * checking whether the namespace can be loaded with stated dependencies ... OK * checking whether the namespace can be unloaded cleanly ... OK * checking dependencies in R code ... OK * checking S3 generic/method consistency ... OK * checking replacement functions ... OK * checking foreign function calls ... OK * checking R code for possible problems ... OK * checking Rd files ... OK * checking Rd metadata ... OK * checking Rd cross-references ... OK * checking for missing documentation entries ... OK * checking for code/documentation mismatches ... OK * checking Rd \usage sections ... OK * checking Rd contents ... OK * checking for unstated dependencies in examples ... OK * checking contents of ‘data’ directory ... OK * checking data for non-ASCII characters ... OK * checking data for ASCII and uncompressed saves ... OK * checking files in ‘vignettes’ ... OK * checking examples ... OK * checking for unstated dependencies in ‘tests’ ... OK * checking tests ... Running ‘testthat.R’ OK * checking for unstated dependencies in vignettes ... OK * checking package vignettes in ‘inst/doc’ ... OK * checking running R code from vignettes ... SKIPPED * checking re-building of vignette outputs ... SKIPPED * checking PDF version of manual ... OK * DONE Status: OK
microbiome.Rcheck/00install.out
############################################################################## ############################################################################## ### ### Running command: ### ### /Library/Frameworks/R.framework/Versions/Current/Resources/bin/R CMD INSTALL microbiome ### ############################################################################## ############################################################################## * installing to library ‘/Library/Frameworks/R.framework/Versions/4.0/Resources/library’ * installing *source* package ‘microbiome’ ... ** using staged installation ** R ** data ** inst ** byte-compile and prepare package for lazy loading ** help *** installing help indices ** building package indices ** installing vignettes ** testing if installed package can be loaded from temporary location ** testing if installed package can be loaded from final location ** testing if installed package keeps a record of temporary installation path * DONE (microbiome)
microbiome.Rcheck/tests/testthat.Rout
R version 4.0.3 (2020-10-10) -- "Bunny-Wunnies Freak Out"
Copyright (C) 2020 The R Foundation for Statistical Computing
Platform: x86_64-apple-darwin17.0 (64-bit)
R is free software and comes with ABSOLUTELY NO WARRANTY.
You are welcome to redistribute it under certain conditions.
Type 'license()' or 'licence()' for distribution details.
R is a collaborative project with many contributors.
Type 'contributors()' for more information and
'citation()' on how to cite R or R packages in publications.
Type 'demo()' for some demos, 'help()' for on-line help, or
'help.start()' for an HTML browser interface to help.
Type 'q()' to quit R.
> library(testthat)
> test_check("microbiome")
Loading required package: microbiome
Loading required package: phyloseq
Loading required package: ggplot2
microbiome R package (microbiome.github.com)
Copyright (C) 2011-2020 Leo Lahti,
Sudarshan Shetty et al. <microbiome.github.io>
Attaching package: 'microbiome'
The following object is masked from 'package:ggplot2':
alpha
The following object is masked from 'package:base':
transform
══ testthat results ═══════════════════════════════════════════════════════════
[ OK: 75 | SKIPPED: 1 | WARNINGS: 0 | FAILED: 0 ]
>
> proc.time()
user system elapsed
18.872 0.860 19.730
microbiome.Rcheck/microbiome-Ex.timings
| name | user | system | elapsed | |
| abundances | 0.023 | 0.002 | 0.024 | |
| aggregate_rare | 0.488 | 0.013 | 0.501 | |
| aggregate_taxa | 0.185 | 0.002 | 0.188 | |
| aggregate_top_taxa | 0.464 | 0.031 | 0.498 | |
| alpha | 0.024 | 0.004 | 0.029 | |
| associate | 0.080 | 0.008 | 0.089 | |
| baseline | 0.092 | 0.008 | 0.100 | |
| bfratio | 0.243 | 0.025 | 0.268 | |
| bimodality | 0.002 | 0.001 | 0.002 | |
| bimodality_sarle | 0.000 | 0.000 | 0.001 | |
| boxplot_abundance | 0.128 | 0.009 | 0.136 | |
| chunk_reorder | 0.001 | 0.001 | 0.001 | |
| cmat2table | 0.138 | 0.002 | 0.141 | |
| collapse_replicates | 0.082 | 0.005 | 0.086 | |
| core | 0.055 | 0.002 | 0.056 | |
| core_abundance | 0.060 | 0.004 | 0.063 | |
| core_matrix | 0 | 0 | 0 | |
| core_members | 0.014 | 0.003 | 0.016 | |
| coverage | 0.081 | 0.005 | 0.087 | |
| default_colors | 0.001 | 0.000 | 0.001 | |
| densityplot | 0 | 0 | 0 | |
| divergence | 0.855 | 0.006 | 0.862 | |
| diversities | 0.022 | 0.002 | 0.025 | |
| diversity | 0.020 | 0.003 | 0.023 | |
| dominance | 0.016 | 0.002 | 0.017 | |
| dominant | 0.037 | 0.002 | 0.039 | |
| estimate_stability | 0 | 0 | 0 | |
| evenness | 0.012 | 0.002 | 0.014 | |
| find_optima | 0.000 | 0.000 | 0.001 | |
| gktau | 0.017 | 0.001 | 0.019 | |
| global | 0.013 | 0.002 | 0.015 | |
| group_age | 0.035 | 0.002 | 0.037 | |
| group_bmi | 0.001 | 0.000 | 0.001 | |
| heat | 0.092 | 0.004 | 0.096 | |
| hotplot | 0.622 | 0.008 | 0.631 | |
| inequality | 0.036 | 0.004 | 0.040 | |
| intermediate_stability | 0.712 | 0.010 | 0.722 | |
| is_compositional | 0.097 | 0.008 | 0.105 | |
| log_modulo_skewness | 0.206 | 0.018 | 0.224 | |
| low_abundance | 0.024 | 0.004 | 0.028 | |
| map_levels | 0.079 | 0.007 | 0.086 | |
| merge_taxa2 | 0.046 | 0.003 | 0.049 | |
| meta | 0.011 | 0.002 | 0.012 | |
| microbiome-package | 0.015 | 0.001 | 0.017 | |
| multimodality | 0 | 0 | 0 | |
| neat | 0.139 | 0.004 | 0.144 | |
| neatsort | 0.278 | 0.004 | 0.282 | |
| plot_atlas | 0.073 | 0.004 | 0.076 | |
| plot_composition | 0.354 | 0.005 | 0.360 | |
| plot_core | 0.122 | 0.007 | 0.130 | |
| plot_density | 0.068 | 0.002 | 0.071 | |
| plot_frequencies | 0.038 | 0.002 | 0.040 | |
| plot_landscape | 1.402 | 0.015 | 1.419 | |
| plot_regression | 0.289 | 0.003 | 0.292 | |
| plot_taxa_prevalence | 0.414 | 0.005 | 0.420 | |
| plot_tipping | 0.184 | 0.004 | 0.188 | |
| potential_analysis | 0.057 | 0.002 | 0.059 | |
| potential_univariate | 0 | 0 | 0 | |
| prevalence | 0.018 | 0.002 | 0.021 | |
| quiet | 0.001 | 0.000 | 0.001 | |
| rare | 0.032 | 0.002 | 0.034 | |
| rare_abundance | 0.058 | 0.003 | 0.061 | |
| rare_members | 0.014 | 0.002 | 0.016 | |
| rarity | 0.146 | 0.005 | 0.151 | |
| read_biom2phyloseq | 0.001 | 0.000 | 0.000 | |
| read_csv2phyloseq | 0 | 0 | 0 | |
| read_mothur2phyloseq | 0.000 | 0.000 | 0.001 | |
| read_phyloseq | 0 | 0 | 0 | |
| readcount | 0.012 | 0.002 | 0.013 | |
| remove_samples | 0.022 | 0.002 | 0.024 | |
| remove_taxa | 0.030 | 0.002 | 0.032 | |
| richness | 0.019 | 0.002 | 0.021 | |
| spreadplot | 0.129 | 0.003 | 0.132 | |
| summarize_phyloseq | 0.028 | 0.002 | 0.030 | |
| taxa | 0.010 | 0.002 | 0.012 | |
| time_normalize | 0.060 | 0.002 | 0.062 | |
| time_sort | 0.285 | 0.003 | 0.289 | |
| timesplit | 0.212 | 0.002 | 0.216 | |
| top | 0.012 | 0.002 | 0.013 | |
| top_taxa | 0.011 | 0.001 | 0.013 | |
| transform | 0.102 | 0.003 | 0.105 | |
| write_phyloseq | 0.001 | 0.000 | 0.000 | |
| ztransform | 0.001 | 0.000 | 0.000 | |