| Back to Multiple platform build/check report for BioC 3.11 |
|
This page was generated on 2020-10-17 11:57:03 -0400 (Sat, 17 Oct 2020).
| TO THE DEVELOPERS/MAINTAINERS OF THE metagene PACKAGE: Please make sure to use the following settings in order to reproduce any error or warning you see on this page. |
| Package 1035/1905 | Hostname | OS / Arch | INSTALL | BUILD | CHECK | BUILD BIN | ||||||
| metagene 2.20.0 Charles Joly Beauparlant
| malbec2 | Linux (Ubuntu 18.04.4 LTS) / x86_64 | OK | OK | OK | |||||||
| tokay2 | Windows Server 2012 R2 Standard / x64 | OK | OK | OK | [ OK ] | |||||||
| machv2 | macOS 10.14.6 Mojave / x86_64 | OK | OK | OK | OK |
| Package: metagene |
| Version: 2.20.0 |
| Command: rm -rf metagene.buildbin-libdir && mkdir metagene.buildbin-libdir && C:\Users\biocbuild\bbs-3.11-bioc\R\bin\R.exe CMD INSTALL --merge-multiarch --build --library=metagene.buildbin-libdir metagene_2.20.0.tar.gz |
| StartedAt: 2020-10-17 10:58:49 -0400 (Sat, 17 Oct 2020) |
| EndedAt: 2020-10-17 11:00:37 -0400 (Sat, 17 Oct 2020) |
| EllapsedTime: 107.6 seconds |
| RetCode: 0 |
| Status: OK |
| PackageFile: metagene_2.20.0.zip |
| PackageFileSize: 6.414 MiB |
##############################################################################
##############################################################################
###
### Running command:
###
### rm -rf metagene.buildbin-libdir && mkdir metagene.buildbin-libdir && C:\Users\biocbuild\bbs-3.11-bioc\R\bin\R.exe CMD INSTALL --merge-multiarch --build --library=metagene.buildbin-libdir metagene_2.20.0.tar.gz
###
##############################################################################
##############################################################################
install for i386
* installing *source* package 'metagene' ...
** using staged installation
** R
** data
*** moving datasets to lazyload DB
** inst
** byte-compile and prepare package for lazy loading
** help
*** installing help indices
converting help for package 'metagene'
finding HTML links ... done
Bam_Handler html
avoid_gaps_update html
bed_file_filter html
exon_by_gene_with_observed_transcripts
html
get_demo_bam_files html
get_demo_design html
get_demo_metagene html
get_demo_regions html
get_promoters_txdb html
metagene html
permutation_test html
plot_metagene html
promoters_hg18 html
promoters_hg19 html
promoters_mm10 html
promoters_mm9 html
write_bed_file_filter_result html
** building package indices
** installing vignettes
** testing if installed package can be loaded from temporary location
** testing if installed package can be loaded from final location
** testing if installed package keeps a record of temporary installation path
install for x64
* installing *source* package 'metagene' ...
** testing if installed package can be loaded
* MD5 sums
packaged installation of 'metagene' as metagene_2.20.0.zip
* DONE (metagene)