| Back to Multiple platform build/check report for BioC 3.11 | 
  | 
This page was generated on 2020-10-17 11:55:04 -0400 (Sat, 17 Oct 2020).
| TO THE DEVELOPERS/MAINTAINERS OF THE mcaGUI PACKAGE: Please make sure to use the following settings in order to reproduce any error or warning you see on this page. | 
| Package 1007/1905 | Hostname | OS / Arch | INSTALL | BUILD | CHECK | BUILD BIN | ||||||
| mcaGUI 1.36.0 Wade K. Copeland 
  | malbec2 | Linux (Ubuntu 18.04.4 LTS) / x86_64 | [ ERROR ] | OK | ERROR | |||||||
| tokay2 | Windows Server 2012 R2 Standard / x64 | ERROR | OK | ERROR | ERROR | |||||||
| machv2 | macOS 10.14.6 Mojave / x86_64 | ERROR | OK | ERROR | ERROR | 
| Package: mcaGUI | 
| Version: 1.36.0 | 
| Command: /home/biocbuild/bbs-3.11-bioc/R/bin/R CMD INSTALL mcaGUI | 
| StartedAt: 2020-10-16 17:34:50 -0400 (Fri, 16 Oct 2020) | 
| EndedAt: 2020-10-16 17:34:51 -0400 (Fri, 16 Oct 2020) | 
| EllapsedTime: 0.5 seconds | 
| RetCode: 1 | 
| Status: ERROR | 
############################################################################## ############################################################################## ### ### Running command: ### ### /home/biocbuild/bbs-3.11-bioc/R/bin/R CMD INSTALL mcaGUI ### ############################################################################## ############################################################################## * installing to library ‘/home/biocbuild/bbs-3.11-bioc/R/library’ ERROR: dependencies ‘gWidgets’, ‘gWidgetsRGtk2’ are not available for package ‘mcaGUI’ * removing ‘/home/biocbuild/bbs-3.11-bioc/R/library/mcaGUI’