| Back to Multiple platform build/check report for BioC 3.11 |
|
This page was generated on 2020-10-17 11:58:49 -0400 (Sat, 17 Oct 2020).
| TO THE DEVELOPERS/MAINTAINERS OF THE lpNet PACKAGE: Please make sure to use the following settings in order to reproduce any error or warning you see on this page. |
| Package 958/1905 | Hostname | OS / Arch | INSTALL | BUILD | CHECK | BUILD BIN | ||||||
| lpNet 2.20.0 Lars Kaderali
| malbec2 | Linux (Ubuntu 18.04.4 LTS) / x86_64 | OK | OK | WARNINGS | |||||||
| tokay2 | Windows Server 2012 R2 Standard / x64 | OK | OK | WARNINGS | OK | |||||||
| machv2 | macOS 10.14.6 Mojave / x86_64 | OK | [ OK ] | WARNINGS | OK |
| Package: lpNet |
| Version: 2.20.0 |
| Command: /Library/Frameworks/R.framework/Versions/Current/Resources/bin/R CMD build --keep-empty-dirs --no-resave-data lpNet |
| StartedAt: 2020-10-16 19:45:09 -0400 (Fri, 16 Oct 2020) |
| EndedAt: 2020-10-16 19:46:00 -0400 (Fri, 16 Oct 2020) |
| EllapsedTime: 51.1 seconds |
| RetCode: 0 |
| Status: OK |
| PackageFile: lpNet_2.20.0.tar.gz |
| PackageFileSize: 188.5 KiB |
##############################################################################
##############################################################################
###
### Running command:
###
### /Library/Frameworks/R.framework/Versions/Current/Resources/bin/R CMD build --keep-empty-dirs --no-resave-data lpNet
###
##############################################################################
##############################################################################
* checking for file ‘lpNet/DESCRIPTION’ ... OK
* preparing ‘lpNet’:
* checking DESCRIPTION meta-information ... OK
* installing the package to build vignettes
* creating vignettes ... OK
Warning: ‘inst/doc’ files
‘vignette_lpNet.Rnw’, ‘vignette_lpNet.pdf’, ‘vignette_lpNet.R’
ignored as vignettes have been rebuilt.
Run R CMD build with --no-build-vignettes to prevent rebuilding.
* checking for LF line-endings in source and make files and shell scripts
* checking for empty or unneeded directories
* building ‘lpNet_2.20.0.tar.gz’