| Back to Multiple platform build/check report for BioC 3.11 | 
 | 
This page was generated on 2020-10-17 11:56:58 -0400 (Sat, 17 Oct 2020).
| TO THE DEVELOPERS/MAINTAINERS OF THE logitT PACKAGE: Please make sure to use the following settings in order to reproduce any error or warning you see on this page. | 
| Package 950/1905 | Hostname | OS / Arch | INSTALL | BUILD | CHECK | BUILD BIN | ||||||
| logitT 1.46.0 Tobias Guennel 
 | malbec2 | Linux (Ubuntu 18.04.4 LTS) / x86_64 | OK | OK | OK |  | ||||||
| tokay2 | Windows Server 2012 R2 Standard / x64 | [ OK ] | OK | OK | OK |  | ||||||
| machv2 | macOS 10.14.6 Mojave / x86_64 | OK | OK | OK | OK |  | 
| Package: logitT | 
| Version: 1.46.0 | 
| Command: C:\cygwin\bin\curl.exe -O https://malbec2.bioconductor.org/BBS/3.11/bioc/src/contrib/logitT_1.46.0.tar.gz && rm -rf logitT.buildbin-libdir && mkdir logitT.buildbin-libdir && C:\Users\biocbuild\bbs-3.11-bioc\R\bin\R.exe CMD INSTALL --merge-multiarch --build --library=logitT.buildbin-libdir logitT_1.46.0.tar.gz && C:\Users\biocbuild\bbs-3.11-bioc\R\bin\R.exe CMD INSTALL logitT_1.46.0.zip && rm logitT_1.46.0.tar.gz logitT_1.46.0.zip | 
| StartedAt: 2020-10-16 16:54:19 -0400 (Fri, 16 Oct 2020) | 
| EndedAt: 2020-10-16 16:55:01 -0400 (Fri, 16 Oct 2020) | 
| EllapsedTime: 41.8 seconds | 
| RetCode: 0 | 
| Status: OK | 
##############################################################################
##############################################################################
###
### Running command:
###
###   C:\cygwin\bin\curl.exe -O https://malbec2.bioconductor.org/BBS/3.11/bioc/src/contrib/logitT_1.46.0.tar.gz && rm -rf logitT.buildbin-libdir && mkdir logitT.buildbin-libdir && C:\Users\biocbuild\bbs-3.11-bioc\R\bin\R.exe CMD INSTALL --merge-multiarch --build --library=logitT.buildbin-libdir logitT_1.46.0.tar.gz && C:\Users\biocbuild\bbs-3.11-bioc\R\bin\R.exe CMD INSTALL logitT_1.46.0.zip && rm logitT_1.46.0.tar.gz logitT_1.46.0.zip
###
##############################################################################
##############################################################################
  % Total    % Received % Xferd  Average Speed   Time    Time     Time  Current
                                 Dload  Upload   Total   Spent    Left  Speed
  0     0    0     0    0     0      0      0 --:--:-- --:--:-- --:--:--     0
100  7937  100  7937    0     0   132k      0 --:--:-- --:--:-- --:--:--  149k
install for i386
* installing *source* package 'logitT' ...
** using staged installation
** libs
"C:/rtools40/mingw32/bin/"gcc  -I"C:/Users/BIOCBU~1/BBS-3~1.11-/R/include" -DNDEBUG     -I"C:/extsoft/include"     -O2 -Wall  -std=gnu99 -mfpmath=sse -msse2 -mstackrealign -c logitTfunc.c -o logitTfunc.o
C:/rtools40/mingw32/bin/gcc -shared -s -static-libgcc -o logitT.dll tmp.def logitTfunc.o -LC:/extsoft/lib/i386 -LC:/extsoft/lib -LC:/Users/BIOCBU~1/BBS-3~1.11-/R/bin/i386 -lR
installing to C:/Users/biocbuild/bbs-3.11-bioc/meat/logitT.buildbin-libdir/00LOCK-logitT/00new/logitT/libs/i386
** R
** byte-compile and prepare package for lazy loading
** help
*** installing help indices
  converting help for package 'logitT'
    finding HTML links ... done
    logitTAffy                              html  
** building package indices
** installing vignettes
** testing if installed package can be loaded from temporary location
** testing if installed package can be loaded from final location
** testing if installed package keeps a record of temporary installation path
install for x64
* installing *source* package 'logitT' ...
** libs
"C:/rtools40/mingw64/bin/"gcc  -I"C:/Users/BIOCBU~1/BBS-3~1.11-/R/include" -DNDEBUG     -I"C:/extsoft/include"     -O2 -Wall  -std=gnu99 -mfpmath=sse -msse2 -mstackrealign -c logitTfunc.c -o logitTfunc.o
C:/rtools40/mingw64/bin/gcc -shared -s -static-libgcc -o logitT.dll tmp.def logitTfunc.o -LC:/extsoft/lib/x64 -LC:/extsoft/lib -LC:/Users/BIOCBU~1/BBS-3~1.11-/R/bin/x64 -lR
installing to C:/Users/biocbuild/bbs-3.11-bioc/meat/logitT.buildbin-libdir/logitT/libs/x64
** testing if installed package can be loaded
* MD5 sums
packaged installation of 'logitT' as logitT_1.46.0.zip
* DONE (logitT)
* installing to library 'C:/Users/biocbuild/bbs-3.11-bioc/R/library'
package 'logitT' successfully unpacked and MD5 sums checked