| Back to Multiple platform build/check report for BioC 3.11 |
|
This page was generated on 2020-10-17 11:56:57 -0400 (Sat, 17 Oct 2020).
| TO THE DEVELOPERS/MAINTAINERS OF THE lmdme PACKAGE: Please make sure to use the following settings in order to reproduce any error or warning you see on this page. |
| Package 945/1905 | Hostname | OS / Arch | INSTALL | BUILD | CHECK | BUILD BIN | ||||||
| lmdme 1.30.0 Cristobal Fresno
| malbec2 | Linux (Ubuntu 18.04.4 LTS) / x86_64 | OK | OK | WARNINGS | |||||||
| tokay2 | Windows Server 2012 R2 Standard / x64 | OK | OK | WARNINGS | [ OK ] | |||||||
| machv2 | macOS 10.14.6 Mojave / x86_64 | OK | OK | WARNINGS | OK |
| Package: lmdme |
| Version: 1.30.0 |
| Command: rm -rf lmdme.buildbin-libdir && mkdir lmdme.buildbin-libdir && C:\Users\biocbuild\bbs-3.11-bioc\R\bin\R.exe CMD INSTALL --merge-multiarch --build --library=lmdme.buildbin-libdir lmdme_1.30.0.tar.gz |
| StartedAt: 2020-10-17 10:53:11 -0400 (Sat, 17 Oct 2020) |
| EndedAt: 2020-10-17 10:53:59 -0400 (Sat, 17 Oct 2020) |
| EllapsedTime: 48.0 seconds |
| RetCode: 0 |
| Status: OK |
| PackageFile: lmdme_1.30.0.zip |
| PackageFileSize: 602.4 KiB |
##############################################################################
##############################################################################
###
### Running command:
###
### rm -rf lmdme.buildbin-libdir && mkdir lmdme.buildbin-libdir && C:\Users\biocbuild\bbs-3.11-bioc\R\bin\R.exe CMD INSTALL --merge-multiarch --build --library=lmdme.buildbin-libdir lmdme_1.30.0.tar.gz
###
##############################################################################
##############################################################################
install for i386
* installing *source* package 'lmdme' ...
** using staged installation
** R
** inst
** byte-compile and prepare package for lazy loading
Creating a new generic function for 'p.adjust' in package 'lmdme'
** help
*** installing help indices
converting help for package 'lmdme'
finding HTML links ... done
lmdme-Class html
finding level-2 HTML links ... done
lmdme-biplot html
lmdme-decomposition html
lmdme-getters html
lmdme-leverage html
lmdme-lmdme html
lmdme-loadingplot html
lmdme-padjust html
lmdme-permutation html
lmdme-printshow html
lmdme-screeplot html
** building package indices
** installing vignettes
** testing if installed package can be loaded from temporary location
** testing if installed package can be loaded from final location
** testing if installed package keeps a record of temporary installation path
install for x64
* installing *source* package 'lmdme' ...
** testing if installed package can be loaded
* MD5 sums
packaged installation of 'lmdme' as lmdme_1.30.0.zip
* DONE (lmdme)