| Back to Multiple platform build/check report for BioC 3.11 |
|
This page was generated on 2020-10-17 11:56:54 -0400 (Sat, 17 Oct 2020).
| TO THE DEVELOPERS/MAINTAINERS OF THE iSEE PACKAGE: Please make sure to use the following settings in order to reproduce any error or warning you see on this page. |
| Package 895/1905 | Hostname | OS / Arch | INSTALL | BUILD | CHECK | BUILD BIN | ||||||
| iSEE 2.0.0 Charlotte Soneson
| malbec2 | Linux (Ubuntu 18.04.4 LTS) / x86_64 | OK | OK | WARNINGS | |||||||
| tokay2 | Windows Server 2012 R2 Standard / x64 | OK | OK | WARNINGS | [ OK ] | |||||||
| machv2 | macOS 10.14.6 Mojave / x86_64 | OK | OK | WARNINGS | OK |
| Package: iSEE |
| Version: 2.0.0 |
| Command: rm -rf iSEE.buildbin-libdir && mkdir iSEE.buildbin-libdir && C:\Users\biocbuild\bbs-3.11-bioc\R\bin\R.exe CMD INSTALL --merge-multiarch --build --library=iSEE.buildbin-libdir iSEE_2.0.0.tar.gz |
| StartedAt: 2020-10-17 10:49:52 -0400 (Sat, 17 Oct 2020) |
| EndedAt: 2020-10-17 10:51:02 -0400 (Sat, 17 Oct 2020) |
| EllapsedTime: 69.6 seconds |
| RetCode: 0 |
| Status: OK |
| PackageFile: iSEE_2.0.0.zip |
| PackageFileSize: 12.44 MiB |
##############################################################################
##############################################################################
###
### Running command:
###
### rm -rf iSEE.buildbin-libdir && mkdir iSEE.buildbin-libdir && C:\Users\biocbuild\bbs-3.11-bioc\R\bin\R.exe CMD INSTALL --merge-multiarch --build --library=iSEE.buildbin-libdir iSEE_2.0.0.tar.gz
###
##############################################################################
##############################################################################
install for i386
* installing *source* package 'iSEE' ...
** using staged installation
** R
** inst
** byte-compile and prepare package for lazy loading
** help
*** installing help indices
converting help for package 'iSEE'
finding HTML links ... done
ColumnDataPlot-class html
finding level-2 HTML links ... done
ColumnDataTable-class html
ColumnDotPlot-class html
ColumnTable-class html
ComplexHeatmapPlot-class html
DotPlot-class html
ExperimentColorMap-class html
FeatureAssayPlot-class html
Panel-class html
ReducedDimensionPlot-class html
RowDataPlot-class html
RowDataTable-class html
RowDotPlot-class html
RowTable-class html
SampleAssayPlot-class html
Table-class html
addMultiSelectionCommands html
aes-utils html
checkColormapCompatibility html
class-utils html
collapseBox html
createCustomPanels html
createLandingPage html
createProtectedParameterObservers html
dataframe-utils html
defaults html
filterDTColumn html
getEncodedName html
getPanelColor html
iSEE-pkg html
iSEE html
iSEEOptions html
interface-generics html
jitterPoints html
labs-utils html
lassoPoints html
manage_commands html
metadata-plot-generics html
multi-select-generics html
observer-generics html
output-generics html
plot-generics html
plot-utils html
processMultiSelections html
retrieveOutput html
setCachedCommonInfo html
setup-generics html
single-select-generics html
subsetPointsByGrid html
synchronizeAssays html
table-generics html
track-utils html
visual-parameters-generics html
** building package indices
** installing vignettes
** testing if installed package can be loaded from temporary location
** testing if installed package can be loaded from final location
** testing if installed package keeps a record of temporary installation path
install for x64
* installing *source* package 'iSEE' ...
** testing if installed package can be loaded
* MD5 sums
packaged installation of 'iSEE' as iSEE_2.0.0.zip
* DONE (iSEE)