| Back to Multiple platform build/check report for BioC 3.11 |
|
This page was generated on 2020-10-17 11:54:54 -0400 (Sat, 17 Oct 2020).
| TO THE DEVELOPERS/MAINTAINERS OF THE graph PACKAGE: Please make sure to use the following settings in order to reproduce any error or warning you see on this page. |
| Package 771/1905 | Hostname | OS / Arch | INSTALL | BUILD | CHECK | BUILD BIN | ||||||
| graph 1.66.0 Bioconductor Package Maintainer
| malbec2 | Linux (Ubuntu 18.04.4 LTS) / x86_64 | OK | OK | [ OK ] | |||||||
| tokay2 | Windows Server 2012 R2 Standard / x64 | OK | OK | OK | OK | |||||||
| machv2 | macOS 10.14.6 Mojave / x86_64 | OK | OK | OK | OK |
| Package: graph |
| Version: 1.66.0 |
| Command: /home/biocbuild/bbs-3.11-bioc/R/bin/R CMD check --install=check:graph.install-out.txt --library=/home/biocbuild/bbs-3.11-bioc/R/library --no-vignettes --timings graph_1.66.0.tar.gz |
| StartedAt: 2020-10-17 01:59:13 -0400 (Sat, 17 Oct 2020) |
| EndedAt: 2020-10-17 02:00:17 -0400 (Sat, 17 Oct 2020) |
| EllapsedTime: 63.9 seconds |
| RetCode: 0 |
| Status: OK |
| CheckDir: graph.Rcheck |
| Warnings: 0 |
############################################################################## ############################################################################## ### ### Running command: ### ### /home/biocbuild/bbs-3.11-bioc/R/bin/R CMD check --install=check:graph.install-out.txt --library=/home/biocbuild/bbs-3.11-bioc/R/library --no-vignettes --timings graph_1.66.0.tar.gz ### ############################################################################## ############################################################################## * using log directory ‘/home/biocbuild/bbs-3.11-bioc/meat/graph.Rcheck’ * using R version 4.0.3 (2020-10-10) * using platform: x86_64-pc-linux-gnu (64-bit) * using session charset: UTF-8 * using option ‘--no-vignettes’ * checking for file ‘graph/DESCRIPTION’ ... OK * this is package ‘graph’ version ‘1.66.0’ * checking package namespace information ... OK * checking package dependencies ... OK * checking if this is a source package ... OK * checking if there is a namespace ... OK * checking for hidden files and directories ... OK * checking for portable file names ... OK * checking for sufficient/correct file permissions ... OK * checking whether package ‘graph’ can be installed ... OK * checking installed package size ... OK * checking package directory ... OK * checking ‘build’ directory ... OK * checking DESCRIPTION meta-information ... OK * checking top-level files ... OK * checking for left-over files ... OK * checking index information ... OK * checking package subdirectories ... OK * checking R files for non-ASCII characters ... OK * checking R files for syntax errors ... OK * checking whether the package can be loaded ... OK * checking whether the package can be loaded with stated dependencies ... OK * checking whether the package can be unloaded cleanly ... OK * checking whether the namespace can be loaded with stated dependencies ... OK * checking whether the namespace can be unloaded cleanly ... OK * checking dependencies in R code ... NOTE 'library' or 'require' call to ‘package’ in package code. Please use :: or requireNamespace() instead. See section 'Suggested packages' in the 'Writing R Extensions' manual. * checking S3 generic/method consistency ... OK * checking replacement functions ... OK * checking foreign function calls ... OK * checking R code for possible problems ... OK * checking Rd files ... OK * checking Rd metadata ... OK * checking Rd cross-references ... OK * checking for missing documentation entries ... OK * checking for code/documentation mismatches ... OK * checking Rd \usage sections ... OK * checking Rd contents ... OK * checking for unstated dependencies in examples ... OK * checking contents of ‘data’ directory ... OK * checking data for non-ASCII characters ... OK * checking data for ASCII and uncompressed saves ... OK * checking line endings in C/C++/Fortran sources/headers ... OK * checking line endings in Makefiles ... OK * checking compilation flags in Makevars ... OK * checking for GNU extensions in Makefiles ... OK * checking for portable use of $(BLAS_LIBS) and $(LAPACK_LIBS) ... OK * checking use of PKG_*FLAGS in Makefiles ... OK * checking include directives in Makefiles ... OK * checking compiled code ... NOTE Note: information on .o files is not available * checking files in ‘vignettes’ ... OK * checking examples ... OK * checking for unstated dependencies in ‘tests’ ... OK * checking tests ... Running ‘graph_unit_tests.R’ OK * checking for unstated dependencies in vignettes ... OK * checking package vignettes in ‘inst/doc’ ... OK * checking running R code from vignettes ... SKIPPED * checking re-building of vignette outputs ... SKIPPED * checking PDF version of manual ... OK * DONE Status: 2 NOTEs See ‘/home/biocbuild/bbs-3.11-bioc/meat/graph.Rcheck/00check.log’ for details.
graph.Rcheck/00install.out
############################################################################## ############################################################################## ### ### Running command: ### ### /home/biocbuild/bbs-3.11-bioc/R/bin/R CMD INSTALL graph ### ############################################################################## ############################################################################## * installing to library ‘/home/biocbuild/bbs-3.11-bioc/R/library’ * installing *source* package ‘graph’ ... ** using staged installation ** libs gcc -I"/home/biocbuild/bbs-3.11-bioc/R/include" -DNDEBUG -I/usr/local/include -fpic -g -O2 -Wall -c graph.c -o graph.o gcc -shared -L/home/biocbuild/bbs-3.11-bioc/R/lib -L/usr/local/lib -o graph.so graph.o -L/home/biocbuild/bbs-3.11-bioc/R/lib -lR mv graph.so BioC_graph.so installing to /home/biocbuild/bbs-3.11-bioc/R/library/00LOCK-graph/00new/graph/libs ** R ** data ** inst ** byte-compile and prepare package for lazy loading ** help *** installing help indices ** building package indices ** installing vignettes ** testing if installed package can be loaded from temporary location ** checking absolute paths in shared objects and dynamic libraries ** testing if installed package can be loaded from final location ** testing if installed package keeps a record of temporary installation path * DONE (graph)
graph.Rcheck/tests/graph_unit_tests.Rout
R version 4.0.3 (2020-10-10) -- "Bunny-Wunnies Freak Out"
Copyright (C) 2020 The R Foundation for Statistical Computing
Platform: x86_64-pc-linux-gnu (64-bit)
R is free software and comes with ABSOLUTELY NO WARRANTY.
You are welcome to redistribute it under certain conditions.
Type 'license()' or 'licence()' for distribution details.
R is a collaborative project with many contributors.
Type 'contributors()' for more information and
'citation()' on how to cite R or R packages in publications.
Type 'demo()' for some demos, 'help()' for on-line help, or
'help.start()' for an HTML browser interface to help.
Type 'q()' to quit R.
> BiocGenerics:::testPackage("graph", pattern="_test.R")
Attaching package: 'BiocGenerics'
The following objects are masked from 'package:parallel':
clusterApply, clusterApplyLB, clusterCall, clusterEvalQ,
clusterExport, clusterMap, parApply, parCapply, parLapply,
parLapplyLB, parRapply, parSapply, parSapplyLB
The following objects are masked from 'package:stats':
IQR, mad, sd, var, xtabs
The following objects are masked from 'package:base':
Filter, Find, Map, Position, Reduce, anyDuplicated, append,
as.data.frame, basename, cbind, colnames, dirname, do.call,
duplicated, eval, evalq, get, grep, grepl, intersect, is.unsorted,
lapply, mapply, match, mget, order, paste, pmax, pmax.int, pmin,
pmin.int, rank, rbind, rownames, sapply, setdiff, sort, table,
tapply, union, unique, unsplit, which, which.max, which.min
RUNIT TEST PROTOCOL -- Sat Oct 17 02:00:11 2020
***********************************************
Number of test functions: 206
Number of errors: 0
Number of failures: 0
1 Test Suite :
graph RUnit Tests - 206 test functions, 0 errors, 0 failures
Number of test functions: 206
Number of errors: 0
Number of failures: 0
>
> proc.time()
user system elapsed
5.819 0.104 6.805
graph.Rcheck/graph-Ex.timings
| name | user | system | elapsed | |
| DFS | 0.054 | 0.004 | 0.058 | |
| IMCA | 0.241 | 0.008 | 0.259 | |
| MAPKsig | 0.117 | 0.003 | 0.121 | |
| MultiGraph-class | 0.149 | 0.000 | 0.149 | |
| acc-methods | 0.007 | 0.000 | 0.007 | |
| addEdge | 0.042 | 0.000 | 0.042 | |
| addNode | 0.008 | 0.000 | 0.008 | |
| adj-methods | 0.002 | 0.000 | 0.002 | |
| adjacencyMatrix | 0.002 | 0.000 | 0.002 | |
| apoptosisGraph | 0.014 | 0.000 | 0.014 | |
| attrData-class | 0.001 | 0.000 | 0.001 | |
| aveNumEdges | 0.004 | 0.000 | 0.004 | |
| biocRepos | 0.002 | 0.000 | 0.002 | |
| boundary | 0.007 | 0.000 | 0.007 | |
| calcProb | 0 | 0 | 0 | |
| calcSumProb | 0.004 | 0.000 | 0.004 | |
| clearNode | 0.011 | 0.000 | 0.011 | |
| clusterGraph-class | 0.008 | 0.000 | 0.008 | |
| clusteringCoefficient-methods | 0.028 | 0.000 | 0.028 | |
| combineNodes | 0.074 | 0.000 | 0.074 | |
| distGraph-class | 0.001 | 0.000 | 0.000 | |
| duplicatedEdges | 0 | 0 | 0 | |
| edgeMatrix | 0.005 | 0.003 | 0.008 | |
| edgeSets | 0.034 | 0.000 | 0.034 | |
| edgeWeights | 0.008 | 0.001 | 0.008 | |
| fromGXL-methods | 0.301 | 0.000 | 0.322 | |
| graph-class | 0.005 | 0.000 | 0.006 | |
| graph2SparseM | 0.144 | 0.003 | 0.146 | |
| graphAM-class | 0.013 | 0.000 | 0.013 | |
| graphBAM-class | 0.041 | 0.000 | 0.040 | |
| graphExamples | 0.006 | 0.000 | 0.006 | |
| graphNEL-class | 0.009 | 0.000 | 0.009 | |
| inEdges | 0.009 | 0.000 | 0.009 | |
| leaves | 0.018 | 0.000 | 0.018 | |
| listEdges | 0.015 | 0.000 | 0.015 | |
| matrix2Graph | 0.028 | 0.000 | 0.028 | |
| mostEdges | 0.01 | 0.00 | 0.01 | |
| numNoEdges | 0.003 | 0.000 | 0.004 | |
| pancrCaIni | 0.269 | 0.000 | 0.268 | |
| randomEGraph | 0.007 | 0.000 | 0.007 | |
| randomGraph | 0.009 | 0.000 | 0.009 | |
| randomNodeGraph | 0.000 | 0.003 | 0.004 | |
| removeEdge | 0.013 | 0.000 | 0.013 | |
| removeNode | 0.009 | 0.000 | 0.009 | |
| renderInfo-class | 0.008 | 0.000 | 0.008 | |
| reverseEdgeDirections | 0.005 | 0.000 | 0.005 | |
| simpleEdge-class | 0.000 | 0.001 | 0.001 | |
| standardLabeling | 0.092 | 0.002 | 0.094 | |
| subGraph | 0.001 | 0.000 | 0.002 | |
| toDotR-methods | 0.030 | 0.000 | 0.038 | |
| ugraph | 0.012 | 0.000 | 0.012 | |
| validGraph | 0.002 | 0.000 | 0.001 | |