Back to Multiple platform build/check report for BioC 3.11 |
|
This page was generated on 2020-01-16 13:54:13 -0500 (Thu, 16 Jan 2020).
Package 733/1818 | Hostname | OS / Arch | INSTALL | BUILD | CHECK | BUILD BIN | ||||||
gpuMagic 1.3.0 Jiefei Wang
| malbec2 | Linux (Ubuntu 18.04.3 LTS) / x86_64 | OK | ERROR | skipped | |||||||
tokay2 | Windows Server 2012 R2 Standard / x64 | ERROR | ERROR | skipped | skipped | |||||||
celaya2 | OS X 10.11.6 El Capitan / x86_64 | OK | [ OK ] | OK | OK |
Package: gpuMagic |
Version: 1.3.0 |
Command: /Library/Frameworks/R.framework/Versions/Current/Resources/bin/R CMD build --keep-empty-dirs --no-resave-data gpuMagic |
StartedAt: 2020-01-16 00:42:12 -0500 (Thu, 16 Jan 2020) |
EndedAt: 2020-01-16 00:43:19 -0500 (Thu, 16 Jan 2020) |
EllapsedTime: 67.3 seconds |
RetCode: 0 |
Status: OK |
PackageFile: gpuMagic_1.3.0.tar.gz |
PackageFileSize: 686.3 KiB |
############################################################################## ############################################################################## ### ### Running command: ### ### /Library/Frameworks/R.framework/Versions/Current/Resources/bin/R CMD build --keep-empty-dirs --no-resave-data gpuMagic ### ############################################################################## ############################################################################## * checking for file ‘gpuMagic/DESCRIPTION’ ... OK * preparing ‘gpuMagic’: * checking DESCRIPTION meta-information ... OK * cleaning src * installing the package to build vignettes * creating vignettes ... OK * cleaning src * checking for LF line-endings in source and make files and shell scripts * checking for empty or unneeded directories * building ‘gpuMagic_1.3.0.tar.gz’