| Back to Multiple platform build/check report for BioC 3.11 | 
  | 
This page was generated on 2020-10-17 11:56:44 -0400 (Sat, 17 Oct 2020).
| TO THE DEVELOPERS/MAINTAINERS OF THE goseq PACKAGE: Please make sure to use the following settings in order to reproduce any error or warning you see on this page. | 
| Package 755/1905 | Hostname | OS / Arch | INSTALL | BUILD | CHECK | BUILD BIN | ||||||
| goseq 1.40.0 Matthew Young 
  | malbec2 | Linux (Ubuntu 18.04.4 LTS) / x86_64 | OK | OK | OK | |||||||
| tokay2 | Windows Server 2012 R2 Standard / x64 | [ OK ] | OK | OK | OK | |||||||
| machv2 | macOS 10.14.6 Mojave / x86_64 | OK | OK | OK | OK | 
| Package: goseq | 
| Version: 1.40.0 | 
| Command: C:\cygwin\bin\curl.exe -O https://malbec2.bioconductor.org/BBS/3.11/bioc/src/contrib/goseq_1.40.0.tar.gz && rm -rf goseq.buildbin-libdir && mkdir goseq.buildbin-libdir && C:\Users\biocbuild\bbs-3.11-bioc\R\bin\R.exe CMD INSTALL --merge-multiarch --build --library=goseq.buildbin-libdir goseq_1.40.0.tar.gz && C:\Users\biocbuild\bbs-3.11-bioc\R\bin\R.exe CMD INSTALL goseq_1.40.0.zip && rm goseq_1.40.0.tar.gz goseq_1.40.0.zip | 
| StartedAt: 2020-10-16 19:28:39 -0400 (Fri, 16 Oct 2020) | 
| EndedAt: 2020-10-16 19:29:50 -0400 (Fri, 16 Oct 2020) | 
| EllapsedTime: 71.6 seconds | 
| RetCode: 0 | 
| Status: OK | 
##############################################################################
##############################################################################
###
### Running command:
###
###   C:\cygwin\bin\curl.exe -O https://malbec2.bioconductor.org/BBS/3.11/bioc/src/contrib/goseq_1.40.0.tar.gz && rm -rf goseq.buildbin-libdir && mkdir goseq.buildbin-libdir && C:\Users\biocbuild\bbs-3.11-bioc\R\bin\R.exe CMD INSTALL --merge-multiarch --build --library=goseq.buildbin-libdir goseq_1.40.0.tar.gz && C:\Users\biocbuild\bbs-3.11-bioc\R\bin\R.exe CMD INSTALL goseq_1.40.0.zip && rm goseq_1.40.0.tar.gz goseq_1.40.0.zip
###
##############################################################################
##############################################################################
  % Total    % Received % Xferd  Average Speed   Time    Time     Time  Current
                                 Dload  Upload   Total   Spent    Left  Speed
  0     0    0     0    0     0      0      0 --:--:-- --:--:-- --:--:--     0
100  466k  100  466k    0     0  6592k      0 --:--:-- --:--:-- --:--:-- 7291k
install for i386
* installing *source* package 'goseq' ...
** using staged installation
** R
** data
** inst
** byte-compile and prepare package for lazy loading
** help
*** installing help indices
  converting help for package 'goseq'
    finding HTML links ... done
    genes                                   html  
    getgo                                   html  
    finding level-2 HTML links ... done
    getlength                               html  
    goseq                                   html  
    makespline                              html  
    nullp                                   html  
    plotPWF                                 html  
    supportedOrganisms                      html  
** building package indices
** installing vignettes
** testing if installed package can be loaded from temporary location
** testing if installed package can be loaded from final location
** testing if installed package keeps a record of temporary installation path
install for x64
* installing *source* package 'goseq' ...
** testing if installed package can be loaded
* MD5 sums
packaged installation of 'goseq' as goseq_1.40.0.zip
* DONE (goseq)
* installing to library 'C:/Users/biocbuild/bbs-3.11-bioc/R/library'
package 'goseq' successfully unpacked and MD5 sums checked