| Back to Multiple platform build/check report for BioC 3.11 |
|
This page was generated on 2020-10-17 11:56:39 -0400 (Sat, 17 Oct 2020).
| TO THE DEVELOPERS/MAINTAINERS OF THE geneplotter PACKAGE: Please make sure to use the following settings in order to reproduce any error or warning you see on this page. |
| Package 687/1905 | Hostname | OS / Arch | INSTALL | BUILD | CHECK | BUILD BIN | ||||||
| geneplotter 1.66.0 Bioconductor Package Maintainer
| malbec2 | Linux (Ubuntu 18.04.4 LTS) / x86_64 | OK | OK | OK | |||||||
| tokay2 | Windows Server 2012 R2 Standard / x64 | OK | OK | OK | [ OK ] | |||||||
| machv2 | macOS 10.14.6 Mojave / x86_64 | OK | OK | OK | OK |
| Package: geneplotter |
| Version: 1.66.0 |
| Command: rm -rf geneplotter.buildbin-libdir && mkdir geneplotter.buildbin-libdir && C:\Users\biocbuild\bbs-3.11-bioc\R\bin\R.exe CMD INSTALL --merge-multiarch --build --library=geneplotter.buildbin-libdir geneplotter_1.66.0.tar.gz |
| StartedAt: 2020-10-17 10:36:28 -0400 (Sat, 17 Oct 2020) |
| EndedAt: 2020-10-17 10:37:16 -0400 (Sat, 17 Oct 2020) |
| EllapsedTime: 48.3 seconds |
| RetCode: 0 |
| Status: OK |
| PackageFile: geneplotter_1.66.0.zip |
| PackageFileSize: 1.512 MiB |
##############################################################################
##############################################################################
###
### Running command:
###
### rm -rf geneplotter.buildbin-libdir && mkdir geneplotter.buildbin-libdir && C:\Users\biocbuild\bbs-3.11-bioc\R\bin\R.exe CMD INSTALL --merge-multiarch --build --library=geneplotter.buildbin-libdir geneplotter_1.66.0.tar.gz
###
##############################################################################
##############################################################################
install for i386
* installing *source* package 'geneplotter' ...
** using staged installation
** R
** data
** inst
** byte-compile and prepare package for lazy loading
** help
*** installing help indices
converting help for package 'geneplotter'
finding HTML links ... done
GetColor html
Makesense html
alongChrom html
amplicon.plot html
cColor html
cPlot html
cScale html
eset133a html
groupedHeatmap html
histStack html
imageMap html
make.chromOrd html
multiecdf html
openHtmlPage html
plotChr html
plotExpressionGraph html
plotMA html
savepng html
** building package indices
** installing vignettes
** testing if installed package can be loaded from temporary location
** testing if installed package can be loaded from final location
** testing if installed package keeps a record of temporary installation path
install for x64
* installing *source* package 'geneplotter' ...
** testing if installed package can be loaded
* MD5 sums
packaged installation of 'geneplotter' as geneplotter_1.66.0.zip
* DONE (geneplotter)