| Back to Multiple platform build/check report for BioC 3.11 |
|
This page was generated on 2020-10-17 11:56:38 -0400 (Sat, 17 Oct 2020).
| TO THE DEVELOPERS/MAINTAINERS OF THE gemini PACKAGE: Please make sure to use the following settings in order to reproduce any error or warning you see on this page. |
| Package 670/1905 | Hostname | OS / Arch | INSTALL | BUILD | CHECK | BUILD BIN | ||||||
| gemini 1.2.0 Sidharth Jain
| malbec2 | Linux (Ubuntu 18.04.4 LTS) / x86_64 | OK | OK | OK | |||||||
| tokay2 | Windows Server 2012 R2 Standard / x64 | OK | OK | OK | [ OK ] | |||||||
| machv2 | macOS 10.14.6 Mojave / x86_64 | OK | OK | OK | OK |
| Package: gemini |
| Version: 1.2.0 |
| Command: rm -rf gemini.buildbin-libdir && mkdir gemini.buildbin-libdir && C:\Users\biocbuild\bbs-3.11-bioc\R\bin\R.exe CMD INSTALL --merge-multiarch --build --library=gemini.buildbin-libdir gemini_1.2.0.tar.gz |
| StartedAt: 2020-10-17 10:35:07 -0400 (Sat, 17 Oct 2020) |
| EndedAt: 2020-10-17 10:35:51 -0400 (Sat, 17 Oct 2020) |
| EllapsedTime: 43.8 seconds |
| RetCode: 0 |
| Status: OK |
| PackageFile: gemini_1.2.0.zip |
| PackageFileSize: 4.163 MiB |
##############################################################################
##############################################################################
###
### Running command:
###
### rm -rf gemini.buildbin-libdir && mkdir gemini.buildbin-libdir && C:\Users\biocbuild\bbs-3.11-bioc\R\bin\R.exe CMD INSTALL --merge-multiarch --build --library=gemini.buildbin-libdir gemini_1.2.0.tar.gz
###
##############################################################################
##############################################################################
install for i386
* installing *source* package 'gemini' ...
** using staged installation
** R
** data
** inst
** byte-compile and prepare package for lazy loading
** help
*** installing help indices
converting help for package 'gemini'
finding HTML links ... done
Input html
Model html
Sgene2Pguides_hash html
Sguide2Pguides_hash html
compound html
counts html
dot-median_normalize html
gemini_boxplot html
gemini_calculate_lfc html
gemini_create_input html
gemini_inference html
gemini_initialize html
gemini_parallelization html
gemini_plot_mae html
gemini_prepare_input html
gemini_score html
guide.annotation html
initialize_s html
initialize_tau html
initialize_x html
initialize_y html
pipe html
sample.replicate.annotation html
update_mae html
update_s_pb html
update_tau_pb html
update_x_pb html
update_y_pb html
** building package indices
** installing vignettes
** testing if installed package can be loaded from temporary location
** testing if installed package can be loaded from final location
** testing if installed package keeps a record of temporary installation path
install for x64
* installing *source* package 'gemini' ...
** testing if installed package can be loaded
* MD5 sums
packaged installation of 'gemini' as gemini_1.2.0.zip
* DONE (gemini)