| Back to Multiple platform build/check report for BioC 3.11 |
|
This page was generated on 2020-10-17 11:56:37 -0400 (Sat, 17 Oct 2020).
| TO THE DEVELOPERS/MAINTAINERS OF THE gCrisprTools PACKAGE: Please make sure to use the following settings in order to reproduce any error or warning you see on this page. |
| Package 661/1905 | Hostname | OS / Arch | INSTALL | BUILD | CHECK | BUILD BIN | ||||||
| gCrisprTools 1.16.0 Russell Bainer
| malbec2 | Linux (Ubuntu 18.04.4 LTS) / x86_64 | OK | OK | WARNINGS | |||||||
| tokay2 | Windows Server 2012 R2 Standard / x64 | OK | OK | WARNINGS | [ OK ] | |||||||
| machv2 | macOS 10.14.6 Mojave / x86_64 | OK | OK | WARNINGS | OK |
| Package: gCrisprTools |
| Version: 1.16.0 |
| Command: rm -rf gCrisprTools.buildbin-libdir && mkdir gCrisprTools.buildbin-libdir && C:\Users\biocbuild\bbs-3.11-bioc\R\bin\R.exe CMD INSTALL --merge-multiarch --build --library=gCrisprTools.buildbin-libdir gCrisprTools_1.16.0.tar.gz |
| StartedAt: 2020-10-17 10:34:28 -0400 (Sat, 17 Oct 2020) |
| EndedAt: 2020-10-17 10:36:00 -0400 (Sat, 17 Oct 2020) |
| EllapsedTime: 91.7 seconds |
| RetCode: 0 |
| Status: OK |
| PackageFile: gCrisprTools_1.16.0.zip |
| PackageFileSize: 8.119 MiB |
##############################################################################
##############################################################################
###
### Running command:
###
### rm -rf gCrisprTools.buildbin-libdir && mkdir gCrisprTools.buildbin-libdir && C:\Users\biocbuild\bbs-3.11-bioc\R\bin\R.exe CMD INSTALL --merge-multiarch --build --library=gCrisprTools.buildbin-libdir gCrisprTools_1.16.0.tar.gz
###
##############################################################################
##############################################################################
install for i386
* installing *source* package 'gCrisprTools' ...
** using staged installation
** R
** data
** inst
** byte-compile and prepare package for lazy loading
** help
*** installing help indices
converting help for package 'gCrisprTools'
finding HTML links ... done
aln html
ann html
appendDateAndExt html
ct.CAT html
ct.DirectionalTests html
ct.GCbias html
ct.GREATdb html
ct.PRC html
ct.PantherPathwayEnrichment html
ct.ROC html
ct.RRAaPvals html
ct.RRAalpha html
ct.RRAalphaBatch html
ct.alignmentChart html
ct.alphaBeta html
ct.applyAlpha html
ct.buildSE html
ct.drawColorLegend html
ct.drawFlat html
ct.ecdf html
ct.exprsColor html
ct.filterReads html
ct.gRNARankByReplicate html
ct.generateResults html
ct.getPanther html
Rd warning: C:/Users/biocbuild/bbs-3.11-bioc/tmpdir/RtmpWcYrMh/R.INSTALL36ec14486464/gCrisprTools/man/ct.getPanther.Rd:16: file link 'PANTHER.db' in package 'PANTHER.db' does not exist and so has been treated as a topic
ct.guideCDF html
ct.inputCheck html
ct.makeContrastReport html
ct.makeQCReport html
ct.makeReport html
ct.makeRhoNull html
ct.multiGSEA html
ct.normalizeBySlope html
ct.normalizeFQ html
ct.normalizeFactoredQuantiles html
ct.normalizeGuides html
ct.normalizeMedians html
ct.normalizeNTC html
ct.normalizeSpline html
ct.numcores html
ct.prepareAnnotation html
ct.preprocessFit html
ct.rawCountDensities html
ct.resultCheck html
ct.signalSummary html
ct.stackGuides html
ct.targetSetEnrichment html
ct.topTargets html
ct.viewControls html
ct.viewGuides html
dir.writable html
es html
essential.genes html
fit html
gCrisprTools-package html
initOutDir html
renderReport html
resultsDF html
** building package indices
** installing vignettes
** testing if installed package can be loaded from temporary location
** testing if installed package can be loaded from final location
** testing if installed package keeps a record of temporary installation path
install for x64
* installing *source* package 'gCrisprTools' ...
** testing if installed package can be loaded
* MD5 sums
packaged installation of 'gCrisprTools' as gCrisprTools_1.16.0.zip
* DONE (gCrisprTools)