| Back to Multiple platform build/check report for BioC 3.11 | 
 | 
This page was generated on 2020-10-17 11:54:47 -0400 (Sat, 17 Oct 2020).
| TO THE DEVELOPERS/MAINTAINERS OF THE gCMAPWeb PACKAGE: Please make sure to use the following settings in order to reproduce any error or warning you see on this page. | 
| Package 660/1905 | Hostname | OS / Arch | INSTALL | BUILD | CHECK | BUILD BIN | ||||||
| Thomas Sandmann 
 | malbec2 | Linux (Ubuntu 18.04.4 LTS) / x86_64 | [ ERROR ] | ERROR | skipped | |||||||
| tokay2 | Windows Server 2012 R2 Standard / x64 | ...NOT SUPPORTED... | ||||||||||
| machv2 | macOS 10.14.6 Mojave / x86_64 | ERROR | ERROR | skipped | skipped | |||||||
| Package: gCMAPWeb | 
| Version: 1.28.0 | 
| Command: /home/biocbuild/bbs-3.11-bioc/R/bin/R CMD INSTALL gCMAPWeb | 
| StartedAt: 2020-10-16 16:36:32 -0400 (Fri, 16 Oct 2020) | 
| EndedAt: 2020-10-16 16:36:33 -0400 (Fri, 16 Oct 2020) | 
| EllapsedTime: 0.5 seconds | 
| RetCode: 1 | 
| Status: ERROR | 
##############################################################################
##############################################################################
###
### Running command:
###
###   /home/biocbuild/bbs-3.11-bioc/R/bin/R CMD INSTALL gCMAPWeb
###
##############################################################################
##############################################################################
* installing to library ‘/home/biocbuild/bbs-3.11-bioc/R/library’
* installing *source* package ‘gCMAPWeb’ ...
** using staged installation
** R
Error in .install_package_code_files(".", instdir) : 
files in '/home/biocbuild/bbs-3.11-bioc/meat/gCMAPWeb/R' missing from 'Collate' field:
  zzz.R
ERROR: unable to collate and parse R files for package ‘gCMAPWeb’
* removing ‘/home/biocbuild/bbs-3.11-bioc/R/library/gCMAPWeb’