| Back to Multiple platform build/check report for BioC 3.11 |
|
This page was generated on 2020-10-17 11:56:34 -0400 (Sat, 17 Oct 2020).
| TO THE DEVELOPERS/MAINTAINERS OF THE flowcatchR PACKAGE: Please make sure to use the following settings in order to reproduce any error or warning you see on this page. |
| Package 605/1905 | Hostname | OS / Arch | INSTALL | BUILD | CHECK | BUILD BIN | ||||||
| flowcatchR 1.22.0 Federico Marini
| malbec2 | Linux (Ubuntu 18.04.4 LTS) / x86_64 | OK | OK | OK | |||||||
| tokay2 | Windows Server 2012 R2 Standard / x64 | OK | OK | OK | [ OK ] | |||||||
| machv2 | macOS 10.14.6 Mojave / x86_64 | OK | OK | OK | OK |
| Package: flowcatchR |
| Version: 1.22.0 |
| Command: rm -rf flowcatchR.buildbin-libdir && mkdir flowcatchR.buildbin-libdir && C:\Users\biocbuild\bbs-3.11-bioc\R\bin\R.exe CMD INSTALL --merge-multiarch --build --library=flowcatchR.buildbin-libdir flowcatchR_1.22.0.tar.gz |
| StartedAt: 2020-10-17 10:30:39 -0400 (Sat, 17 Oct 2020) |
| EndedAt: 2020-10-17 10:31:32 -0400 (Sat, 17 Oct 2020) |
| EllapsedTime: 53.3 seconds |
| RetCode: 0 |
| Status: OK |
| PackageFile: flowcatchR_1.22.0.zip |
| PackageFileSize: 7.59 MiB |
##############################################################################
##############################################################################
###
### Running command:
###
### rm -rf flowcatchR.buildbin-libdir && mkdir flowcatchR.buildbin-libdir && C:\Users\biocbuild\bbs-3.11-bioc\R\bin\R.exe CMD INSTALL --merge-multiarch --build --library=flowcatchR.buildbin-libdir flowcatchR_1.22.0.tar.gz
###
##############################################################################
##############################################################################
install for i386
* installing *source* package 'flowcatchR' ...
** using staged installation
** R
** data
*** moving datasets to lazyload DB
** inst
** byte-compile and prepare package for lazy loading
** help
*** installing help indices
converting help for package 'flowcatchR'
finding HTML links ... done
Frames-class html
Frames html
KinematicsFeatures-class html
KinematicsFeaturesSet-class html
LinkedParticleSet-class html
MesenteriumSubset html
ParticleSet-class html
TrajectorySet-class html
add.contours html
addParticles html
axesInfo html
candidate.platelets html
channel.Frames html
computeMSD html
crop.Frames html
finding level-2 HTML links ... done
export.Frames html
export.particles html
extractKinematics.traj html
flowcatchR-pkg html
initialize.LinkedParticleSet html
inspect.Frames html
kinematics html
length.Frames html
link.particles html
matchTrajToParticles html
normalizeFrames html
particles html
penaltyFunctionGenerator html
plot.TrajectorySet html
plot2D.TrajectorySet html
preprocess.Frames html
read.Frames html
read.particles html
repmat html
rotate.Frames html
select.Frames html
select.particles html
shinyFlow html
show-Frames-method html
show-KinematicsFeatures-method html
show-KinematicsFeaturesSet-method html
show-LinkedParticleSet-method html
show-ParticleSet-method html
show-TrajectorySet-method html
snap html
toCartesianCoords html
toPolarCoords html
trajectories html
** building package indices
** installing vignettes
** testing if installed package can be loaded from temporary location
** testing if installed package can be loaded from final location
** testing if installed package keeps a record of temporary installation path
install for x64
* installing *source* package 'flowcatchR' ...
** testing if installed package can be loaded
* MD5 sums
packaged installation of 'flowcatchR' as flowcatchR_1.22.0.zip
* DONE (flowcatchR)