| Back to Multiple platform build/check report for BioC 3.11 |
|
This page was generated on 2020-10-17 11:58:30 -0400 (Sat, 17 Oct 2020).
| TO THE DEVELOPERS/MAINTAINERS OF THE flowViz PACKAGE: Please make sure to use the following settings in order to reproduce any error or warning you see on this page. |
| Package 631/1905 | Hostname | OS / Arch | INSTALL | BUILD | CHECK | BUILD BIN | ||||||
| flowViz 1.52.0 Mike Jiang
| malbec2 | Linux (Ubuntu 18.04.4 LTS) / x86_64 | OK | OK | OK | |||||||
| tokay2 | Windows Server 2012 R2 Standard / x64 | OK | OK | WARNINGS | OK | |||||||
| machv2 | macOS 10.14.6 Mojave / x86_64 | OK | [ OK ] | OK | OK |
| Package: flowViz |
| Version: 1.52.0 |
| Command: /Library/Frameworks/R.framework/Versions/Current/Resources/bin/R CMD build --keep-empty-dirs --no-resave-data flowViz |
| StartedAt: 2020-10-16 19:01:39 -0400 (Fri, 16 Oct 2020) |
| EndedAt: 2020-10-16 19:02:28 -0400 (Fri, 16 Oct 2020) |
| EllapsedTime: 48.8 seconds |
| RetCode: 0 |
| Status: OK |
| PackageFile: flowViz_1.52.0.tar.gz |
| PackageFileSize: 259.3 KiB |
##############################################################################
##############################################################################
###
### Running command:
###
### /Library/Frameworks/R.framework/Versions/Current/Resources/bin/R CMD build --keep-empty-dirs --no-resave-data flowViz
###
##############################################################################
##############################################################################
* checking for file ‘flowViz/DESCRIPTION’ ... OK
* preparing ‘flowViz’:
* checking DESCRIPTION meta-information ... OK
* installing the package to build vignettes
* creating vignettes ... OK
Warning: ‘inst/doc’ file
‘filters.html’
ignored as vignettes have been rebuilt.
Run R CMD build with --no-build-vignettes to prevent rebuilding.
* checking for LF line-endings in source and make files and shell scripts
* checking for empty or unneeded directories
* building ‘flowViz_1.52.0.tar.gz’