| Back to Multiple platform build/check report for BioC 3.11 |
|
This page was generated on 2020-10-17 11:56:35 -0400 (Sat, 17 Oct 2020).
| TO THE DEVELOPERS/MAINTAINERS OF THE flowFit PACKAGE: Please make sure to use the following settings in order to reproduce any error or warning you see on this page. |
| Package 613/1905 | Hostname | OS / Arch | INSTALL | BUILD | CHECK | BUILD BIN | ||||||
| flowFit 1.26.0 Davide Rambaldi
| malbec2 | Linux (Ubuntu 18.04.4 LTS) / x86_64 | ERROR | ERROR | skipped | |||||||
| tokay2 | Windows Server 2012 R2 Standard / x64 | ERROR | [ ERROR ] | skipped | skipped | |||||||
| machv2 | macOS 10.14.6 Mojave / x86_64 | ERROR | ERROR | skipped | skipped |
| Package: flowFit |
| Version: 1.26.0 |
| Command: chmod a+r flowFit -R && C:\Users\biocbuild\bbs-3.11-bioc\R\bin\R.exe CMD build --keep-empty-dirs --no-resave-data flowFit |
| StartedAt: 2020-10-16 21:42:46 -0400 (Fri, 16 Oct 2020) |
| EndedAt: 2020-10-16 21:42:52 -0400 (Fri, 16 Oct 2020) |
| EllapsedTime: 6.1 seconds |
| RetCode: 1 |
| Status: ERROR |
| PackageFile: flowFit_1.26.0.tar.gz |
| PackageFileSize: 45.25 KiB |
##############################################################################
##############################################################################
###
### Running command:
###
### chmod a+r flowFit -R && C:\Users\biocbuild\bbs-3.11-bioc\R\bin\R.exe CMD build --keep-empty-dirs --no-resave-data flowFit
###
##############################################################################
##############################################################################
* checking for file 'flowFit/DESCRIPTION' ... OK
* preparing 'flowFit':
* checking DESCRIPTION meta-information ... OK
* installing the package to build vignettes
-----------------------------------
* installing *source* package 'flowFit' ...
** using staged installation
** R
** demo
** inst
** byte-compile and prepare package for lazy loading
Error: object 'Data' is not exported by 'namespace:flowCore'
Execution halted
ERROR: lazy loading failed for package 'flowFit'
* removing 'C:/Users/biocbuild/bbs-3.11-bioc/tmpdir/RtmpIFRCUf/Rinst21307a135fe/flowFit'
-----------------------------------
ERROR: package installation failed