| Back to Multiple platform build/check report for BioC 3.11 | 
 | 
This page was generated on 2020-10-17 11:54:45 -0400 (Sat, 17 Oct 2020).
| TO THE DEVELOPERS/MAINTAINERS OF THE flowDensity PACKAGE: Please make sure to use the following settings in order to reproduce any error or warning you see on this page. | 
| Package 612/1905 | Hostname | OS / Arch | INSTALL | BUILD | CHECK | BUILD BIN | ||||||
| flowDensity 1.22.0 Mehrnoush Malek 
 | malbec2 | Linux (Ubuntu 18.04.4 LTS) / x86_64 | OK | [ OK ] | WARNINGS |  | ||||||
| tokay2 | Windows Server 2012 R2 Standard / x64 | OK | OK | WARNINGS | OK |  | ||||||
| machv2 | macOS 10.14.6 Mojave / x86_64 | OK | OK | WARNINGS | OK |  | 
| Package: flowDensity | 
| Version: 1.22.0 | 
| Command: /home/biocbuild/bbs-3.11-bioc/R/bin/R CMD build --keep-empty-dirs --no-resave-data flowDensity | 
| StartedAt: 2020-10-16 19:12:17 -0400 (Fri, 16 Oct 2020) | 
| EndedAt: 2020-10-16 19:12:53 -0400 (Fri, 16 Oct 2020) | 
| EllapsedTime: 36.0 seconds | 
| RetCode: 0 | 
| Status: OK | 
| PackageFile: flowDensity_1.22.0.tar.gz | 
| PackageFileSize: 5.923 MiB | 
##############################################################################
##############################################################################
###
### Running command:
###
###   /home/biocbuild/bbs-3.11-bioc/R/bin/R CMD build --keep-empty-dirs --no-resave-data flowDensity
###
##############################################################################
##############################################################################
* checking for file ‘flowDensity/DESCRIPTION’ ... OK
* preparing ‘flowDensity’:
* checking DESCRIPTION meta-information ... OK
Warning: bad markup (extra space?) at plotDens.Rd:62:19
* installing the package to build vignettes
* creating vignettes ... OK
Warning: ‘inst/doc’ file
    ‘flowDensity.R’
  ignored as vignettes have been rebuilt.
  Run R CMD build with --no-build-vignettes to prevent rebuilding.
* checking for LF line-endings in source and make files and shell scripts
* checking for empty or unneeded directories
* building ‘flowDensity_1.22.0.tar.gz’