| Back to Multiple platform build/check report for BioC 3.11 |
|
This page was generated on 2020-10-17 11:54:44 -0400 (Sat, 17 Oct 2020).
| TO THE DEVELOPERS/MAINTAINERS OF THE fcoex PACKAGE: Please make sure to use the following settings in order to reproduce any error or warning you see on this page. |
| Package 589/1905 | Hostname | OS / Arch | INSTALL | BUILD | CHECK | BUILD BIN | ||||||
| fcoex 1.2.0 Tiago Lubiana
| malbec2 | Linux (Ubuntu 18.04.4 LTS) / x86_64 | OK | [ OK ] | WARNINGS | |||||||
| tokay2 | Windows Server 2012 R2 Standard / x64 | OK | OK | WARNINGS | OK | |||||||
| machv2 | macOS 10.14.6 Mojave / x86_64 | OK | OK | WARNINGS | OK |
| Package: fcoex |
| Version: 1.2.0 |
| Command: /home/biocbuild/bbs-3.11-bioc/R/bin/R CMD build --keep-empty-dirs --no-resave-data fcoex |
| StartedAt: 2020-10-16 19:09:47 -0400 (Fri, 16 Oct 2020) |
| EndedAt: 2020-10-16 19:12:12 -0400 (Fri, 16 Oct 2020) |
| EllapsedTime: 145.0 seconds |
| RetCode: 0 |
| Status: OK |
| PackageFile: fcoex_1.2.0.tar.gz |
| PackageFileSize: 2.078 MiB |
############################################################################## ############################################################################## ### ### Running command: ### ### /home/biocbuild/bbs-3.11-bioc/R/bin/R CMD build --keep-empty-dirs --no-resave-data fcoex ### ############################################################################## ############################################################################## * checking for file ‘fcoex/DESCRIPTION’ ... OK * preparing ‘fcoex’: * checking DESCRIPTION meta-information ... OK * installing the package to build vignettes * creating vignettes ... OK * checking for LF line-endings in source and make files and shell scripts * checking for empty or unneeded directories NB: this package now depends on R (>= 3.5.0) WARNING: Added dependency on R >= 3.5.0 because serialized objects in serialize/load version 3 cannot be read in older versions of R. File(s) containing such objects: ‘fcoex/data/fc.rda’ ‘fcoex/data/mini_pbmc3k.rda’ * building ‘fcoex_1.2.0.tar.gz’