| Back to Multiple platform build/check report for BioC 3.11 |
|
This page was generated on 2020-10-17 11:56:32 -0400 (Sat, 17 Oct 2020).
| TO THE DEVELOPERS/MAINTAINERS OF THE erccdashboard PACKAGE: Please make sure to use the following settings in order to reproduce any error or warning you see on this page. |
| Package 561/1905 | Hostname | OS / Arch | INSTALL | BUILD | CHECK | BUILD BIN | ||||||
| erccdashboard 1.22.0 Sarah Munro
| malbec2 | Linux (Ubuntu 18.04.4 LTS) / x86_64 | OK | OK | OK | |||||||
| tokay2 | Windows Server 2012 R2 Standard / x64 | OK | OK | OK | [ OK ] | |||||||
| machv2 | macOS 10.14.6 Mojave / x86_64 | OK | OK | OK | OK |
| Package: erccdashboard |
| Version: 1.22.0 |
| Command: rm -rf erccdashboard.buildbin-libdir && mkdir erccdashboard.buildbin-libdir && C:\Users\biocbuild\bbs-3.11-bioc\R\bin\R.exe CMD INSTALL --merge-multiarch --build --library=erccdashboard.buildbin-libdir erccdashboard_1.22.0.tar.gz |
| StartedAt: 2020-10-17 10:26:57 -0400 (Sat, 17 Oct 2020) |
| EndedAt: 2020-10-17 10:27:54 -0400 (Sat, 17 Oct 2020) |
| EllapsedTime: 57.0 seconds |
| RetCode: 0 |
| Status: OK |
| PackageFile: erccdashboard_1.22.0.zip |
| PackageFileSize: 2.174 MiB |
##############################################################################
##############################################################################
###
### Running command:
###
### rm -rf erccdashboard.buildbin-libdir && mkdir erccdashboard.buildbin-libdir && C:\Users\biocbuild\bbs-3.11-bioc\R\bin\R.exe CMD INSTALL --merge-multiarch --build --library=erccdashboard.buildbin-libdir erccdashboard_1.22.0.tar.gz
###
##############################################################################
##############################################################################
install for i386
* installing *source* package 'erccdashboard' ...
** using staged installation
** R
** data
*** moving datasets to lazyload DB
** inst
** byte-compile and prepare package for lazy loading
** help
*** installing help indices
converting help for package 'erccdashboard'
finding HTML links ... done
ERCC html
ERCCDef html
ERCCMix1and2 html
MET.CTL.countDat html
MET.CTL.totalReads html
SEQC.Example html
UHRR.HBRR.arrayDat html
UHRR.HBRR.countDat html
UHRR.HBRR.totalReads html
annotLODR html
dynRangePlot html
erccROC html
estLODR html
est_r_m html
geneExprTest html
initDat html
maSignal html
runDashboard html
saveERCCPlots html
** building package indices
** installing vignettes
** testing if installed package can be loaded from temporary location
** testing if installed package can be loaded from final location
** testing if installed package keeps a record of temporary installation path
install for x64
* installing *source* package 'erccdashboard' ...
** testing if installed package can be loaded
* MD5 sums
packaged installation of 'erccdashboard' as erccdashboard_1.22.0.zip
* DONE (erccdashboard)