| Back to Multiple platform build/check report for BioC 3.11 | 
  | 
This page was generated on 2020-10-17 11:58:23 -0400 (Sat, 17 Oct 2020).
| TO THE DEVELOPERS/MAINTAINERS OF THE diffuStats PACKAGE: Please make sure to use the following settings in order to reproduce any error or warning you see on this page. | 
| Package 476/1905 | Hostname | OS / Arch | INSTALL | BUILD | CHECK | BUILD BIN | ||||||
| diffuStats 1.8.0 Sergio Picart-Armada 
  | malbec2 | Linux (Ubuntu 18.04.4 LTS) / x86_64 | OK | OK | WARNINGS | |||||||
| tokay2 | Windows Server 2012 R2 Standard / x64 | OK | OK | WARNINGS | OK | |||||||
| machv2 | macOS 10.14.6 Mojave / x86_64 | [ OK ] | OK | WARNINGS | OK | 
| Package: diffuStats | 
| Version: 1.8.0 | 
| Command: /Library/Frameworks/R.framework/Versions/Current/Resources/bin/R CMD INSTALL diffuStats | 
| StartedAt: 2020-10-16 16:30:40 -0400 (Fri, 16 Oct 2020) | 
| EndedAt: 2020-10-16 16:31:32 -0400 (Fri, 16 Oct 2020) | 
| EllapsedTime: 51.7 seconds | 
| RetCode: 0 | 
| Status: OK | 
##############################################################################
##############################################################################
###
### Running command:
###
###   /Library/Frameworks/R.framework/Versions/Current/Resources/bin/R CMD INSTALL diffuStats
###
##############################################################################
##############################################################################
* installing to library ‘/Library/Frameworks/R.framework/Versions/4.0/Resources/library’
* installing *source* package ‘diffuStats’ ...
** using staged installation
** libs
clang++ -mmacosx-version-min=10.13 -std=gnu++11 -I"/Library/Frameworks/R.framework/Resources/include" -DNDEBUG  -I'/Library/Frameworks/R.framework/Versions/4.0/Resources/library/Rcpp/include' -I'/Library/Frameworks/R.framework/Versions/4.0/Resources/library/RcppArmadillo/include' -I'/Library/Frameworks/R.framework/Versions/4.0/Resources/library/RcppParallel/include' -I/usr/local/include   -fPIC  -Wall -g -O2  -c RcppExports.cpp -o RcppExports.o
clang++ -mmacosx-version-min=10.13 -std=gnu++11 -I"/Library/Frameworks/R.framework/Resources/include" -DNDEBUG  -I'/Library/Frameworks/R.framework/Versions/4.0/Resources/library/Rcpp/include' -I'/Library/Frameworks/R.framework/Versions/4.0/Resources/library/RcppArmadillo/include' -I'/Library/Frameworks/R.framework/Versions/4.0/Resources/library/RcppParallel/include' -I/usr/local/include   -fPIC  -Wall -g -O2  -c diffuse_parallel.cpp -o diffuse_parallel.o
diffuse_parallel.cpp:28:48: warning: 'acquire_chunked<double>' is deprecated [-Wdeprecated-declarations]
  arma::access::rw(res.values) = arma::memory::acquire_chunked<double>(x.size() + 1);
                                               ^
/Library/Frameworks/R.framework/Versions/4.0/Resources/library/RcppArmadillo/include/armadillo_bits/memory.hpp:115:1: note: 'acquire_chunked<double>' has been explicitly marked deprecated here
arma_deprecated
^
/Library/Frameworks/R.framework/Versions/4.0/Resources/library/RcppArmadillo/include/armadillo_bits/compiler_setup.hpp:286:44: note: expanded from macro 'arma_deprecated'
    #define arma_deprecated __attribute__((__deprecated__))
                                           ^
diffuse_parallel.cpp:32:53: warning: 'acquire_chunked<unsigned int>' is deprecated [-Wdeprecated-declarations]
  arma::access::rw(res.row_indices) = arma::memory::acquire_chunked<arma::uword>(i.size() + 1);
                                                    ^
/Library/Frameworks/R.framework/Versions/4.0/Resources/library/RcppArmadillo/include/armadillo_bits/memory.hpp:115:1: note: 'acquire_chunked<unsigned int>' has been explicitly marked deprecated here
arma_deprecated
^
/Library/Frameworks/R.framework/Versions/4.0/Resources/library/RcppArmadillo/include/armadillo_bits/compiler_setup.hpp:286:44: note: expanded from macro 'arma_deprecated'
    #define arma_deprecated __attribute__((__deprecated__))
                                           ^
2 warnings generated.
clang -mmacosx-version-min=10.13 -I"/Library/Frameworks/R.framework/Resources/include" -DNDEBUG  -I'/Library/Frameworks/R.framework/Versions/4.0/Resources/library/Rcpp/include' -I'/Library/Frameworks/R.framework/Versions/4.0/Resources/library/RcppArmadillo/include' -I'/Library/Frameworks/R.framework/Versions/4.0/Resources/library/RcppParallel/include' -I/usr/local/include   -fPIC  -Wall -g -O2  -c init.c -o init.o
clang++ -mmacosx-version-min=10.13 -std=gnu++11 -dynamiclib -Wl,-headerpad_max_install_names -undefined dynamic_lookup -single_module -multiply_defined suppress -L/Library/Frameworks/R.framework/Resources/lib -L/usr/local/lib -o diffuStats.so RcppExports.o diffuse_parallel.o init.o -F/Library/Frameworks/R.framework/.. -framework R -Wl,-framework -Wl,CoreFoundation
installing to /Library/Frameworks/R.framework/Versions/4.0/Resources/library/00LOCK-diffuStats/00new/diffuStats/libs
** R
** data
*** moving datasets to lazyload DB
** inst
** byte-compile and prepare package for lazy loading
** help
*** installing help indices
** building package indices
** installing vignettes
** testing if installed package can be loaded from temporary location
** checking absolute paths in shared objects and dynamic libraries
** testing if installed package can be loaded from final location
** testing if installed package keeps a record of temporary installation path
* DONE (diffuStats)