| Back to Multiple platform build/check report for BioC 3.11 |
|
This page was generated on 2020-10-17 11:58:22 -0400 (Sat, 17 Oct 2020).
| TO THE DEVELOPERS/MAINTAINERS OF THE dexus PACKAGE: Please make sure to use the following settings in order to reproduce any error or warning you see on this page. |
| Package 466/1905 | Hostname | OS / Arch | INSTALL | BUILD | CHECK | BUILD BIN | ||||||
| dexus 1.28.0 Guenter Klambauer
| malbec2 | Linux (Ubuntu 18.04.4 LTS) / x86_64 | OK | OK | OK | |||||||
| tokay2 | Windows Server 2012 R2 Standard / x64 | OK | OK | OK | OK | |||||||
| machv2 | macOS 10.14.6 Mojave / x86_64 | OK | OK | [ OK ] | OK |
| Package: dexus |
| Version: 1.28.0 |
| Command: /Library/Frameworks/R.framework/Versions/Current/Resources/bin/R CMD check --install=check:dexus.install-out.txt --library=/Library/Frameworks/R.framework/Versions/Current/Resources/library --no-vignettes --timings dexus_1.28.0.tar.gz |
| StartedAt: 2020-10-17 00:29:37 -0400 (Sat, 17 Oct 2020) |
| EndedAt: 2020-10-17 00:30:46 -0400 (Sat, 17 Oct 2020) |
| EllapsedTime: 68.5 seconds |
| RetCode: 0 |
| Status: OK |
| CheckDir: dexus.Rcheck |
| Warnings: 0 |
############################################################################## ############################################################################## ### ### Running command: ### ### /Library/Frameworks/R.framework/Versions/Current/Resources/bin/R CMD check --install=check:dexus.install-out.txt --library=/Library/Frameworks/R.framework/Versions/Current/Resources/library --no-vignettes --timings dexus_1.28.0.tar.gz ### ############################################################################## ############################################################################## * using log directory ‘/Users/biocbuild/bbs-3.11-bioc/meat/dexus.Rcheck’ * using R version 4.0.3 (2020-10-10) * using platform: x86_64-apple-darwin17.0 (64-bit) * using session charset: UTF-8 * using option ‘--no-vignettes’ * checking for file ‘dexus/DESCRIPTION’ ... OK * checking extension type ... Package * this is package ‘dexus’ version ‘1.28.0’ * checking package namespace information ... OK * checking package dependencies ... OK * checking if this is a source package ... OK * checking if there is a namespace ... OK * checking for hidden files and directories ... OK * checking for portable file names ... OK * checking for sufficient/correct file permissions ... OK * checking whether package ‘dexus’ can be installed ... OK * checking installed package size ... OK * checking package directory ... OK * checking ‘build’ directory ... OK * checking DESCRIPTION meta-information ... OK * checking top-level files ... OK * checking for left-over files ... OK * checking index information ... OK * checking package subdirectories ... OK * checking R files for non-ASCII characters ... OK * checking R files for syntax errors ... OK * checking whether the package can be loaded ... OK * checking whether the package can be loaded with stated dependencies ... OK * checking whether the package can be unloaded cleanly ... OK * checking whether the namespace can be loaded with stated dependencies ... OK * checking whether the namespace can be unloaded cleanly ... OK * checking dependencies in R code ... OK * checking S3 generic/method consistency ... OK * checking replacement functions ... OK * checking foreign function calls ... OK * checking R code for possible problems ... OK * checking Rd files ... OK * checking Rd metadata ... OK * checking Rd cross-references ... OK * checking for missing documentation entries ... OK * checking for code/documentation mismatches ... OK * checking Rd \usage sections ... OK * checking Rd contents ... OK * checking for unstated dependencies in examples ... OK * checking contents of ‘data’ directory ... OK * checking data for non-ASCII characters ... OK * checking data for ASCII and uncompressed saves ... OK * checking line endings in C/C++/Fortran sources/headers ... OK * checking compiled code ... NOTE Note: information on .o files is not available * checking sizes of PDF files under ‘inst/doc’ ... OK * checking files in ‘vignettes’ ... OK * checking examples ... OK * checking for unstated dependencies in vignettes ... OK * checking package vignettes in ‘inst/doc’ ... OK * checking running R code from vignettes ... SKIPPED * checking re-building of vignette outputs ... SKIPPED * checking PDF version of manual ... OK * DONE Status: 1 NOTE See ‘/Users/biocbuild/bbs-3.11-bioc/meat/dexus.Rcheck/00check.log’ for details.
dexus.Rcheck/00install.out
##############################################################################
##############################################################################
###
### Running command:
###
### /Library/Frameworks/R.framework/Versions/Current/Resources/bin/R CMD INSTALL dexus
###
##############################################################################
##############################################################################
* installing to library ‘/Library/Frameworks/R.framework/Versions/4.0/Resources/library’
* installing *source* package ‘dexus’ ...
** using staged installation
** libs
clang++ -mmacosx-version-min=10.13 -std=gnu++11 -I"/Library/Frameworks/R.framework/Resources/include" -DNDEBUG -I/usr/local/include -fPIC -Wall -g -O2 -c dexus.cpp -o dexus.o
dexus.cpp:136:15: warning: equality comparison with extraneous parentheses [-Wparentheses-equality]
if ((innerCyc==maxInnerCyc))
~~~~~~~~^~~~~~~~~~~~~
dexus.cpp:136:15: note: remove extraneous parentheses around the comparison to silence this warning
if ((innerCyc==maxInnerCyc))
~ ^ ~
dexus.cpp:136:15: note: use '=' to turn this equality comparison into an assignment
if ((innerCyc==maxInnerCyc))
^~
=
dexus.cpp:193:15: warning: unused variable 'DEFAULT_R' [-Wunused-variable]
const double DEFAULT_R = 20; // R value used when re-setting clusters
^
dexus.cpp:575:15: warning: unused variable 'DEFAULT_R' [-Wunused-variable]
const double DEFAULT_R = 20; // R value used when re-setting clusters
^
3 warnings generated.
clang++ -mmacosx-version-min=10.13 -std=gnu++11 -dynamiclib -Wl,-headerpad_max_install_names -undefined dynamic_lookup -single_module -multiply_defined suppress -L/Library/Frameworks/R.framework/Resources/lib -L/usr/local/lib -o dexus.so dexus.o -F/Library/Frameworks/R.framework/.. -framework R -Wl,-framework -Wl,CoreFoundation
installing to /Library/Frameworks/R.framework/Versions/4.0/Resources/library/00LOCK-dexus/00new/dexus/libs
** R
** data
** inst
** byte-compile and prepare package for lazy loading
** help
*** installing help indices
** building package indices
** installing vignettes
** testing if installed package can be loaded from temporary location
** checking absolute paths in shared objects and dynamic libraries
** testing if installed package can be loaded from final location
** testing if installed package keeps a record of temporary installation path
* DONE (dexus)
dexus.Rcheck/dexus-Ex.timings
| name | user | system | elapsed | |
| DEXUSResult-class | 0.002 | 0.001 | 0.004 | |
| DEXUSResult-subset | 1.535 | 0.072 | 1.608 | |
| INI | 1.543 | 0.025 | 1.570 | |
| INIThreshold-set | 0.832 | 0.018 | 0.850 | |
| accessors | 0.800 | 0.033 | 0.833 | |
| dexss | 1.550 | 0.032 | 1.583 | |
| dexus | 1.041 | 0.028 | 1.070 | |
| dexus.parallel | 0.875 | 0.018 | 0.894 | |
| getSizeNB | 0.000 | 0.000 | 0.001 | |
| normalizeData | 1.049 | 0.049 | 1.099 | |
| plot | 1.283 | 0.024 | 1.307 | |
| sort | 1.340 | 0.017 | 1.358 | |