| Back to Multiple platform build/check report for BioC 3.11 |
|
This page was generated on 2020-10-17 11:56:26 -0400 (Sat, 17 Oct 2020).
| TO THE DEVELOPERS/MAINTAINERS OF THE derfinderHelper PACKAGE: Please make sure to use the following settings in order to reproduce any error or warning you see on this page. |
| Package 456/1905 | Hostname | OS / Arch | INSTALL | BUILD | CHECK | BUILD BIN | ||||||
| derfinderHelper 1.22.0 Leonardo Collado-Torres
| malbec2 | Linux (Ubuntu 18.04.4 LTS) / x86_64 | OK | OK | OK | |||||||
| tokay2 | Windows Server 2012 R2 Standard / x64 | OK | OK | OK | [ OK ] | |||||||
| machv2 | macOS 10.14.6 Mojave / x86_64 | OK | OK | OK | OK |
| Package: derfinderHelper |
| Version: 1.22.0 |
| Command: rm -rf derfinderHelper.buildbin-libdir && mkdir derfinderHelper.buildbin-libdir && C:\Users\biocbuild\bbs-3.11-bioc\R\bin\R.exe CMD INSTALL --merge-multiarch --build --library=derfinderHelper.buildbin-libdir derfinderHelper_1.22.0.tar.gz |
| StartedAt: 2020-10-17 10:19:01 -0400 (Sat, 17 Oct 2020) |
| EndedAt: 2020-10-17 10:19:38 -0400 (Sat, 17 Oct 2020) |
| EllapsedTime: 36.9 seconds |
| RetCode: 0 |
| Status: OK |
| PackageFile: derfinderHelper_1.22.0.zip |
| PackageFileSize: 317.8 KiB |
##############################################################################
##############################################################################
###
### Running command:
###
### rm -rf derfinderHelper.buildbin-libdir && mkdir derfinderHelper.buildbin-libdir && C:\Users\biocbuild\bbs-3.11-bioc\R\bin\R.exe CMD INSTALL --merge-multiarch --build --library=derfinderHelper.buildbin-libdir derfinderHelper_1.22.0.tar.gz
###
##############################################################################
##############################################################################
install for i386
* installing *source* package 'derfinderHelper' ...
** using staged installation
** R
** inst
** byte-compile and prepare package for lazy loading
** help
*** installing help indices
converting help for package 'derfinderHelper'
finding HTML links ... done
derfinderHelper-package html
fstats.apply html
** building package indices
** installing vignettes
** testing if installed package can be loaded from temporary location
** testing if installed package can be loaded from final location
** testing if installed package keeps a record of temporary installation path
install for x64
* installing *source* package 'derfinderHelper' ...
** testing if installed package can be loaded
* MD5 sums
packaged installation of 'derfinderHelper' as derfinderHelper_1.22.0.zip
* DONE (derfinderHelper)