| Back to Multiple platform build/check report for BioC 3.11 | 
  | 
This page was generated on 2020-10-17 11:54:39 -0400 (Sat, 17 Oct 2020).
| TO THE DEVELOPERS/MAINTAINERS OF THE decompTumor2Sig PACKAGE: Please make sure to use the following settings in order to reproduce any error or warning you see on this page. | 
| Package 435/1905 | Hostname | OS / Arch | INSTALL | BUILD | CHECK | BUILD BIN | ||||||
| decompTumor2Sig 2.4.1 Rosario M. Piro 
  | malbec2 | Linux (Ubuntu 18.04.4 LTS) / x86_64 | OK | OK | [ OK ] | |||||||
| tokay2 | Windows Server 2012 R2 Standard / x64 | OK | OK | OK | OK | |||||||
| machv2 | macOS 10.14.6 Mojave / x86_64 | OK | OK | OK | OK | 
| Package: decompTumor2Sig | 
| Version: 2.4.1 | 
| Command: /home/biocbuild/bbs-3.11-bioc/R/bin/R CMD check --install=check:decompTumor2Sig.install-out.txt --library=/home/biocbuild/bbs-3.11-bioc/R/library --no-vignettes --timings decompTumor2Sig_2.4.1.tar.gz | 
| StartedAt: 2020-10-17 00:32:41 -0400 (Sat, 17 Oct 2020) | 
| EndedAt: 2020-10-17 00:40:37 -0400 (Sat, 17 Oct 2020) | 
| EllapsedTime: 476.1 seconds | 
| RetCode: 0 | 
| Status: OK | 
| CheckDir: decompTumor2Sig.Rcheck | 
| Warnings: 0 | 
##############################################################################
##############################################################################
###
### Running command:
###
###   /home/biocbuild/bbs-3.11-bioc/R/bin/R CMD check --install=check:decompTumor2Sig.install-out.txt --library=/home/biocbuild/bbs-3.11-bioc/R/library --no-vignettes --timings decompTumor2Sig_2.4.1.tar.gz
###
##############################################################################
##############################################################################
* using log directory ‘/home/biocbuild/bbs-3.11-bioc/meat/decompTumor2Sig.Rcheck’
* using R version 4.0.3 (2020-10-10)
* using platform: x86_64-pc-linux-gnu (64-bit)
* using session charset: UTF-8
* using option ‘--no-vignettes’
* checking for file ‘decompTumor2Sig/DESCRIPTION’ ... OK
* checking extension type ... Package
* this is package ‘decompTumor2Sig’ version ‘2.4.1’
* package encoding: UTF-8
* checking package namespace information ... OK
* checking package dependencies ... OK
* checking if this is a source package ... OK
* checking if there is a namespace ... OK
* checking for hidden files and directories ... OK
* checking for portable file names ... OK
* checking for sufficient/correct file permissions ... OK
* checking whether package ‘decompTumor2Sig’ can be installed ... OK
* checking installed package size ... OK
* checking package directory ... OK
* checking ‘build’ directory ... OK
* checking DESCRIPTION meta-information ... OK
* checking top-level files ... OK
* checking for left-over files ... OK
* checking index information ... OK
* checking package subdirectories ... OK
* checking R files for non-ASCII characters ... OK
* checking R files for syntax errors ... OK
* checking whether the package can be loaded ... OK
* checking whether the package can be loaded with stated dependencies ... OK
* checking whether the package can be unloaded cleanly ... OK
* checking whether the namespace can be loaded with stated dependencies ... OK
* checking whether the namespace can be unloaded cleanly ... OK
* checking dependencies in R code ... OK
* checking S3 generic/method consistency ... OK
* checking replacement functions ... OK
* checking foreign function calls ... OK
* checking R code for possible problems ... OK
* checking Rd files ... OK
* checking Rd metadata ... OK
* checking Rd cross-references ... OK
* checking for missing documentation entries ... OK
* checking for code/documentation mismatches ... OK
* checking Rd \usage sections ... OK
* checking Rd contents ... OK
* checking for unstated dependencies in examples ... OK
* checking files in ‘vignettes’ ... OK
* checking examples ... OK
Examples with CPU (user + system) or elapsed time > 5s
                            user system elapsed
plotExplainedVariance     94.949  0.000  94.981
convertGenomesFromVRanges  7.789  0.212   8.008
decomposeTumorGenomes      5.460  0.236   6.343
readGenomesFromVCF         5.011  0.108   5.771
isExposureSet              4.358  0.164   5.325
* checking for unstated dependencies in vignettes ... OK
* checking package vignettes in ‘inst/doc’ ... OK
* checking running R code from vignettes ... SKIPPED
* checking re-building of vignette outputs ... SKIPPED
* checking PDF version of manual ... OK
* DONE
Status: OK
decompTumor2Sig.Rcheck/00install.out
############################################################################## ############################################################################## ### ### Running command: ### ### /home/biocbuild/bbs-3.11-bioc/R/bin/R CMD INSTALL decompTumor2Sig ### ############################################################################## ############################################################################## * installing to library ‘/home/biocbuild/bbs-3.11-bioc/R/library’ * installing *source* package ‘decompTumor2Sig’ ... ** using staged installation ** R ** inst ** byte-compile and prepare package for lazy loading ** help *** installing help indices ** building package indices ** installing vignettes ** testing if installed package can be loaded from temporary location ** testing if installed package can be loaded from final location ** testing if installed package keeps a record of temporary installation path * DONE (decompTumor2Sig)
decompTumor2Sig.Rcheck/decompTumor2Sig-Ex.timings
| name | user | system | elapsed | |
| composeGenomesFromExposures | 0.440 | 0.012 | 1.082 | |
| computeExplainedVariance | 0.367 | 0.000 | 1.122 | |
| convertAlexandrov2Shiraishi | 0.132 | 0.008 | 0.795 | |
| convertGenomesFromVRanges | 7.789 | 0.212 | 8.008 | |
| decomposeTumorGenomes | 5.460 | 0.236 | 6.343 | |
| determineSignatureDistances | 0.180 | 0.000 | 0.833 | |
| downgradeShiraishiSignatures | 0.012 | 0.000 | 0.020 | |
| evaluateDecompositionQuality | 0.365 | 0.004 | 1.022 | |
| getGenomesFromMutFeatData | 0.887 | 0.012 | 0.906 | |
| getSignaturesFromEstParam | 0.234 | 0.008 | 0.243 | |
| isAlexandrovSet | 0.125 | 0.008 | 0.881 | |
| isExposureSet | 4.358 | 0.164 | 5.325 | |
| isShiraishiSet | 0.149 | 0.004 | 0.827 | |
| isSignatureSet | 0.116 | 0.000 | 0.770 | |
| mapSignatureSets | 0.257 | 0.000 | 0.918 | |
| plotDecomposedContribution | 0.664 | 0.004 | 1.344 | |
| plotExplainedVariance | 94.949 | 0.000 | 94.981 | |
| plotMutationDistribution | 2.362 | 0.015 | 3.077 | |
| readAlexandrovSignatures | 0.120 | 0.004 | 0.778 | |
| readGenomesFromMPF | 4.503 | 0.164 | 4.674 | |
| readGenomesFromVCF | 5.011 | 0.108 | 5.771 | |
| readShiraishiSignatures | 0.006 | 0.000 | 0.006 | |
| sameSignatureFormat | 0.163 | 0.000 | 0.824 | |