| Back to Multiple platform build/check report for BioC 3.11 |
|
This page was generated on 2020-10-17 11:56:21 -0400 (Sat, 17 Oct 2020).
| TO THE DEVELOPERS/MAINTAINERS OF THE combi PACKAGE: Please make sure to use the following settings in order to reproduce any error or warning you see on this page. |
| Package 352/1905 | Hostname | OS / Arch | INSTALL | BUILD | CHECK | BUILD BIN | ||||||
| combi 1.0.0 Joris Meys
| malbec2 | Linux (Ubuntu 18.04.4 LTS) / x86_64 | OK | OK | OK | |||||||
| tokay2 | Windows Server 2012 R2 Standard / x64 | OK | OK | OK | [ OK ] | |||||||
| machv2 | macOS 10.14.6 Mojave / x86_64 | OK | OK | OK | OK |
| Package: combi |
| Version: 1.0.0 |
| Command: rm -rf combi.buildbin-libdir && mkdir combi.buildbin-libdir && C:\Users\biocbuild\bbs-3.11-bioc\R\bin\R.exe CMD INSTALL --merge-multiarch --build --library=combi.buildbin-libdir combi_1.0.0.tar.gz |
| StartedAt: 2020-10-17 10:10:40 -0400 (Sat, 17 Oct 2020) |
| EndedAt: 2020-10-17 10:12:07 -0400 (Sat, 17 Oct 2020) |
| EllapsedTime: 86.4 seconds |
| RetCode: 0 |
| Status: OK |
| PackageFile: combi_1.0.0.zip |
| PackageFileSize: 1.28 MiB |
##############################################################################
##############################################################################
###
### Running command:
###
### rm -rf combi.buildbin-libdir && mkdir combi.buildbin-libdir && C:\Users\biocbuild\bbs-3.11-bioc\R\bin\R.exe CMD INSTALL --merge-multiarch --build --library=combi.buildbin-libdir combi_1.0.0.tar.gz
###
##############################################################################
##############################################################################
install for i386
* installing *source* package 'combi' ...
** using staged installation
** R
** data
** inst
** byte-compile and prepare package for lazy loading
** help
*** installing help indices
converting help for package 'combi'
finding HTML links ... done
addLink html
arrayMult html
buildCentMat html
buildCompMat html
buildConfMat html
buildCovMat html
buildEmptyJac html
buildMarginalOffset html
buildMu html
buildMuMargins html
buildOffsetModel html
checkAlias html
checkMeanVarTrend html
checkMonotonicity html
combi html
convPlot html
deriv2LagrangianFeatures html
deriv2LagrangianLatentVars html
deriv2LagrangianLatentVarsConstr html
derivLagrangianFeatures html
derivLagrangianLatentVars html
derivLagrangianLatentVarsConstr html
estFeatureParameters html
estIndepModel html
estLatentVars html
estMeanVarTrend html
estOff html
extractCoords html
extractData html
extractMat html
filterConfounders html
getInflLatentVar html
gramSchmidtOrth html
indentPlot html
inflPlot html
influence.combi html
jacConfounders html
jacConfoundersComp html
jacFeatures html
jacLatentVars html
jacLatentVarsConstr html
plot.combi html
polyHorner html
predictSpline html
prepareJacMat html
prepareJacMatComp html
prepareScoreMat html
print.combi html
quasiJacIndep html
quasiScoreIndep html
rowMultiply html
scaleCoords html
scoreConfounders html
scoreConfoundersComp html
scoreFeatureParams html
scoreLatentVars html
seqM html
trimOnConfounders html
zhangMetabo html
zhangMetavars html
zhangMicrobio html
** building package indices
** installing vignettes
** testing if installed package can be loaded from temporary location
** testing if installed package can be loaded from final location
** testing if installed package keeps a record of temporary installation path
install for x64
* installing *source* package 'combi' ...
** testing if installed package can be loaded
* MD5 sums
packaged installation of 'combi' as combi_1.0.0.zip
* DONE (combi)