| Back to Multiple platform build/check report for BioC 3.11 |
|
This page was generated on 2020-10-17 11:58:17 -0400 (Sat, 17 Oct 2020).
| TO THE DEVELOPERS/MAINTAINERS OF THE cola PACKAGE: Please make sure to use the following settings in order to reproduce any error or warning you see on this page. |
| Package 351/1905 | Hostname | OS / Arch | INSTALL | BUILD | CHECK | BUILD BIN | ||||||
| cola 1.4.1 Zuguang Gu
| malbec2 | Linux (Ubuntu 18.04.4 LTS) / x86_64 | OK | OK | OK | |||||||
| tokay2 | Windows Server 2012 R2 Standard / x64 | OK | OK | OK | OK | |||||||
| machv2 | macOS 10.14.6 Mojave / x86_64 | OK | OK | [ OK ] | OK |
| Package: cola |
| Version: 1.4.1 |
| Command: /Library/Frameworks/R.framework/Versions/Current/Resources/bin/R CMD check --install=check:cola.install-out.txt --library=/Library/Frameworks/R.framework/Versions/Current/Resources/library --no-vignettes --timings cola_1.4.1.tar.gz |
| StartedAt: 2020-10-16 23:55:35 -0400 (Fri, 16 Oct 2020) |
| EndedAt: 2020-10-16 23:58:27 -0400 (Fri, 16 Oct 2020) |
| EllapsedTime: 171.9 seconds |
| RetCode: 0 |
| Status: OK |
| CheckDir: cola.Rcheck |
| Warnings: 0 |
##############################################################################
##############################################################################
###
### Running command:
###
### /Library/Frameworks/R.framework/Versions/Current/Resources/bin/R CMD check --install=check:cola.install-out.txt --library=/Library/Frameworks/R.framework/Versions/Current/Resources/library --no-vignettes --timings cola_1.4.1.tar.gz
###
##############################################################################
##############################################################################
* using log directory ‘/Users/biocbuild/bbs-3.11-bioc/meat/cola.Rcheck’
* using R version 4.0.3 (2020-10-10)
* using platform: x86_64-apple-darwin17.0 (64-bit)
* using session charset: UTF-8
* using option ‘--no-vignettes’
* checking for file ‘cola/DESCRIPTION’ ... OK
* checking extension type ... Package
* this is package ‘cola’ version ‘1.4.1’
* checking package namespace information ... OK
* checking package dependencies ... OK
* checking if this is a source package ... OK
* checking if there is a namespace ... OK
* checking for hidden files and directories ... OK
* checking for portable file names ... OK
* checking for sufficient/correct file permissions ... OK
* checking whether package ‘cola’ can be installed ... OK
* checking installed package size ... OK
* checking package directory ... OK
* checking ‘build’ directory ... OK
* checking DESCRIPTION meta-information ... OK
* checking top-level files ... OK
* checking for left-over files ... OK
* checking index information ... OK
* checking package subdirectories ... OK
* checking R files for non-ASCII characters ... OK
* checking R files for syntax errors ... OK
* checking whether the package can be loaded ... OK
* checking whether the package can be loaded with stated dependencies ... OK
* checking whether the package can be unloaded cleanly ... OK
* checking whether the namespace can be loaded with stated dependencies ... OK
* checking whether the namespace can be unloaded cleanly ... OK
* checking dependencies in R code ... OK
* checking S3 generic/method consistency ... OK
* checking replacement functions ... OK
* checking foreign function calls ... OK
* checking R code for possible problems ... OK
* checking Rd files ... OK
* checking Rd metadata ... OK
* checking Rd cross-references ... OK
* checking for missing documentation entries ... OK
* checking for code/documentation mismatches ... OK
* checking Rd \usage sections ... OK
* checking Rd contents ... OK
* checking for unstated dependencies in examples ... OK
* checking contents of ‘data’ directory ... OK
* checking data for non-ASCII characters ... OK
* checking data for ASCII and uncompressed saves ... OK
* checking line endings in C/C++/Fortran sources/headers ... OK
* checking compiled code ... NOTE
Note: information on .o files is not available
* checking files in ‘vignettes’ ... OK
* checking examples ... OK
Examples with CPU (user + system) or elapsed time > 5s
user system elapsed
consensus_partition 40.794 0.199 41.027
collect_plots-ConsensusPartitionList-method 10.825 0.549 11.526
collect_classes-ConsensusPartitionList-method 5.074 0.032 5.110
* checking for unstated dependencies in ‘tests’ ... OK
* checking tests ...
Running ‘test-all.R’
OK
* checking for unstated dependencies in vignettes ... OK
* checking package vignettes in ‘inst/doc’ ... OK
* checking running R code from vignettes ... SKIPPED
* checking re-building of vignette outputs ... SKIPPED
* checking PDF version of manual ... OK
* DONE
Status: 1 NOTE
See
‘/Users/biocbuild/bbs-3.11-bioc/meat/cola.Rcheck/00check.log’
for details.
cola.Rcheck/00install.out
############################################################################## ############################################################################## ### ### Running command: ### ### /Library/Frameworks/R.framework/Versions/Current/Resources/bin/R CMD INSTALL cola ### ############################################################################## ############################################################################## * installing to library ‘/Library/Frameworks/R.framework/Versions/4.0/Resources/library’ * installing *source* package ‘cola’ ... ** using staged installation ** libs clang++ -mmacosx-version-min=10.13 -std=gnu++11 -I"/Library/Frameworks/R.framework/Resources/include" -DNDEBUG -I'/Library/Frameworks/R.framework/Versions/4.0/Resources/library/Rcpp/include' -I/usr/local/include -fPIC -Wall -g -O2 -c RcppExports.cpp -o RcppExports.o clang++ -mmacosx-version-min=10.13 -std=gnu++11 -I"/Library/Frameworks/R.framework/Resources/include" -DNDEBUG -I'/Library/Frameworks/R.framework/Versions/4.0/Resources/library/Rcpp/include' -I/usr/local/include -fPIC -Wall -g -O2 -c cal_consensus_mat.cpp -o cal_consensus_mat.o clang++ -mmacosx-version-min=10.13 -std=gnu++11 -I"/Library/Frameworks/R.framework/Resources/include" -DNDEBUG -I'/Library/Frameworks/R.framework/Versions/4.0/Resources/library/Rcpp/include' -I/usr/local/include -fPIC -Wall -g -O2 -c pdist.cpp -o pdist.o clang++ -mmacosx-version-min=10.13 -std=gnu++11 -dynamiclib -Wl,-headerpad_max_install_names -undefined dynamic_lookup -single_module -multiply_defined suppress -L/Library/Frameworks/R.framework/Resources/lib -L/usr/local/lib -o cola.so RcppExports.o cal_consensus_mat.o pdist.o -F/Library/Frameworks/R.framework/.. -framework R -Wl,-framework -Wl,CoreFoundation installing to /Library/Frameworks/R.framework/Versions/4.0/Resources/library/00LOCK-cola/00new/cola/libs ** R ** data ** inst ** byte-compile and prepare package for lazy loading ** help *** installing help indices ** building package indices ** installing vignettes ** testing if installed package can be loaded from temporary location ** checking absolute paths in shared objects and dynamic libraries ** testing if installed package can be loaded from final location ** testing if installed package keeps a record of temporary installation path * DONE (cola)
cola.Rcheck/tests/test-all.Rout
R version 4.0.3 (2020-10-10) -- "Bunny-Wunnies Freak Out"
Copyright (C) 2020 The R Foundation for Statistical Computing
Platform: x86_64-apple-darwin17.0 (64-bit)
R is free software and comes with ABSOLUTELY NO WARRANTY.
You are welcome to redistribute it under certain conditions.
Type 'license()' or 'licence()' for distribution details.
R is a collaborative project with many contributors.
Type 'contributors()' for more information and
'citation()' on how to cite R or R packages in publications.
Type 'demo()' for some demos, 'help()' for on-line help, or
'help.start()' for an HTML browser interface to help.
Type 'q()' to quit R.
> library(testthat)
> suppressWarnings(suppressPackageStartupMessages(library(cola)))
>
> test_check("cola")
══ testthat results ═══════════════════════════════════════════════════════════
[ OK: 11 | SKIPPED: 0 | WARNINGS: 0 | FAILED: 0 ]
>
>
> proc.time()
user system elapsed
3.299 0.234 3.511
cola.Rcheck/cola-Ex.timings
| name | user | system | elapsed | |
| ATC | 0.192 | 0.021 | 0.214 | |
| ConsensusPartition-class | 0.000 | 0.000 | 0.001 | |
| ConsensusPartitionList-class | 0.000 | 0.001 | 0.000 | |
| Extract.ConsensusPartitionList | 0.547 | 0.024 | 0.571 | |
| ExtractExtract.ConsensusPartitionList | 0.195 | 0.009 | 0.205 | |
| FCC | 0.179 | 0.010 | 0.189 | |
| PAC | 0.160 | 0.008 | 0.169 | |
| aPAC | 0.203 | 0.007 | 0.210 | |
| adjust_matrix | 0.008 | 0.000 | 0.008 | |
| adjust_outlier | 0.001 | 0.000 | 0.001 | |
| all_partition_methods | 0.002 | 0.000 | 0.002 | |
| all_top_value_methods | 0.000 | 0.000 | 0.001 | |
| cola | 0.054 | 0.001 | 0.056 | |
| cola_opt | 0.050 | 0.002 | 0.053 | |
| cola_report-ConsensusPartition-method | 0.000 | 0.000 | 0.001 | |
| cola_report-ConsensusPartitionList-method | 0.000 | 0.000 | 0.001 | |
| cola_report-dispatch | 0 | 0 | 0 | |
| cola_rl | 0.193 | 0.004 | 0.197 | |
| collect_classes-ConsensusPartition-method | 2.596 | 0.065 | 2.662 | |
| collect_classes-ConsensusPartitionList-method | 5.074 | 0.032 | 5.110 | |
| collect_classes-dispatch | 0 | 0 | 0 | |
| collect_plots-ConsensusPartition-method | 0.000 | 0.000 | 0.001 | |
| collect_plots-ConsensusPartitionList-method | 10.825 | 0.549 | 11.526 | |
| collect_plots-dispatch | 0 | 0 | 0 | |
| collect_stats-ConsensusPartition-method | 0.000 | 0.001 | 0.000 | |
| collect_stats-ConsensusPartitionList-method | 0.791 | 0.040 | 0.832 | |
| collect_stats-dispatch | 0 | 0 | 0 | |
| colnames-ConsensusPartition-method | 0.000 | 0.000 | 0.001 | |
| colnames-ConsensusPartitionList-method | 0.000 | 0.000 | 0.001 | |
| colnames-dispatch | 0.000 | 0.001 | 0.001 | |
| compare_signatures-ConsensusPartition-method | 0.001 | 0.000 | 0.000 | |
| concordance | 0.133 | 0.003 | 0.137 | |
| consensus_heatmap-ConsensusPartition-method | 0.471 | 0.010 | 0.483 | |
| consensus_partition | 40.794 | 0.199 | 41.027 | |
| correspond_between_rankings | 0.058 | 0.003 | 0.061 | |
| correspond_between_two_rankings | 0.031 | 0.001 | 0.033 | |
| dim.ConsensusPartition | 0 | 0 | 0 | |
| dim.ConsensusPartitionList | 0 | 0 | 0 | |
| dimension_reduction-ConsensusPartition-method | 2.070 | 0.048 | 2.123 | |
| dimension_reduction-dispatch | 0.000 | 0.000 | 0.001 | |
| dimension_reduction-matrix-method | 0.001 | 0.000 | 0.001 | |
| find_best_km | 0.000 | 0.000 | 0.001 | |
| functional_enrichment-ANY-method | 0.000 | 0.001 | 0.001 | |
| functional_enrichment-ConsensusPartition-method | 0.000 | 0.000 | 0.001 | |
| functional_enrichment-ConsensusPartitionList-method | 0.001 | 0.000 | 0.001 | |
| functional_enrichment-dispatch | 0.000 | 0.000 | 0.001 | |
| get_anno-ConsensusPartition-method | 0.000 | 0.001 | 0.001 | |
| get_anno-ConsensusPartitionList-method | 0.001 | 0.000 | 0.001 | |
| get_anno-dispatch | 0.000 | 0.000 | 0.001 | |
| get_anno_col-ConsensusPartition-method | 0.000 | 0.000 | 0.001 | |
| get_anno_col-ConsensusPartitionList-method | 0.000 | 0.001 | 0.001 | |
| get_anno_col-dispatch | 0.001 | 0.000 | 0.001 | |
| get_classes-ConsensusPartition-method | 0.162 | 0.008 | 0.171 | |
| get_classes-ConsensusPartitionList-method | 0.139 | 0.005 | 0.144 | |
| get_classes-dispatch | 0.000 | 0.001 | 0.001 | |
| get_consensus-ConsensusPartition-method | 0.165 | 0.035 | 0.200 | |
| get_matrix-ConsensusPartition-method | 0.167 | 0.039 | 0.205 | |
| get_matrix-ConsensusPartitionList-method | 0.188 | 0.044 | 0.232 | |
| get_matrix-dispatch | 0.000 | 0.000 | 0.001 | |
| get_membership-ConsensusPartition-method | 0.194 | 0.095 | 0.290 | |
| get_membership-ConsensusPartitionList-method | 0.159 | 0.006 | 0.166 | |
| get_membership-dispatch | 0 | 0 | 0 | |
| get_param-ConsensusPartition-method | 0.178 | 0.038 | 0.216 | |
| get_signatures-ConsensusPartition-method | 0 | 0 | 0 | |
| get_stats-ConsensusPartition-method | 0.158 | 0.004 | 0.163 | |
| get_stats-ConsensusPartitionList-method | 0.168 | 0.008 | 0.176 | |
| get_stats-dispatch | 0 | 0 | 0 | |
| is_best_k-ConsensusPartition-method | 0.000 | 0.001 | 0.001 | |
| is_best_k-ConsensusPartitionList-method | 0.000 | 0.000 | 0.001 | |
| is_best_k-dispatch | 0 | 0 | 0 | |
| is_stable_k-ConsensusPartition-method | 0.001 | 0.001 | 0.000 | |
| is_stable_k-ConsensusPartitionList-method | 0 | 0 | 0 | |
| is_stable_k-dispatch | 0 | 0 | 0 | |
| knitr_add_tab_item | 0 | 0 | 0 | |
| knitr_insert_tabs | 0.001 | 0.001 | 0.000 | |
| map_to_entrez_id | 0 | 0 | 0 | |
| membership_heatmap-ConsensusPartition-method | 0.727 | 0.011 | 0.739 | |
| ncol-ConsensusPartition-method | 0.000 | 0.000 | 0.001 | |
| ncol-ConsensusPartitionList-method | 0 | 0 | 0 | |
| ncol-dispatch | 0.000 | 0.000 | 0.001 | |
| nrow-ConsensusPartition-method | 0.001 | 0.000 | 0.000 | |
| nrow-ConsensusPartitionList-method | 0.000 | 0.000 | 0.001 | |
| nrow-dispatch | 0.000 | 0.001 | 0.001 | |
| plot_ecdf-ConsensusPartition-method | 0.162 | 0.006 | 0.171 | |
| recalc_stats | 0 | 0 | 0 | |
| register_NMF | 0.000 | 0.000 | 0.001 | |
| register_SOM | 0.000 | 0.000 | 0.001 | |
| register_partition_methods | 0.247 | 0.011 | 0.259 | |
| register_top_value_methods | 0.034 | 0.001 | 0.035 | |
| relabel_class | 0.016 | 0.003 | 0.018 | |
| remove_partition_methods | 0.000 | 0.001 | 0.001 | |
| remove_top_value_methods | 0 | 0 | 0 | |
| rownames-ConsensusPartition-method | 0 | 0 | 0 | |
| rownames-ConsensusPartitionList-method | 0.000 | 0.001 | 0.000 | |
| rownames-dispatch | 0.000 | 0.000 | 0.001 | |
| run_all_consensus_partition_methods | 0.163 | 0.003 | 0.167 | |
| select_partition_number-ConsensusPartition-method | 0.165 | 0.005 | 0.171 | |
| show-ConsensusPartition-method | 0.000 | 0.000 | 0.001 | |
| show-ConsensusPartitionList-method | 0.000 | 0.000 | 0.001 | |
| show-dispatch | 0.001 | 0.000 | 0.000 | |
| submit_to_david | 0 | 0 | 0 | |
| suggest_best_k-ConsensusPartition-method | 0.148 | 0.003 | 0.151 | |
| suggest_best_k-ConsensusPartitionList-method | 0.155 | 0.004 | 0.158 | |
| suggest_best_k-dispatch | 0.000 | 0.001 | 0.001 | |
| test_between_factors | 0.018 | 0.001 | 0.019 | |
| test_to_known_factors-ConsensusPartition-method | 0.179 | 0.003 | 0.182 | |
| test_to_known_factors-ConsensusPartitionList-method | 0.459 | 0.011 | 0.470 | |
| test_to_known_factors-dispatch | 0 | 0 | 0 | |
| top_elements_overlap | 0.092 | 0.009 | 0.100 | |
| top_rows_heatmap-ConsensusPartitionList-method | 0.000 | 0.001 | 0.000 | |
| top_rows_heatmap-dispatch | 0.001 | 0.001 | 0.000 | |
| top_rows_heatmap-matrix-method | 3.248 | 0.141 | 3.469 | |
| top_rows_overlap-ConsensusPartitionList-method | 0.355 | 0.009 | 0.366 | |
| top_rows_overlap-dispatch | 0 | 0 | 0 | |
| top_rows_overlap-matrix-method | 0.362 | 0.026 | 0.391 | |