| Back to Multiple platform build/check report for BioC 3.11 | 
 | 
This page was generated on 2020-10-17 11:56:21 -0400 (Sat, 17 Oct 2020).
| TO THE DEVELOPERS/MAINTAINERS OF THE coGPS PACKAGE: Please make sure to use the following settings in order to reproduce any error or warning you see on this page. | 
| Package 349/1905 | Hostname | OS / Arch | INSTALL | BUILD | CHECK | BUILD BIN | ||||||
| coGPS 1.32.0 Yingying Wei 
 | malbec2 | Linux (Ubuntu 18.04.4 LTS) / x86_64 | OK | OK | OK |  | ||||||
| tokay2 | Windows Server 2012 R2 Standard / x64 | OK | OK | OK | [ OK ] |  | ||||||
| machv2 | macOS 10.14.6 Mojave / x86_64 | OK | OK | OK | OK |  | 
| Package: coGPS | 
| Version: 1.32.0 | 
| Command: rm -rf coGPS.buildbin-libdir && mkdir coGPS.buildbin-libdir && C:\Users\biocbuild\bbs-3.11-bioc\R\bin\R.exe CMD INSTALL --merge-multiarch --build --library=coGPS.buildbin-libdir coGPS_1.32.0.tar.gz | 
| StartedAt: 2020-10-17 10:10:26 -0400 (Sat, 17 Oct 2020) | 
| EndedAt: 2020-10-17 10:11:33 -0400 (Sat, 17 Oct 2020) | 
| EllapsedTime: 67.1 seconds | 
| RetCode: 0 | 
| Status: OK | 
| PackageFile: coGPS_1.32.0.zip | 
| PackageFileSize: 1.723 MiB | 
##############################################################################
##############################################################################
###
### Running command:
###
###   rm -rf coGPS.buildbin-libdir && mkdir coGPS.buildbin-libdir && C:\Users\biocbuild\bbs-3.11-bioc\R\bin\R.exe CMD INSTALL --merge-multiarch --build --library=coGPS.buildbin-libdir coGPS_1.32.0.tar.gz
###
##############################################################################
##############################################################################
install for i386
* installing *source* package 'coGPS' ...
** using staged installation
** R
** data
** inst
** byte-compile and prepare package for lazy loading
** help
*** installing help indices
  converting help for package 'coGPS'
    finding HTML links ... done
    PCOPA                                   html  
    PatientSpecificGeneList                 html  
    PlotTopPCOPA                            html  
    SampleData                              html  
    coGPS-internal                          html  
    coGPS-package                           html  
    permCOPA                                html  
** building package indices
** installing vignettes
** testing if installed package can be loaded from temporary location
** testing if installed package can be loaded from final location
** testing if installed package keeps a record of temporary installation path
install for x64
* installing *source* package 'coGPS' ...
** testing if installed package can be loaded
* MD5 sums
packaged installation of 'coGPS' as coGPS_1.32.0.zip
* DONE (coGPS)