| Back to Multiple platform build/check report for BioC 3.11 | 
  | 
This page was generated on 2020-10-17 11:56:19 -0400 (Sat, 17 Oct 2020).
| TO THE DEVELOPERS/MAINTAINERS OF THE clustifyr PACKAGE: Please make sure to use the following settings in order to reproduce any error or warning you see on this page. | 
| Package 323/1905 | Hostname | OS / Arch | INSTALL | BUILD | CHECK | BUILD BIN | ||||||
| clustifyr 1.0.0 Rui Fu 
  | malbec2 | Linux (Ubuntu 18.04.4 LTS) / x86_64 | OK | OK | OK | |||||||
| tokay2 | Windows Server 2012 R2 Standard / x64 | OK | OK | OK | [ OK ] | |||||||
| machv2 | macOS 10.14.6 Mojave / x86_64 | OK | OK | OK | OK | 
| Package: clustifyr | 
| Version: 1.0.0 | 
| Command: rm -rf clustifyr.buildbin-libdir && mkdir clustifyr.buildbin-libdir && C:\Users\biocbuild\bbs-3.11-bioc\R\bin\R.exe CMD INSTALL --merge-multiarch --build --library=clustifyr.buildbin-libdir clustifyr_1.0.0.tar.gz | 
| StartedAt: 2020-10-17 10:08:34 -0400 (Sat, 17 Oct 2020) | 
| EndedAt: 2020-10-17 10:09:35 -0400 (Sat, 17 Oct 2020) | 
| EllapsedTime: 60.9 seconds | 
| RetCode: 0 | 
| Status: OK | 
| PackageFile: clustifyr_1.0.0.zip | 
| PackageFileSize: 3.433 MiB | 
##############################################################################
##############################################################################
###
### Running command:
###
###   rm -rf clustifyr.buildbin-libdir && mkdir clustifyr.buildbin-libdir && C:\Users\biocbuild\bbs-3.11-bioc\R\bin\R.exe CMD INSTALL --merge-multiarch --build --library=clustifyr.buildbin-libdir clustifyr_1.0.0.tar.gz
###
##############################################################################
##############################################################################
install for i386
* installing *source* package 'clustifyr' ...
** using staged installation
** R
** data
*** moving datasets to lazyload DB
** inst
** byte-compile and prepare package for lazy loading
** help
*** installing help indices
  converting help for package 'clustifyr'
    finding HTML links ... done
    assign_ident                            html  
    average_clusters                        html  
    binarize_expr                           html  
    calc_similarity                         html  
    calculate_pathway_gsea                  html  
    call_consensus                          html  
    call_to_metadata                        html  
    cbmc_m                                  html  
    cbmc_ref                                html  
    clustify                                html  
    clustify_lists                          html  
    clustify_nudge                          html  
    clustifyr-package                       html  
    clustifyr_methods                       html  
    collapse_to_cluster                     html  
    compare_lists                           html  
    cor_to_call                             html  
    cor_to_call_rank                        html  
    cor_to_call_topn                        html  
    cosine                                  html  
    downrefs                                html  
    downsample_matrix                       html  
    feature_select_PCA                      html  
    file_marker_parse                       html  
    find_rank_bias                          html  
    gene_pct                                html  
    gene_pct_markerm                        html  
    get_best_match_matrix                   html  
    get_best_str                            html  
    get_common_elements                     html  
    get_similarity                          html  
    get_unique_column                       html  
    get_vargenes                            html  
    gmt_to_list                             html  
    insert_meta_object                      html  
    kl_divergence                           html  
    marker_select                           html  
    matrixize_markers                       html  
    not_pretty_palette                      html  
    object_data                             html  
    object_loc_lookup                       html  
    object_ref                              html  
    overcluster                             html  
    overcluster_test                        html  
    parse_loc_object                        html  
    pbmc_markers                            html  
    pbmc_markers_M3Drop                     html  
    pbmc_matrix_small                       html  
    pbmc_meta                               html  
    pbmc_vargenes                           html  
    percent_clusters                        html  
    permute_similarity                      html  
    plot_best_call                          html  
    plot_call                               html  
    plot_cor                                html  
    plot_cor_heatmap                        html  
    plot_dims                               html  
    plot_gene                               html  
    plot_pathway_gsea                       html  
    pos_neg_marker                          html  
    pos_neg_select                          html  
    pretty_palette                          html  
    pretty_palette2                         html  
    pretty_palette_ramp_d                   html  
    ref_feature_select                      html  
    ref_marker_select                       html  
    reverse_marker_matrix                   html  
    run_gsea                                html  
    s_small                                 html  
    s_small3                                html  
    sce_small                               html  
    seurat_meta                             html  
    seurat_ref                              html  
    vector_similarity                       html  
    write_meta                              html  
*** copying figures
** building package indices
** installing vignettes
** testing if installed package can be loaded from temporary location
** testing if installed package can be loaded from final location
** testing if installed package keeps a record of temporary installation path
install for x64
* installing *source* package 'clustifyr' ...
** testing if installed package can be loaded
* MD5 sums
packaged installation of 'clustifyr' as clustifyr_1.0.0.zip
* DONE (clustifyr)