| Back to Multiple platform build/check report for BioC 3.11 |
|
This page was generated on 2020-10-17 11:56:15 -0400 (Sat, 17 Oct 2020).
| TO THE DEVELOPERS/MAINTAINERS OF THE chroGPS PACKAGE: Please make sure to use the following settings in order to reproduce any error or warning you see on this page. |
| Package 291/1905 | Hostname | OS / Arch | INSTALL | BUILD | CHECK | BUILD BIN | ||||||
Oscar Reina
| malbec2 | Linux (Ubuntu 18.04.4 LTS) / x86_64 | ERROR | ERROR | skipped | |||||||
| tokay2 | Windows Server 2012 R2 Standard / x64 | ERROR | [ ERROR ] | skipped | skipped | |||||||
| machv2 | macOS 10.14.6 Mojave / x86_64 | ERROR | ERROR | skipped | skipped |
| Package: chroGPS |
| Version: 2.6.0 |
| Command: chmod a+r chroGPS -R && C:\Users\biocbuild\bbs-3.11-bioc\R\bin\R.exe CMD build --keep-empty-dirs --no-resave-data chroGPS |
| StartedAt: 2020-10-16 20:41:31 -0400 (Fri, 16 Oct 2020) |
| EndedAt: 2020-10-16 20:41:34 -0400 (Fri, 16 Oct 2020) |
| EllapsedTime: 3.0 seconds |
| RetCode: 1 |
| Status: ERROR |
| PackageFile: chroGPS_2.6.0.tar.gz |
| PackageFileSize: 3.885 MiB |
##############################################################################
##############################################################################
###
### Running command:
###
### chmod a+r chroGPS -R && C:\Users\biocbuild\bbs-3.11-bioc\R\bin\R.exe CMD build --keep-empty-dirs --no-resave-data chroGPS
###
##############################################################################
##############################################################################
* checking for file 'chroGPS/DESCRIPTION' ... OK
* preparing 'chroGPS':
* checking DESCRIPTION meta-information ... OK
* installing the package to build vignettes
-----------------------------------
ERROR: dependency 'DPpackage' is not available for package 'chroGPS'
* removing 'C:/Users/biocbuild/bbs-3.11-bioc/tmpdir/RtmpAXdkwR/Rinst14747d015616/chroGPS'
-----------------------------------
ERROR: package installation failed