| Back to Multiple platform build/check report for BioC 3.11 |
|
This page was generated on 2020-10-17 11:56:13 -0400 (Sat, 17 Oct 2020).
| TO THE DEVELOPERS/MAINTAINERS OF THE ceRNAnetsim PACKAGE: Please make sure to use the following settings in order to reproduce any error or warning you see on this page. |
| Package 259/1905 | Hostname | OS / Arch | INSTALL | BUILD | CHECK | BUILD BIN | ||||||
| ceRNAnetsim 1.0.0 Selcen Ari Yuka
| malbec2 | Linux (Ubuntu 18.04.4 LTS) / x86_64 | OK | OK | OK | |||||||
| tokay2 | Windows Server 2012 R2 Standard / x64 | [ OK ] | OK | OK | OK | |||||||
| machv2 | macOS 10.14.6 Mojave / x86_64 | OK | OK | OK | OK |
| Package: ceRNAnetsim |
| Version: 1.0.0 |
| Command: C:\cygwin\bin\curl.exe -O https://malbec2.bioconductor.org/BBS/3.11/bioc/src/contrib/ceRNAnetsim_1.0.0.tar.gz && rm -rf ceRNAnetsim.buildbin-libdir && mkdir ceRNAnetsim.buildbin-libdir && C:\Users\biocbuild\bbs-3.11-bioc\R\bin\R.exe CMD INSTALL --merge-multiarch --build --library=ceRNAnetsim.buildbin-libdir ceRNAnetsim_1.0.0.tar.gz && C:\Users\biocbuild\bbs-3.11-bioc\R\bin\R.exe CMD INSTALL ceRNAnetsim_1.0.0.zip && rm ceRNAnetsim_1.0.0.tar.gz ceRNAnetsim_1.0.0.zip |
| StartedAt: 2020-10-16 17:46:05 -0400 (Fri, 16 Oct 2020) |
| EndedAt: 2020-10-16 17:47:58 -0400 (Fri, 16 Oct 2020) |
| EllapsedTime: 113.1 seconds |
| RetCode: 0 |
| Status: OK |
##############################################################################
##############################################################################
###
### Running command:
###
### C:\cygwin\bin\curl.exe -O https://malbec2.bioconductor.org/BBS/3.11/bioc/src/contrib/ceRNAnetsim_1.0.0.tar.gz && rm -rf ceRNAnetsim.buildbin-libdir && mkdir ceRNAnetsim.buildbin-libdir && C:\Users\biocbuild\bbs-3.11-bioc\R\bin\R.exe CMD INSTALL --merge-multiarch --build --library=ceRNAnetsim.buildbin-libdir ceRNAnetsim_1.0.0.tar.gz && C:\Users\biocbuild\bbs-3.11-bioc\R\bin\R.exe CMD INSTALL ceRNAnetsim_1.0.0.zip && rm ceRNAnetsim_1.0.0.tar.gz ceRNAnetsim_1.0.0.zip
###
##############################################################################
##############################################################################
% Total % Received % Xferd Average Speed Time Time Time Current
Dload Upload Total Spent Left Speed
0 0 0 0 0 0 0 0 --:--:-- --:--:-- --:--:-- 0
100 2226k 100 2226k 0 0 12.1M 0 --:--:-- --:--:-- --:--:-- 12.5M
install for i386
* installing *source* package 'ceRNAnetsim' ...
** using staged installation
** R
** data
** byte-compile and prepare package for lazy loading
** help
*** installing help indices
converting help for package 'ceRNAnetsim'
finding HTML links ... done
TCGA_E9_A1N5_mirnanormal html
TCGA_E9_A1N5_mirnatumor html
TCGA_E9_A1N5_normal html
TCGA_E9_A1N5_tumor html
calc_perturbation html
find_iteration html
find_node_perturbation html
gene_knockdown html
huge_example html
midsamp html
midsamp_new_counts html
minsamp html
mirtarbasegene html
new_counts html
normalize html
prepare_rhs html
prepare_rhs_once html
priming_graph html
simulate html
simulate_vis html
update_how html
update_nodes html
update_variables html
vis_graph html
** building package indices
** installing vignettes
** testing if installed package can be loaded from temporary location
** testing if installed package can be loaded from final location
** testing if installed package keeps a record of temporary installation path
install for x64
* installing *source* package 'ceRNAnetsim' ...
** testing if installed package can be loaded
* MD5 sums
packaged installation of 'ceRNAnetsim' as ceRNAnetsim_1.0.0.zip
* DONE (ceRNAnetsim)
* installing to library 'C:/Users/biocbuild/bbs-3.11-bioc/R/library'
package 'ceRNAnetsim' successfully unpacked and MD5 sums checked