| Back to Multiple platform build/check report for BioC 3.11 | 
  | 
This page was generated on 2020-10-17 11:56:11 -0400 (Sat, 17 Oct 2020).
| TO THE DEVELOPERS/MAINTAINERS OF THE branchpointer PACKAGE: Please make sure to use the following settings in order to reproduce any error or warning you see on this page. | 
| Package 200/1905 | Hostname | OS / Arch | INSTALL | BUILD | CHECK | BUILD BIN | ||||||
| branchpointer 1.14.0 Beth Signal 
  | malbec2 | Linux (Ubuntu 18.04.4 LTS) / x86_64 | OK | OK | OK | |||||||
| tokay2 | Windows Server 2012 R2 Standard / x64 | [ OK ] | OK | OK | OK | |||||||
| machv2 | macOS 10.14.6 Mojave / x86_64 | OK | OK | OK | OK | 
| Package: branchpointer | 
| Version: 1.14.0 | 
| Command: C:\cygwin\bin\curl.exe -O https://malbec2.bioconductor.org/BBS/3.11/bioc/src/contrib/branchpointer_1.14.0.tar.gz && rm -rf branchpointer.buildbin-libdir && mkdir branchpointer.buildbin-libdir && C:\Users\biocbuild\bbs-3.11-bioc\R\bin\R.exe CMD INSTALL --merge-multiarch --build --library=branchpointer.buildbin-libdir branchpointer_1.14.0.tar.gz && C:\Users\biocbuild\bbs-3.11-bioc\R\bin\R.exe CMD INSTALL branchpointer_1.14.0.zip && rm branchpointer_1.14.0.tar.gz branchpointer_1.14.0.zip | 
| StartedAt: 2020-10-16 18:45:53 -0400 (Fri, 16 Oct 2020) | 
| EndedAt: 2020-10-16 18:49:09 -0400 (Fri, 16 Oct 2020) | 
| EllapsedTime: 196.8 seconds | 
| RetCode: 0 | 
| Status: OK | 
##############################################################################
##############################################################################
###
### Running command:
###
###   C:\cygwin\bin\curl.exe -O https://malbec2.bioconductor.org/BBS/3.11/bioc/src/contrib/branchpointer_1.14.0.tar.gz && rm -rf branchpointer.buildbin-libdir && mkdir branchpointer.buildbin-libdir && C:\Users\biocbuild\bbs-3.11-bioc\R\bin\R.exe CMD INSTALL --merge-multiarch --build --library=branchpointer.buildbin-libdir branchpointer_1.14.0.tar.gz && C:\Users\biocbuild\bbs-3.11-bioc\R\bin\R.exe CMD INSTALL branchpointer_1.14.0.zip && rm branchpointer_1.14.0.tar.gz branchpointer_1.14.0.zip
###
##############################################################################
##############################################################################
  % Total    % Received % Xferd  Average Speed   Time    Time     Time  Current
                                 Dload  Upload   Total   Spent    Left  Speed
  0     0    0     0    0     0      0      0 --:--:-- --:--:-- --:--:--     0
  0     0    0     0    0     0      0      0 --:--:-- --:--:-- --:--:--     0
100 4715k  100 4715k    0     0  38.1M      0 --:--:-- --:--:-- --:--:-- 40.0M
install for i386
* installing *source* package 'branchpointer' ...
** using staged installation
** R
** inst
** byte-compile and prepare package for lazy loading
** help
*** installing help indices
  converting help for package 'branchpointer'
    finding HTML links ... done
    exonsToIntrons                          html  
    getBranchpointSequence                  html  
    getCanonical3SS                         html  
    getExonDists                            html  
    getPPT                                  html  
    getQueryLoc                             html  
    gtfToExons                              html  
    makeBranchpointWindowForExons           html  
    makeBranchpointWindowForSNP             html  
    plotBranchpointWindow                   html  
    plotStructure                           html  
    predictBranchpoints                     html  
    predictionsToSummary                    html  
    readQueryFile                           html  
** building package indices
** installing vignettes
** testing if installed package can be loaded from temporary location
** testing if installed package can be loaded from final location
** testing if installed package keeps a record of temporary installation path
install for x64
* installing *source* package 'branchpointer' ...
** testing if installed package can be loaded
* MD5 sums
packaged installation of 'branchpointer' as branchpointer_1.14.0.zip
* DONE (branchpointer)
* installing to library 'C:/Users/biocbuild/bbs-3.11-bioc/R/library'
package 'branchpointer' successfully unpacked and MD5 sums checked