| Back to Multiple platform build/check report for BioC 3.11 |
|
This page was generated on 2020-10-17 11:56:10 -0400 (Sat, 17 Oct 2020).
| TO THE DEVELOPERS/MAINTAINERS OF THE blacksheepr PACKAGE: Please make sure to use the following settings in order to reproduce any error or warning you see on this page. |
| Package 192/1905 | Hostname | OS / Arch | INSTALL | BUILD | CHECK | BUILD BIN | ||||||
| blacksheepr 1.2.0 RugglesLab
| malbec2 | Linux (Ubuntu 18.04.4 LTS) / x86_64 | OK | OK | OK | |||||||
| tokay2 | Windows Server 2012 R2 Standard / x64 | [ OK ] | OK | OK | OK | |||||||
| machv2 | macOS 10.14.6 Mojave / x86_64 | OK | OK | OK | OK |
| Package: blacksheepr |
| Version: 1.2.0 |
| Command: C:\cygwin\bin\curl.exe -O https://malbec2.bioconductor.org/BBS/3.11/bioc/src/contrib/blacksheepr_1.2.0.tar.gz && rm -rf blacksheepr.buildbin-libdir && mkdir blacksheepr.buildbin-libdir && C:\Users\biocbuild\bbs-3.11-bioc\R\bin\R.exe CMD INSTALL --merge-multiarch --build --library=blacksheepr.buildbin-libdir blacksheepr_1.2.0.tar.gz && C:\Users\biocbuild\bbs-3.11-bioc\R\bin\R.exe CMD INSTALL blacksheepr_1.2.0.zip && rm blacksheepr_1.2.0.tar.gz blacksheepr_1.2.0.zip |
| StartedAt: 2020-10-16 17:56:13 -0400 (Fri, 16 Oct 2020) |
| EndedAt: 2020-10-16 17:57:15 -0400 (Fri, 16 Oct 2020) |
| EllapsedTime: 62.1 seconds |
| RetCode: 0 |
| Status: OK |
##############################################################################
##############################################################################
###
### Running command:
###
### C:\cygwin\bin\curl.exe -O https://malbec2.bioconductor.org/BBS/3.11/bioc/src/contrib/blacksheepr_1.2.0.tar.gz && rm -rf blacksheepr.buildbin-libdir && mkdir blacksheepr.buildbin-libdir && C:\Users\biocbuild\bbs-3.11-bioc\R\bin\R.exe CMD INSTALL --merge-multiarch --build --library=blacksheepr.buildbin-libdir blacksheepr_1.2.0.tar.gz && C:\Users\biocbuild\bbs-3.11-bioc\R\bin\R.exe CMD INSTALL blacksheepr_1.2.0.zip && rm blacksheepr_1.2.0.tar.gz blacksheepr_1.2.0.zip
###
##############################################################################
##############################################################################
% Total % Received % Xferd Average Speed Time Time Time Current
Dload Upload Total Spent Left Speed
0 0 0 0 0 0 0 0 --:--:-- --:--:-- --:--:-- 0
100 3771k 100 3771k 0 0 29.0M 0 --:--:-- --:--:-- --:--:-- 30.6M
install for i386
* installing *source* package 'blacksheepr' ...
** using staged installation
** R
** data
** byte-compile and prepare package for lazy loading
** help
*** installing help indices
converting help for package 'blacksheepr'
finding HTML links ... done
annotationlist_builder html
comparison_groupings html
count_outliers html
create_heatmap html
deva html
deva_normalization html
deva_results html
make_comparison_columns html
make_outlier_table html
outlier_analysis html
outlier_heatmap html
sample_annotationdata html
sample_phosphodata html
sample_rnadata html
** building package indices
** installing vignettes
** testing if installed package can be loaded from temporary location
** testing if installed package can be loaded from final location
** testing if installed package keeps a record of temporary installation path
install for x64
* installing *source* package 'blacksheepr' ...
** testing if installed package can be loaded
* MD5 sums
packaged installation of 'blacksheepr' as blacksheepr_1.2.0.zip
* DONE (blacksheepr)
* installing to library 'C:/Users/biocbuild/bbs-3.11-bioc/R/library'
package 'blacksheepr' successfully unpacked and MD5 sums checked