| Back to Multiple platform build/check report for BioC 3.11 |
|
This page was generated on 2020-10-17 11:56:10 -0400 (Sat, 17 Oct 2020).
| TO THE DEVELOPERS/MAINTAINERS OF THE biscuiteer PACKAGE: Please make sure to use the following settings in order to reproduce any error or warning you see on this page. |
| Package 189/1905 | Hostname | OS / Arch | INSTALL | BUILD | CHECK | BUILD BIN | ||||||
| biscuiteer 1.2.0 "Jacob Morrison"
| malbec2 | Linux (Ubuntu 18.04.4 LTS) / x86_64 | OK | OK | WARNINGS | |||||||
| tokay2 | Windows Server 2012 R2 Standard / x64 | OK | OK | WARNINGS | [ OK ] | |||||||
| machv2 | macOS 10.14.6 Mojave / x86_64 | OK | OK | WARNINGS | OK |
| Package: biscuiteer |
| Version: 1.2.0 |
| Command: rm -rf biscuiteer.buildbin-libdir && mkdir biscuiteer.buildbin-libdir && C:\Users\biocbuild\bbs-3.11-bioc\R\bin\R.exe CMD INSTALL --merge-multiarch --build --library=biscuiteer.buildbin-libdir biscuiteer_1.2.0.tar.gz |
| StartedAt: 2020-10-17 09:58:11 -0400 (Sat, 17 Oct 2020) |
| EndedAt: 2020-10-17 10:00:49 -0400 (Sat, 17 Oct 2020) |
| EllapsedTime: 157.0 seconds |
| RetCode: 0 |
| Status: OK |
| PackageFile: biscuiteer_1.2.0.zip |
| PackageFileSize: 5.191 MiB |
##############################################################################
##############################################################################
###
### Running command:
###
### rm -rf biscuiteer.buildbin-libdir && mkdir biscuiteer.buildbin-libdir && C:\Users\biocbuild\bbs-3.11-bioc\R\bin\R.exe CMD INSTALL --merge-multiarch --build --library=biscuiteer.buildbin-libdir biscuiteer_1.2.0.tar.gz
###
##############################################################################
##############################################################################
install for i386
* installing *source* package 'biscuiteer' ...
** using staged installation
** R
** data
** inst
** byte-compile and prepare package for lazy loading
Warning: replacing previous import 'BiocParallel::bpstart' by 'QDNAseq::bpstart' when loading 'biscuiteer'
** help
*** installing help indices
converting help for package 'biscuiteer'
finding HTML links ... done
CpGindex html
ENSR_subset.hg19 html
ENSR_subset.hg38 html
GRCh37.chromArm html
GRCh38.chromArm html
H9state23unmeth.hg19 html
H9state23unmeth.hg38 html
HMM_CpG_islands.hg19 html
HMM_CpG_islands.hg38 html
RRBSeq html
WGBSage html
WGBSeq html
atRegions html
binCoverage html
biscuitMetadata html
biscuiteer-methods html
biscuiteer-package html
byChromArm html
byExtremality html
checkBiscuitBED html
clocks html
condenseSampleNames html
extremality html
fexpit html
filterLoci html
fixAge html
fixNAs html
flogit html
getClock html
getLogitFracMeth html
grToSeg html
hg19.chromArm html
hg38.chromArm html
makeBSseq html
readBiscuit html
segToGr html
seqinfo.hg19 html
seqinfo.hg38 html
seqinfo.mm10 html
simplifySampleNames html
summarizeBsSeqOver html
unionize html
** building package indices
** installing vignettes
** testing if installed package can be loaded from temporary location
Warning: replacing previous import 'BiocParallel::bpstart' by 'QDNAseq::bpstart' when loading 'biscuiteer'
** testing if installed package can be loaded from final location
Warning: replacing previous import 'BiocParallel::bpstart' by 'QDNAseq::bpstart' when loading 'biscuiteer'
** testing if installed package keeps a record of temporary installation path
install for x64
* installing *source* package 'biscuiteer' ...
** testing if installed package can be loaded
Warning: replacing previous import 'BiocParallel::bpstart' by 'QDNAseq::bpstart' when loading 'biscuiteer'
* MD5 sums
packaged installation of 'biscuiteer' as biscuiteer_1.2.0.zip
* DONE (biscuiteer)