| Back to Multiple platform build/check report for BioC 3.11 | 
 | 
This page was generated on 2020-10-17 11:58:06 -0400 (Sat, 17 Oct 2020).
| TO THE DEVELOPERS/MAINTAINERS OF THE bigPint PACKAGE: Please make sure to use the following settings in order to reproduce any error or warning you see on this page. | 
| Package 147/1905 | Hostname | OS / Arch | INSTALL | BUILD | CHECK | BUILD BIN | ||||||
| bigPint 1.4.0 Lindsay Rutter 
 | malbec2 | Linux (Ubuntu 18.04.4 LTS) / x86_64 | OK | OK | OK |  | ||||||
| tokay2 | Windows Server 2012 R2 Standard / x64 | OK | OK | OK | OK |  | ||||||
| machv2 | macOS 10.14.6 Mojave / x86_64 | OK | [ OK ] | OK | OK |  | 
| Package: bigPint | 
| Version: 1.4.0 | 
| Command: /Library/Frameworks/R.framework/Versions/Current/Resources/bin/R CMD build --keep-empty-dirs --no-resave-data bigPint | 
| StartedAt: 2020-10-16 17:55:03 -0400 (Fri, 16 Oct 2020) | 
| EndedAt: 2020-10-16 17:56:11 -0400 (Fri, 16 Oct 2020) | 
| EllapsedTime: 68.7 seconds | 
| RetCode: 0 | 
| Status: OK | 
| PackageFile: bigPint_1.4.0.tar.gz | 
| PackageFileSize: 5.971 MiB | 
############################################################################## ############################################################################## ### ### Running command: ### ### /Library/Frameworks/R.framework/Versions/Current/Resources/bin/R CMD build --keep-empty-dirs --no-resave-data bigPint ### ############################################################################## ############################################################################## * checking for file ‘bigPint/DESCRIPTION’ ... OK * preparing ‘bigPint’: * checking DESCRIPTION meta-information ... OK * installing the package to build vignettes * creating vignettes ... OK * checking for LF line-endings in source and make files and shell scripts * checking for empty or unneeded directories * building ‘bigPint_1.4.0.tar.gz’