Back to Multiple platform build/check report for BioC 3.11 |
|
This page was generated on 2020-01-16 13:48:28 -0500 (Thu, 16 Jan 2020).
Package 126/1818 | Hostname | OS / Arch | INSTALL | BUILD | CHECK | BUILD BIN | ||||||
beachmat 2.3.1 Aaron Lun
| malbec2 | Linux (Ubuntu 18.04.3 LTS) / x86_64 | OK | OK | OK | |||||||
tokay2 | Windows Server 2012 R2 Standard / x64 | OK | OK | OK | OK | |||||||
celaya2 | OS X 10.11.6 El Capitan / x86_64 | OK | OK | OK | [ OK ] |
Package: beachmat |
Version: 2.3.1 |
Command: rm -rf beachmat.buildbin-libdir && mkdir beachmat.buildbin-libdir && /Users/biocbuild/BBS/utils/build-universal.sh beachmat_2.3.1.tar.gz /Library/Frameworks/R.framework/Versions/Current/Resources/bin/R beachmat.buildbin-libdir |
StartedAt: 2020-01-16 10:29:27 -0500 (Thu, 16 Jan 2020) |
EndedAt: 2020-01-16 10:29:46 -0500 (Thu, 16 Jan 2020) |
EllapsedTime: 19.0 seconds |
RetCode: 0 |
Status: OK |
PackageFile: beachmat_2.3.1.tgz |
PackageFileSize: 1.13 MiB |
############################################################################## ############################################################################## ### ### Running command: ### ### rm -rf beachmat.buildbin-libdir && mkdir beachmat.buildbin-libdir && /Users/biocbuild/BBS/utils/build-universal.sh beachmat_2.3.1.tar.gz /Library/Frameworks/R.framework/Versions/Current/Resources/bin/R beachmat.buildbin-libdir ### ############################################################################## ############################################################################## >>>>>>> >>>>>>> INSTALLATION WITH 'R CMD INSTALL --preclean --no-multiarch --library=beachmat.buildbin-libdir beachmat_2.3.1.tar.gz' >>>>>>> * installing *source* package ‘beachmat’ ... ** using staged installation ** R ** inst ** byte-compile and prepare package for lazy loading ** help No man pages found in package ‘beachmat’ *** installing help indices ** building package indices ** installing vignettes ** testing if installed package can be loaded from temporary location ** testing if installed package can be loaded from final location ** testing if installed package keeps a record of temporary installation path * DONE (beachmat)