| Back to Multiple platform build/check report for BioC 3.11 | 
  | 
This page was generated on 2020-10-17 11:56:07 -0400 (Sat, 17 Oct 2020).
| TO THE DEVELOPERS/MAINTAINERS OF THE basilisk PACKAGE: Please make sure to use the following settings in order to reproduce any error or warning you see on this page. | 
| Package 117/1905 | Hostname | OS / Arch | INSTALL | BUILD | CHECK | BUILD BIN | ||||||
| basilisk 1.0.2 Aaron Lun 
  | malbec2 | Linux (Ubuntu 18.04.4 LTS) / x86_64 | OK | OK | OK | |||||||
| tokay2 | Windows Server 2012 R2 Standard / x64 | [ OK ] | OK | OK | OK | |||||||
| machv2 | macOS 10.14.6 Mojave / x86_64 | OK | OK | OK | OK | 
| Package: basilisk | 
| Version: 1.0.2 | 
| Command: C:\Users\biocbuild\bbs-3.11-bioc\R\bin\R.exe --arch x64 CMD INSTALL --no-multiarch basilisk | 
| StartedAt: 2020-10-16 17:05:21 -0400 (Fri, 16 Oct 2020) | 
| EndedAt: 2020-10-16 17:05:51 -0400 (Fri, 16 Oct 2020) | 
| EllapsedTime: 29.5 seconds | 
| RetCode: 0 | 
| Status: OK | 
##############################################################################
##############################################################################
###
### Running command:
###
###   C:\Users\biocbuild\bbs-3.11-bioc\R\bin\R.exe --arch x64 CMD INSTALL --no-multiarch basilisk
###
##############################################################################
##############################################################################
* installing to library 'C:/Users/biocbuild/bbs-3.11-bioc/R/library'
* installing *source* package 'basilisk' ...
** using non-staged installation via StagedInstall field
** R
** inst
** byte-compile and prepare package for lazy loading
** help
*** installing help indices
  converting help for package 'basilisk'
    finding HTML links ... done
    BasiliskEnvironment-class               html  
    PyPiLink                                html  
    basiliskOptions                         html  
    basiliskStart                           html  
    configureBasiliskEnv                    html  
    findPersistentEnv                       html  
    listCorePackages                        html  
    setupBasiliskEnv                        html  
    useBasiliskEnv                          html  
    finding level-2 HTML links ... done
** building package indices
** installing vignettes
** testing if installed package can be loaded
* DONE (basilisk)
Making 'packages.html' ... done